BEGIN:VCALENDAR
VERSION:2.0
PRODID:-//LiveMusicAsheville.com - ECPv6.15.20//NONSGML v1.0//EN
CALSCALE:GREGORIAN
METHOD:PUBLISH
X-ORIGINAL-URL:https://livemusicasheville.com
X-WR-CALDESC:Events for LiveMusicAsheville.com
REFRESH-INTERVAL;VALUE=DURATION:PT1H
X-Robots-Tag:noindex
X-PUBLISHED-TTL:PT1H
BEGIN:VTIMEZONE
TZID:America/New_York
BEGIN:DAYLIGHT
TZOFFSETFROM:-0500
TZOFFSETTO:-0400
TZNAME:EDT
DTSTART:20260308T070000
END:DAYLIGHT
BEGIN:STANDARD
TZOFFSETFROM:-0400
TZOFFSETTO:-0500
TZNAME:EST
DTSTART:20261101T060000
END:STANDARD
BEGIN:DAYLIGHT
TZOFFSETFROM:-0500
TZOFFSETTO:-0400
TZNAME:EDT
DTSTART:20270314T070000
END:DAYLIGHT
BEGIN:STANDARD
TZOFFSETFROM:-0400
TZOFFSETTO:-0500
TZNAME:EST
DTSTART:20271107T060000
END:STANDARD
BEGIN:DAYLIGHT
TZOFFSETFROM:-0500
TZOFFSETTO:-0400
TZNAME:EDT
DTSTART:20280312T070000
END:DAYLIGHT
BEGIN:STANDARD
TZOFFSETFROM:-0400
TZOFFSETTO:-0500
TZNAME:EST
DTSTART:20281105T060000
END:STANDARD
END:VTIMEZONE
BEGIN:VEVENT
DTSTART;TZID=America/New_York:20270205T173000
DTEND;TZID=America/New_York:20270205T213000
DTSTAMP:20260421T082111
CREATED:20260221T134837Z
LAST-MODIFIED:20260320T181747Z
UID:10050609-1801848600-1801863000@livemusicasheville.com
SUMMARY:The Friday Drum Circle
DESCRIPTION:Weather dependent
URL:https://livemusicasheville.com/calendar/the-friday-drum-circle-3/2027-02-05/
LOCATION:Pritchard Park Downtown\, 67 Patton Avenue\, Asheville\, NC\, 28801
CATEGORIES:Asheville Area,Live Music,Open MIc/Jam
GEO:35.5947402;-82.5543431
X-APPLE-STRUCTURED-LOCATION;VALUE=URI;X-ADDRESS=Pritchard Park Downtown 67 Patton Avenue Asheville NC 28801;X-APPLE-RADIUS=500;X-TITLE=67 Patton Avenue:geo:-82.5543431,35.5947402
END:VEVENT
BEGIN:VEVENT
DTSTART;TZID=America/New_York:20270205T180000
DTEND;TZID=America/New_York:20270205T200000
DTSTAMP:20260421T082111
CREATED:20250630T211313Z
LAST-MODIFIED:20260421T002632Z
UID:10057906-1801850400-1801857600@livemusicasheville.com
SUMMARY:The Wedgulars | Fridays In The RAD Music Series
DESCRIPTION:The Wedgulars featuring Hank Bones\, Cary Fridley\, Jeff Hersk and Dave Perkins kick off our Friday Music Series at 6pm this Friday. Join us for great sounds\, cold beer and delicious tacos from our new food truck.\n\n\nFree for everyone and everyone welcome!!\n\n\nRecords in the RAD in the River Arts District is a thoughtfully curated record store with an eclectic selection of vinyl\, both new and used. In addition to records\, we also have a music inspired art gallery\, which features artwork from Brian\, Dylan and Susan Haynes. recordsintherad.com \nAt Wedge Brewing\, we got our start in the River Arts District\, and therefore hold art and community very close to us. We create beer for the creatives and give them a place to commune. wedgebrewing.com
URL:https://livemusicasheville.com/calendar/fridays-in-the-rad-music-series-2-2/2027-02-05/
LOCATION:Records in the RAD/The Wedge
CATEGORIES:Asheville Area,Live Music
ATTACH;FMTTYPE=image/jpeg:https://livemusicasheville.com/wp-content/uploads/2025/06/483859064_639983772123902_5187475918688955438_n-e1776710785302.jpg
END:VEVENT
BEGIN:VEVENT
DTSTART;TZID=America/New_York:20270205T190000
DTEND;TZID=America/New_York:20270205T210000
DTSTAMP:20260421T082111
CREATED:20251029T132808Z
LAST-MODIFIED:20260415T133603Z
UID:10056895-1801854000-1801861200@livemusicasheville.com
SUMMARY:Grass Is Back!
DESCRIPTION:No Cover – Donations accepted!\n\n\n\n\nApril 17 – Lynn Goldsmith & The Jeter Mountain Band\nApril 24 – New Carolina Connection Band\nMay 1 – Harlan County Grass\nMay 8 – Mulley Holler Band\nMay 15- Travis Watts & Mountain Blessings\nMay 22 – Hit or Miss Bluegrass & Country Band
URL:https://livemusicasheville.com/calendar/grass-is-back-3/2027-02-05/
LOCATION:Feed and Seed Fletcher
CATEGORIES:Asheville Area,Live Music,South Asheville/Arden/Fletcher
END:VEVENT
BEGIN:VEVENT
DTSTART;TZID=America/New_York:20270205T190000
DTEND;TZID=America/New_York:20270205T220000
DTSTAMP:20260421T082111
CREATED:20251113T101742Z
LAST-MODIFIED:20260327T002508Z
UID:10053031-1801854000-1801864800@livemusicasheville.com
SUMMARY:Blues with Mr Jimmy
DESCRIPTION:
URL:https://livemusicasheville.com/calendar/blues-with-mr-jimmy-2-2-2/2027-02-05/
LOCATION:The Station Black Mountain
CATEGORIES:Asheville Area,Black Mountain,Live Music
END:VEVENT
BEGIN:VEVENT
DTSTART;TZID=America/New_York:20270205T200000
DTEND;TZID=America/New_York:20270205T220000
DTSTAMP:20260421T082111
CREATED:20241226T143754Z
LAST-MODIFIED:20260331T121545Z
UID:10053920-1801857600-1801864800@livemusicasheville.com
SUMMARY:Jump Blues w/ Virginia and The Slims
DESCRIPTION:
URL:https://livemusicasheville.com/calendar/virginia-and-the-slims/2027-02-05/
LOCATION:5 Walnut Wine Bar
CATEGORIES:Asheville Area,Live Music
GEO:35.596654;-82.5525389
END:VEVENT
BEGIN:VEVENT
DTSTART;TZID=America/New_York:20270205T200000
DTEND;TZID=America/New_York:20270205T230000
DTSTAMP:20260421T082111
CREATED:20250210T151141Z
LAST-MODIFIED:20260206T025948Z
UID:10043535-1801857600-1801868400@livemusicasheville.com
SUMMARY:Lazybirds
DESCRIPTION:Lazybirds is a classic American roots band from the mountains of North Carolina. Specializing in good time music that is just about impossible not to move to\, there is also a depth to the band that faithful fans have treasured over the years. According to the legendary Doc Watson\, “Lazybirds play a good variety of blues\, jazz\, and that good old ragtime sound\, and you will hear the flavor of that in anything they play.” The ‘Birds cover a lot of musical ground\, from early American stringband music to Dylan classics\, as well as classic sounding originals\, but deep roots are what hold all of these sounds together. \nShiloh & Gaines – Your neighborhood bar……no matter where you live. \nCoffee ~ Spirits ~ Pool ~ Darts ~ Live Music ~ Dog Friendly ~ Karaoke & More! Find our music schedule and more at shilohandgaines.com
URL:https://livemusicasheville.com/calendar/dirty-dead/2027-02-05/
LOCATION:Shiloh & Gaines\, 700 Hendersonville Rd\, Asheville\, NC 28803\, NC\, 28803\, United States
CATEGORIES:Asheville Area,Live Music
ATTACH;FMTTYPE=image/jpeg:https://livemusicasheville.com/wp-content/uploads/2025/02/625670389_18336632440244125_2500204232696869257_n-e1770346779830.jpg
GEO:35.5471263;-82.533941
X-APPLE-STRUCTURED-LOCATION;VALUE=URI;X-ADDRESS=Shiloh & Gaines 700 Hendersonville Rd Asheville NC 28803 NC 28803 United States;X-APPLE-RADIUS=500;X-TITLE=700 Hendersonville Rd:geo:-82.533941,35.5471263
END:VEVENT
BEGIN:VEVENT
DTSTART;TZID=America/New_York:20270205T200000
DTEND;TZID=America/New_York:20270205T230000
DTSTAMP:20260421T082111
CREATED:20250711T192233Z
LAST-MODIFIED:20260116T152048Z
UID:10037975-1801857600-1801868400@livemusicasheville.com
SUMMARY:Commodore Fox Band
DESCRIPTION:
URL:https://livemusicasheville.com/calendar/commodore-fox-band-2/2027-02-05/
LOCATION:Wild Wing Cafe South
CATEGORIES:Live Music,South Asheville/Arden/Fletcher
END:VEVENT
END:VCALENDAR