BEGIN:VCALENDAR
VERSION:2.0
PRODID:-//LiveMusicAsheville.com - ECPv6.15.20//NONSGML v1.0//EN
CALSCALE:GREGORIAN
METHOD:PUBLISH
X-WR-CALNAME:LiveMusicAsheville.com
X-ORIGINAL-URL:https://livemusicasheville.com
X-WR-CALDESC:Events for LiveMusicAsheville.com
REFRESH-INTERVAL;VALUE=DURATION:PT1H
X-Robots-Tag:noindex
X-PUBLISHED-TTL:PT1H
BEGIN:VTIMEZONE
TZID:America/New_York
BEGIN:DAYLIGHT
TZOFFSETFROM:-0500
TZOFFSETTO:-0400
TZNAME:EDT
DTSTART:20250309T070000
END:DAYLIGHT
BEGIN:STANDARD
TZOFFSETFROM:-0400
TZOFFSETTO:-0500
TZNAME:EST
DTSTART:20251102T060000
END:STANDARD
BEGIN:DAYLIGHT
TZOFFSETFROM:-0500
TZOFFSETTO:-0400
TZNAME:EDT
DTSTART:20260308T070000
END:DAYLIGHT
BEGIN:STANDARD
TZOFFSETFROM:-0400
TZOFFSETTO:-0500
TZNAME:EST
DTSTART:20261101T060000
END:STANDARD
BEGIN:DAYLIGHT
TZOFFSETFROM:-0500
TZOFFSETTO:-0400
TZNAME:EDT
DTSTART:20270314T070000
END:DAYLIGHT
BEGIN:STANDARD
TZOFFSETFROM:-0400
TZOFFSETTO:-0500
TZNAME:EST
DTSTART:20271107T060000
END:STANDARD
END:VTIMEZONE
BEGIN:VEVENT
DTSTART;TZID=America/New_York:20261211T173000
DTEND;TZID=America/New_York:20261211T193000
DTSTAMP:20260419T162257
CREATED:20260109T141021Z
LAST-MODIFIED:20260109T141022Z
UID:10028134-1797010200-1797017400@livemusicasheville.com
SUMMARY:Hank and Vollie
DESCRIPTION:
URL:https://livemusicasheville.com/calendar/hank-and-vollie-2/2026-12-11/
LOCATION:Battery Park Book Exchange & Champagne Bar
CATEGORIES:Asheville Area,Live Music
GEO:35.5951042;-82.556633
END:VEVENT
BEGIN:VEVENT
DTSTART;TZID=America/New_York:20261211T173000
DTEND;TZID=America/New_York:20261211T203000
DTSTAMP:20260419T162257
CREATED:20260309T151501Z
LAST-MODIFIED:20260309T151502Z
UID:10036394-1797010200-1797021000@livemusicasheville.com
SUMMARY:The Grateful Family Band!
DESCRIPTION:
URL:https://livemusicasheville.com/calendar/the-grateful-family-band-3-2-2/2026-12-11/
LOCATION:The Social East Asheville
CATEGORIES:Asheville Area,Live Music
GEO:35.5878491;-82.4909537
END:VEVENT
BEGIN:VEVENT
DTSTART;TZID=America/New_York:20261211T173000
DTEND;TZID=America/New_York:20261211T213000
DTSTAMP:20260419T162257
CREATED:20260221T134837Z
LAST-MODIFIED:20260320T181747Z
UID:10050601-1797010200-1797024600@livemusicasheville.com
SUMMARY:The Friday Drum Circle
DESCRIPTION:Weather dependent
URL:https://livemusicasheville.com/calendar/the-friday-drum-circle-3/2026-12-11/
LOCATION:Pritchard Park Downtown\, 67 Patton Avenue\, Asheville\, NC\, 28801
CATEGORIES:Asheville Area,Live Music,Open MIc/Jam
GEO:35.5947402;-82.5543431
X-APPLE-STRUCTURED-LOCATION;VALUE=URI;X-ADDRESS=Pritchard Park Downtown 67 Patton Avenue Asheville NC 28801;X-APPLE-RADIUS=500;X-TITLE=67 Patton Avenue:geo:-82.5543431,35.5947402
END:VEVENT
BEGIN:VEVENT
DTSTART;TZID=America/New_York:20261211T190000
DTEND;TZID=America/New_York:20261211T210000
DTSTAMP:20260419T162257
CREATED:20251029T132808Z
LAST-MODIFIED:20260415T133603Z
UID:10056887-1797015600-1797022800@livemusicasheville.com
SUMMARY:Grass Is Back!
DESCRIPTION:No Cover – Donations accepted!\n\n\n\n\nApril 17 – Lynn Goldsmith & The Jeter Mountain Band\nApril 24 – New Carolina Connection Band\nMay 1 – Harlan County Grass\nMay 8 – Mulley Holler Band\nMay 15- Travis Watts & Mountain Blessings\nMay 22 – Hit or Miss Bluegrass & Country Band
URL:https://livemusicasheville.com/calendar/grass-is-back-3/2026-12-11/
LOCATION:Feed and Seed Fletcher
CATEGORIES:Asheville Area,Live Music,South Asheville/Arden/Fletcher
END:VEVENT
BEGIN:VEVENT
DTSTART;TZID=America/New_York:20261211T190000
DTEND;TZID=America/New_York:20261211T220000
DTSTAMP:20260419T162257
CREATED:20251113T101742Z
LAST-MODIFIED:20260327T002508Z
UID:10053023-1797015600-1797026400@livemusicasheville.com
SUMMARY:Blues with Mr Jimmy
DESCRIPTION:
URL:https://livemusicasheville.com/calendar/blues-with-mr-jimmy-2-2-2/2026-12-11/
LOCATION:The Station Black Mountain
CATEGORIES:Asheville Area,Black Mountain,Live Music
END:VEVENT
BEGIN:VEVENT
DTSTART;TZID=America/New_York:20261211T190000
DTEND;TZID=America/New_York:20261211T220000
DTSTAMP:20260419T162257
CREATED:20251222T160644Z
LAST-MODIFIED:20251222T160644Z
UID:10029354-1797015600-1797026400@livemusicasheville.com
SUMMARY:The B's Trio in The Great Hall
DESCRIPTION:
URL:https://livemusicasheville.com/calendar/the-bs-trio-in-the-great-hall-2/2026-12-11/
LOCATION:The Omni Grove Park Inn
CATEGORIES:Asheville Area,Live Music
GEO:35.6206376;-82.5422977
END:VEVENT
BEGIN:VEVENT
DTSTART;TZID=America/New_York:20261211T190000
DTEND;TZID=America/New_York:20261212T020000
DTSTAMP:20260419T162257
CREATED:20241225T123126Z
LAST-MODIFIED:20251122T132355Z
UID:10025613-1797015600-1797040800@livemusicasheville.com
SUMMARY:Dueling Piano Show
DESCRIPTION:
URL:https://livemusicasheville.com/calendar/dueling-piano-show/2026-12-11/
LOCATION:Off the Wagon
CATEGORIES:Asheville Area,Live Music
GEO:41.4302231;-81.3909542
END:VEVENT
BEGIN:VEVENT
DTSTART;TZID=America/New_York:20261211T200000
DTEND;TZID=America/New_York:20261211T220000
DTSTAMP:20260419T162257
CREATED:20241226T143754Z
LAST-MODIFIED:20260331T121545Z
UID:10053916-1797019200-1797026400@livemusicasheville.com
SUMMARY:Jump Blues w/ Virginia and The Slims
DESCRIPTION:
URL:https://livemusicasheville.com/calendar/virginia-and-the-slims/2026-12-11/
LOCATION:5 Walnut Wine Bar
CATEGORIES:Asheville Area,Live Music
GEO:35.596654;-82.5525389
END:VEVENT
BEGIN:VEVENT
DTSTART;TZID=America/New_York:20261211T200000
DTEND;TZID=America/New_York:20261211T230000
DTSTAMP:20260419T162257
CREATED:20250711T192233Z
LAST-MODIFIED:20260116T152048Z
UID:10028254-1797019200-1797030000@livemusicasheville.com
SUMMARY:Commodore Fox Band
DESCRIPTION:
URL:https://livemusicasheville.com/calendar/commodore-fox-band-2/2026-12-11/
LOCATION:Wild Wing Cafe South
CATEGORIES:Live Music,South Asheville/Arden/Fletcher
END:VEVENT
BEGIN:VEVENT
DTSTART;TZID=America/New_York:20261211T203000
DTEND;TZID=America/New_York:20261212T010000
DTSTAMP:20260419T162257
CREATED:20251224T142533Z
LAST-MODIFIED:20251224T142535Z
UID:10028354-1797021000-1797037200@livemusicasheville.com
SUMMARY:Elaine’s Dueling Piano Bar
DESCRIPTION:
URL:https://livemusicasheville.com/calendar/elaines-dueling-piano-bar-2/2026-12-11/
LOCATION:The Omni Grove Park Inn
CATEGORIES:Asheville Area,Live Music
GEO:35.6206376;-82.5422977
END:VEVENT
END:VCALENDAR