BEGIN:VCALENDAR
VERSION:2.0
PRODID:-//LiveMusicAsheville.com - ECPv6.15.20//NONSGML v1.0//EN
CALSCALE:GREGORIAN
METHOD:PUBLISH
X-ORIGINAL-URL:https://livemusicasheville.com
X-WR-CALDESC:Events for LiveMusicAsheville.com
REFRESH-INTERVAL;VALUE=DURATION:PT1H
X-Robots-Tag:noindex
X-PUBLISHED-TTL:PT1H
BEGIN:VTIMEZONE
TZID:America/New_York
BEGIN:DAYLIGHT
TZOFFSETFROM:-0500
TZOFFSETTO:-0400
TZNAME:EDT
DTSTART:20260308T070000
END:DAYLIGHT
BEGIN:STANDARD
TZOFFSETFROM:-0400
TZOFFSETTO:-0500
TZNAME:EST
DTSTART:20261101T060000
END:STANDARD
BEGIN:DAYLIGHT
TZOFFSETFROM:-0500
TZOFFSETTO:-0400
TZNAME:EDT
DTSTART:20270314T070000
END:DAYLIGHT
BEGIN:STANDARD
TZOFFSETFROM:-0400
TZOFFSETTO:-0500
TZNAME:EST
DTSTART:20271107T060000
END:STANDARD
BEGIN:DAYLIGHT
TZOFFSETFROM:-0500
TZOFFSETTO:-0400
TZNAME:EDT
DTSTART:20280312T070000
END:DAYLIGHT
BEGIN:STANDARD
TZOFFSETFROM:-0400
TZOFFSETTO:-0500
TZNAME:EST
DTSTART:20281105T060000
END:STANDARD
END:VTIMEZONE
BEGIN:VEVENT
DTSTART;TZID=America/New_York:20270817T170000
DTEND;TZID=America/New_York:20270818T010000
DTSTAMP:20260425T190609
CREATED:20250114T165902Z
LAST-MODIFIED:20260422T152410Z
UID:10052452-1818522000-1818550800@livemusicasheville.com
SUMMARY:Tuesday Karaoke
DESCRIPTION:Sierra Nevada Mills River – 5-9pm (April 28) \nWild Wing Cafe – 8-11pm \nThe One Stop – 10pm-1am \n 
URL:https://livemusicasheville.com/calendar/tuesday-karaoke/2027-08-17/
LOCATION:Asheville Area
CATEGORIES:Asheville Area,Karaoke
END:VEVENT
BEGIN:VEVENT
DTSTART;TZID=America/New_York:20270818T200000
DTEND;TZID=America/New_York:20270819T020000
DTSTAMP:20260425T190609
CREATED:20251223T121045Z
LAST-MODIFIED:20260407T133820Z
UID:10035480-1818619200-1818640800@livemusicasheville.com
SUMMARY:Wednesday Karaoke
DESCRIPTION:Kootie Lounge Asheville at Haikuavl – 7-9pm (1st\, 2nd & 4th Wednesdays) \nPeri Social House Black Mountain – 7-9pm (April 1) \nThe Social East Asheville – 8-11pm \nOHenrys – 8-11:30pm \nSticks on Broadway – 8-11pm (March 4) \nFleetwoods – PSK – 9pm-1am (March 18) \nThe Lazy Diamond – 10pm-2am \n The Odd – 9pm-1am (exclude 4/8 & 4/29) \nPlease verify times and KJ with the venue. \n  \n\n 
URL:https://livemusicasheville.com/calendar/wednesday-karaoke-2/2027-08-18/
LOCATION:Asheville Area
CATEGORIES:Asheville Area,Black Mountain,Karaoke,Mills River
END:VEVENT
BEGIN:VEVENT
DTSTART;TZID=America/New_York:20270819T190000
DTEND;TZID=America/New_York:20270820T020000
DTSTAMP:20260425T190609
CREATED:20251121T203604Z
LAST-MODIFIED:20260422T115043Z
UID:10033380-1818702000-1818727200@livemusicasheville.com
SUMMARY:Thursday Karaoke
DESCRIPTION:Please verify times and KJ with the venue! \n  \nTurgua Brewing Fairview – 6-8pm (April 16) \nAsheville Sports Club – 7-10pm \nThe Social East Asheville – 7-11pm \nDaddy Mac’s Downhome Dive – 8-11pm \nShiloh and Gaines – 8-11pm \nVOWL – 8-11pm  \nFleetwoods – 8pm-12am (April 23 indie/punk) \nStatic Age Loft 10pm-2am \nShakeys Dive Bar 9pm-2am
URL:https://livemusicasheville.com/calendar/thursday-weekly-karaoke-2/2027-08-19/
LOCATION:Asheville Area
CATEGORIES:Asheville Area,Karaoke,Madison County,South Asheville/Arden/Fletcher
END:VEVENT
BEGIN:VEVENT
DTSTART;TZID=America/New_York:20270820T190000
DTEND;TZID=America/New_York:20270821T010000
DTSTAMP:20260425T190609
CREATED:20241225T141623Z
LAST-MODIFIED:20260416T110217Z
UID:10056406-1818788400-1818810000@livemusicasheville.com
SUMMARY:Friday Karaoke
DESCRIPTION:  \n7-10pm – Mal’s Bar Marshall (February 20) \n7-10pm- Noble Cider (April 10) \n8pm-12am – Silverados Black Mountain \n8-11pm – Dalton Distillery (April 17) \n8-11pm – T Birds Weaverville \n8:30-11pm – The Village Porch Woodfin (April 17) \n8pm-1am – Fleetwoods (Feb 27) \n9pm-12am – Brewskies Fairview   \n9pm-12am – Little Creek Tavern Fletcher  \n9pm-1am – Handlebar & Grill \n9pm- 1am – O’Henrys \n9:30pm-1:30am – The Crowbar Downtown \n10pm – 2am – Shakeys \nVerify time and KJ with The Venue. \n  \n  \n\n 
URL:https://livemusicasheville.com/calendar/friday-weekly-karaoke/2027-08-20/
LOCATION:Asheville Area
CATEGORIES:Asheville Area,Black Mountain,Fairview,Karaoke,Madison County,Weaverville
END:VEVENT
BEGIN:VEVENT
DTSTART;TZID=America/New_York:20270821T110000
DTEND;TZID=America/New_York:20270822T010000
DTSTAMP:20260425T190609
CREATED:20241225T201123Z
LAST-MODIFIED:20260422T210726Z
UID:10053678-1818846000-1818896400@livemusicasheville.com
SUMMARY:Saturday Karaoke
DESCRIPTION:Ben’s Tune Up – 11am-2pm (1st & 3rd Saturdays) \nWagworld Pub – 6-9pm (April 25) \nLookout Brewing Black Mountain – 7-10pm (April 18) \nThe Whale South Slope – 7-10pm (April 18) \nIce Bar Arden – 8pm-12am (April 25) \nLiondog Lounge Weaverville – 8pm-12am (every other week) \nT Birds Weaverville – 8-11pm \nThe Burger Bar – 8pm-1am \nThe Social East Asheville – 9pm-1am \n  \n  \nPlease verify times and KJ with the venue.
URL:https://livemusicasheville.com/calendar/saturday-karaoke/2027-08-21/
CATEGORIES:Asheville Area,Karaoke
END:VEVENT
BEGIN:VEVENT
DTSTART;TZID=America/New_York:20270822T160000
DTEND;TZID=America/New_York:20270823T020000
DTSTAMP:20260425T190609
CREATED:20260125T153955Z
LAST-MODIFIED:20260412T125122Z
UID:10041160-1818950400-1818986400@livemusicasheville.com
SUMMARY:Sunday Karaoke
DESCRIPTION:T Birds Weaverville – 4-8pm \nStatic Age Loft – 6-9pm (April 12) \nEda’s Hideaway Weaverville – 7-10pm \nBanks Ave – 9pm-12am \nThe Social East Asheville – 9pm-12am (exclude Feb 8) \nThe Double Crown – 10pm-2am \nPlease verify with the venue on times and KJ. \n 
URL:https://livemusicasheville.com/calendar/sunday-karaoke-2/2027-08-22/
LOCATION:Asheville Area
CATEGORIES:Asheville Area,Black Mountain,Karaoke,South Asheville/Arden/Fletcher,Weaverville
END:VEVENT
BEGIN:VEVENT
DTSTART;TZID=America/New_York:20270824T170000
DTEND;TZID=America/New_York:20270825T010000
DTSTAMP:20260425T190609
CREATED:20250114T165902Z
LAST-MODIFIED:20260422T152410Z
UID:10052453-1819126800-1819155600@livemusicasheville.com
SUMMARY:Tuesday Karaoke
DESCRIPTION:Sierra Nevada Mills River – 5-9pm (April 28) \nWild Wing Cafe – 8-11pm \nThe One Stop – 10pm-1am \n 
URL:https://livemusicasheville.com/calendar/tuesday-karaoke/2027-08-24/
LOCATION:Asheville Area
CATEGORIES:Asheville Area,Karaoke
END:VEVENT
BEGIN:VEVENT
DTSTART;TZID=America/New_York:20270825T200000
DTEND;TZID=America/New_York:20270826T020000
DTSTAMP:20260425T190609
CREATED:20251223T121045Z
LAST-MODIFIED:20260407T133820Z
UID:10035481-1819224000-1819245600@livemusicasheville.com
SUMMARY:Wednesday Karaoke
DESCRIPTION:Kootie Lounge Asheville at Haikuavl – 7-9pm (1st\, 2nd & 4th Wednesdays) \nPeri Social House Black Mountain – 7-9pm (April 1) \nThe Social East Asheville – 8-11pm \nOHenrys – 8-11:30pm \nSticks on Broadway – 8-11pm (March 4) \nFleetwoods – PSK – 9pm-1am (March 18) \nThe Lazy Diamond – 10pm-2am \n The Odd – 9pm-1am (exclude 4/8 & 4/29) \nPlease verify times and KJ with the venue. \n  \n\n 
URL:https://livemusicasheville.com/calendar/wednesday-karaoke-2/2027-08-25/
LOCATION:Asheville Area
CATEGORIES:Asheville Area,Black Mountain,Karaoke,Mills River
END:VEVENT
BEGIN:VEVENT
DTSTART;TZID=America/New_York:20270826T190000
DTEND;TZID=America/New_York:20270827T020000
DTSTAMP:20260425T190609
CREATED:20251121T203604Z
LAST-MODIFIED:20260422T115043Z
UID:10033381-1819306800-1819332000@livemusicasheville.com
SUMMARY:Thursday Karaoke
DESCRIPTION:Please verify times and KJ with the venue! \n  \nTurgua Brewing Fairview – 6-8pm (April 16) \nAsheville Sports Club – 7-10pm \nThe Social East Asheville – 7-11pm \nDaddy Mac’s Downhome Dive – 8-11pm \nShiloh and Gaines – 8-11pm \nVOWL – 8-11pm  \nFleetwoods – 8pm-12am (April 23 indie/punk) \nStatic Age Loft 10pm-2am \nShakeys Dive Bar 9pm-2am
URL:https://livemusicasheville.com/calendar/thursday-weekly-karaoke-2/2027-08-26/
LOCATION:Asheville Area
CATEGORIES:Asheville Area,Karaoke,Madison County,South Asheville/Arden/Fletcher
END:VEVENT
BEGIN:VEVENT
DTSTART;TZID=America/New_York:20270827T190000
DTEND;TZID=America/New_York:20270828T010000
DTSTAMP:20260425T190609
CREATED:20241225T141623Z
LAST-MODIFIED:20260416T110217Z
UID:10056407-1819393200-1819414800@livemusicasheville.com
SUMMARY:Friday Karaoke
DESCRIPTION:  \n7-10pm – Mal’s Bar Marshall (February 20) \n7-10pm- Noble Cider (April 10) \n8pm-12am – Silverados Black Mountain \n8-11pm – Dalton Distillery (April 17) \n8-11pm – T Birds Weaverville \n8:30-11pm – The Village Porch Woodfin (April 17) \n8pm-1am – Fleetwoods (Feb 27) \n9pm-12am – Brewskies Fairview   \n9pm-12am – Little Creek Tavern Fletcher  \n9pm-1am – Handlebar & Grill \n9pm- 1am – O’Henrys \n9:30pm-1:30am – The Crowbar Downtown \n10pm – 2am – Shakeys \nVerify time and KJ with The Venue. \n  \n  \n\n 
URL:https://livemusicasheville.com/calendar/friday-weekly-karaoke/2027-08-27/
LOCATION:Asheville Area
CATEGORIES:Asheville Area,Black Mountain,Fairview,Karaoke,Madison County,Weaverville
END:VEVENT
BEGIN:VEVENT
DTSTART;TZID=America/New_York:20270828T110000
DTEND;TZID=America/New_York:20270829T010000
DTSTAMP:20260425T190609
CREATED:20241225T201123Z
LAST-MODIFIED:20260422T210726Z
UID:10053679-1819450800-1819501200@livemusicasheville.com
SUMMARY:Saturday Karaoke
DESCRIPTION:Ben’s Tune Up – 11am-2pm (1st & 3rd Saturdays) \nWagworld Pub – 6-9pm (April 25) \nLookout Brewing Black Mountain – 7-10pm (April 18) \nThe Whale South Slope – 7-10pm (April 18) \nIce Bar Arden – 8pm-12am (April 25) \nLiondog Lounge Weaverville – 8pm-12am (every other week) \nT Birds Weaverville – 8-11pm \nThe Burger Bar – 8pm-1am \nThe Social East Asheville – 9pm-1am \n  \n  \nPlease verify times and KJ with the venue.
URL:https://livemusicasheville.com/calendar/saturday-karaoke/2027-08-28/
CATEGORIES:Asheville Area,Karaoke
END:VEVENT
BEGIN:VEVENT
DTSTART;TZID=America/New_York:20270829T160000
DTEND;TZID=America/New_York:20270830T020000
DTSTAMP:20260425T190609
CREATED:20260125T153955Z
LAST-MODIFIED:20260412T125122Z
UID:10041161-1819555200-1819591200@livemusicasheville.com
SUMMARY:Sunday Karaoke
DESCRIPTION:T Birds Weaverville – 4-8pm \nStatic Age Loft – 6-9pm (April 12) \nEda’s Hideaway Weaverville – 7-10pm \nBanks Ave – 9pm-12am \nThe Social East Asheville – 9pm-12am (exclude Feb 8) \nThe Double Crown – 10pm-2am \nPlease verify with the venue on times and KJ. \n 
URL:https://livemusicasheville.com/calendar/sunday-karaoke-2/2027-08-29/
LOCATION:Asheville Area
CATEGORIES:Asheville Area,Black Mountain,Karaoke,South Asheville/Arden/Fletcher,Weaverville
END:VEVENT
BEGIN:VEVENT
DTSTART;TZID=America/New_York:20270831T170000
DTEND;TZID=America/New_York:20270901T010000
DTSTAMP:20260425T190609
CREATED:20250114T165902Z
LAST-MODIFIED:20260422T152410Z
UID:10052454-1819731600-1819760400@livemusicasheville.com
SUMMARY:Tuesday Karaoke
DESCRIPTION:Sierra Nevada Mills River – 5-9pm (April 28) \nWild Wing Cafe – 8-11pm \nThe One Stop – 10pm-1am \n 
URL:https://livemusicasheville.com/calendar/tuesday-karaoke/2027-08-31/
LOCATION:Asheville Area
CATEGORIES:Asheville Area,Karaoke
END:VEVENT
BEGIN:VEVENT
DTSTART;TZID=America/New_York:20270901T200000
DTEND;TZID=America/New_York:20270902T020000
DTSTAMP:20260425T190609
CREATED:20251223T121045Z
LAST-MODIFIED:20260407T133820Z
UID:10035482-1819828800-1819850400@livemusicasheville.com
SUMMARY:Wednesday Karaoke
DESCRIPTION:Kootie Lounge Asheville at Haikuavl – 7-9pm (1st\, 2nd & 4th Wednesdays) \nPeri Social House Black Mountain – 7-9pm (April 1) \nThe Social East Asheville – 8-11pm \nOHenrys – 8-11:30pm \nSticks on Broadway – 8-11pm (March 4) \nFleetwoods – PSK – 9pm-1am (March 18) \nThe Lazy Diamond – 10pm-2am \n The Odd – 9pm-1am (exclude 4/8 & 4/29) \nPlease verify times and KJ with the venue. \n  \n\n 
URL:https://livemusicasheville.com/calendar/wednesday-karaoke-2/2027-09-01/
LOCATION:Asheville Area
CATEGORIES:Asheville Area,Black Mountain,Karaoke,Mills River
END:VEVENT
BEGIN:VEVENT
DTSTART;TZID=America/New_York:20270902T190000
DTEND;TZID=America/New_York:20270903T020000
DTSTAMP:20260425T190609
CREATED:20251121T203604Z
LAST-MODIFIED:20260422T115043Z
UID:10033382-1819911600-1819936800@livemusicasheville.com
SUMMARY:Thursday Karaoke
DESCRIPTION:Please verify times and KJ with the venue! \n  \nTurgua Brewing Fairview – 6-8pm (April 16) \nAsheville Sports Club – 7-10pm \nThe Social East Asheville – 7-11pm \nDaddy Mac’s Downhome Dive – 8-11pm \nShiloh and Gaines – 8-11pm \nVOWL – 8-11pm  \nFleetwoods – 8pm-12am (April 23 indie/punk) \nStatic Age Loft 10pm-2am \nShakeys Dive Bar 9pm-2am
URL:https://livemusicasheville.com/calendar/thursday-weekly-karaoke-2/2027-09-02/
LOCATION:Asheville Area
CATEGORIES:Asheville Area,Karaoke,Madison County,South Asheville/Arden/Fletcher
END:VEVENT
BEGIN:VEVENT
DTSTART;TZID=America/New_York:20270903T190000
DTEND;TZID=America/New_York:20270904T010000
DTSTAMP:20260425T190609
CREATED:20241225T141623Z
LAST-MODIFIED:20260416T110217Z
UID:10056408-1819998000-1820019600@livemusicasheville.com
SUMMARY:Friday Karaoke
DESCRIPTION:  \n7-10pm – Mal’s Bar Marshall (February 20) \n7-10pm- Noble Cider (April 10) \n8pm-12am – Silverados Black Mountain \n8-11pm – Dalton Distillery (April 17) \n8-11pm – T Birds Weaverville \n8:30-11pm – The Village Porch Woodfin (April 17) \n8pm-1am – Fleetwoods (Feb 27) \n9pm-12am – Brewskies Fairview   \n9pm-12am – Little Creek Tavern Fletcher  \n9pm-1am – Handlebar & Grill \n9pm- 1am – O’Henrys \n9:30pm-1:30am – The Crowbar Downtown \n10pm – 2am – Shakeys \nVerify time and KJ with The Venue. \n  \n  \n\n 
URL:https://livemusicasheville.com/calendar/friday-weekly-karaoke/2027-09-03/
LOCATION:Asheville Area
CATEGORIES:Asheville Area,Black Mountain,Fairview,Karaoke,Madison County,Weaverville
END:VEVENT
BEGIN:VEVENT
DTSTART;TZID=America/New_York:20270904T110000
DTEND;TZID=America/New_York:20270905T010000
DTSTAMP:20260425T190609
CREATED:20241225T201123Z
LAST-MODIFIED:20260422T210726Z
UID:10053680-1820055600-1820106000@livemusicasheville.com
SUMMARY:Saturday Karaoke
DESCRIPTION:Ben’s Tune Up – 11am-2pm (1st & 3rd Saturdays) \nWagworld Pub – 6-9pm (April 25) \nLookout Brewing Black Mountain – 7-10pm (April 18) \nThe Whale South Slope – 7-10pm (April 18) \nIce Bar Arden – 8pm-12am (April 25) \nLiondog Lounge Weaverville – 8pm-12am (every other week) \nT Birds Weaverville – 8-11pm \nThe Burger Bar – 8pm-1am \nThe Social East Asheville – 9pm-1am \n  \n  \nPlease verify times and KJ with the venue.
URL:https://livemusicasheville.com/calendar/saturday-karaoke/2027-09-04/
CATEGORIES:Asheville Area,Karaoke
END:VEVENT
BEGIN:VEVENT
DTSTART;TZID=America/New_York:20270905T160000
DTEND;TZID=America/New_York:20270906T020000
DTSTAMP:20260425T190609
CREATED:20260125T153955Z
LAST-MODIFIED:20260412T125122Z
UID:10041162-1820160000-1820196000@livemusicasheville.com
SUMMARY:Sunday Karaoke
DESCRIPTION:T Birds Weaverville – 4-8pm \nStatic Age Loft – 6-9pm (April 12) \nEda’s Hideaway Weaverville – 7-10pm \nBanks Ave – 9pm-12am \nThe Social East Asheville – 9pm-12am (exclude Feb 8) \nThe Double Crown – 10pm-2am \nPlease verify with the venue on times and KJ. \n 
URL:https://livemusicasheville.com/calendar/sunday-karaoke-2/2027-09-05/
LOCATION:Asheville Area
CATEGORIES:Asheville Area,Black Mountain,Karaoke,South Asheville/Arden/Fletcher,Weaverville
END:VEVENT
BEGIN:VEVENT
DTSTART;TZID=America/New_York:20270907T170000
DTEND;TZID=America/New_York:20270908T010000
DTSTAMP:20260425T190609
CREATED:20250114T165902Z
LAST-MODIFIED:20260422T152410Z
UID:10052455-1820336400-1820365200@livemusicasheville.com
SUMMARY:Tuesday Karaoke
DESCRIPTION:Sierra Nevada Mills River – 5-9pm (April 28) \nWild Wing Cafe – 8-11pm \nThe One Stop – 10pm-1am \n 
URL:https://livemusicasheville.com/calendar/tuesday-karaoke/2027-09-07/
LOCATION:Asheville Area
CATEGORIES:Asheville Area,Karaoke
END:VEVENT
BEGIN:VEVENT
DTSTART;TZID=America/New_York:20270908T200000
DTEND;TZID=America/New_York:20270909T020000
DTSTAMP:20260425T190609
CREATED:20251223T121045Z
LAST-MODIFIED:20260407T133820Z
UID:10035483-1820433600-1820455200@livemusicasheville.com
SUMMARY:Wednesday Karaoke
DESCRIPTION:Kootie Lounge Asheville at Haikuavl – 7-9pm (1st\, 2nd & 4th Wednesdays) \nPeri Social House Black Mountain – 7-9pm (April 1) \nThe Social East Asheville – 8-11pm \nOHenrys – 8-11:30pm \nSticks on Broadway – 8-11pm (March 4) \nFleetwoods – PSK – 9pm-1am (March 18) \nThe Lazy Diamond – 10pm-2am \n The Odd – 9pm-1am (exclude 4/8 & 4/29) \nPlease verify times and KJ with the venue. \n  \n\n 
URL:https://livemusicasheville.com/calendar/wednesday-karaoke-2/2027-09-08/
LOCATION:Asheville Area
CATEGORIES:Asheville Area,Black Mountain,Karaoke,Mills River
END:VEVENT
BEGIN:VEVENT
DTSTART;TZID=America/New_York:20270909T190000
DTEND;TZID=America/New_York:20270910T020000
DTSTAMP:20260425T190609
CREATED:20251121T203604Z
LAST-MODIFIED:20260422T115043Z
UID:10033383-1820516400-1820541600@livemusicasheville.com
SUMMARY:Thursday Karaoke
DESCRIPTION:Please verify times and KJ with the venue! \n  \nTurgua Brewing Fairview – 6-8pm (April 16) \nAsheville Sports Club – 7-10pm \nThe Social East Asheville – 7-11pm \nDaddy Mac’s Downhome Dive – 8-11pm \nShiloh and Gaines – 8-11pm \nVOWL – 8-11pm  \nFleetwoods – 8pm-12am (April 23 indie/punk) \nStatic Age Loft 10pm-2am \nShakeys Dive Bar 9pm-2am
URL:https://livemusicasheville.com/calendar/thursday-weekly-karaoke-2/2027-09-09/
LOCATION:Asheville Area
CATEGORIES:Asheville Area,Karaoke,Madison County,South Asheville/Arden/Fletcher
END:VEVENT
BEGIN:VEVENT
DTSTART;TZID=America/New_York:20270910T190000
DTEND;TZID=America/New_York:20270911T010000
DTSTAMP:20260425T190609
CREATED:20241225T141623Z
LAST-MODIFIED:20260416T110217Z
UID:10056409-1820602800-1820624400@livemusicasheville.com
SUMMARY:Friday Karaoke
DESCRIPTION:  \n7-10pm – Mal’s Bar Marshall (February 20) \n7-10pm- Noble Cider (April 10) \n8pm-12am – Silverados Black Mountain \n8-11pm – Dalton Distillery (April 17) \n8-11pm – T Birds Weaverville \n8:30-11pm – The Village Porch Woodfin (April 17) \n8pm-1am – Fleetwoods (Feb 27) \n9pm-12am – Brewskies Fairview   \n9pm-12am – Little Creek Tavern Fletcher  \n9pm-1am – Handlebar & Grill \n9pm- 1am – O’Henrys \n9:30pm-1:30am – The Crowbar Downtown \n10pm – 2am – Shakeys \nVerify time and KJ with The Venue. \n  \n  \n\n 
URL:https://livemusicasheville.com/calendar/friday-weekly-karaoke/2027-09-10/
LOCATION:Asheville Area
CATEGORIES:Asheville Area,Black Mountain,Fairview,Karaoke,Madison County,Weaverville
END:VEVENT
BEGIN:VEVENT
DTSTART;TZID=America/New_York:20270911T110000
DTEND;TZID=America/New_York:20270912T010000
DTSTAMP:20260425T190609
CREATED:20241225T201123Z
LAST-MODIFIED:20260422T210726Z
UID:10053681-1820660400-1820710800@livemusicasheville.com
SUMMARY:Saturday Karaoke
DESCRIPTION:Ben’s Tune Up – 11am-2pm (1st & 3rd Saturdays) \nWagworld Pub – 6-9pm (April 25) \nLookout Brewing Black Mountain – 7-10pm (April 18) \nThe Whale South Slope – 7-10pm (April 18) \nIce Bar Arden – 8pm-12am (April 25) \nLiondog Lounge Weaverville – 8pm-12am (every other week) \nT Birds Weaverville – 8-11pm \nThe Burger Bar – 8pm-1am \nThe Social East Asheville – 9pm-1am \n  \n  \nPlease verify times and KJ with the venue.
URL:https://livemusicasheville.com/calendar/saturday-karaoke/2027-09-11/
CATEGORIES:Asheville Area,Karaoke
END:VEVENT
BEGIN:VEVENT
DTSTART;TZID=America/New_York:20270912T160000
DTEND;TZID=America/New_York:20270913T020000
DTSTAMP:20260425T190609
CREATED:20260125T153955Z
LAST-MODIFIED:20260412T125122Z
UID:10041163-1820764800-1820800800@livemusicasheville.com
SUMMARY:Sunday Karaoke
DESCRIPTION:T Birds Weaverville – 4-8pm \nStatic Age Loft – 6-9pm (April 12) \nEda’s Hideaway Weaverville – 7-10pm \nBanks Ave – 9pm-12am \nThe Social East Asheville – 9pm-12am (exclude Feb 8) \nThe Double Crown – 10pm-2am \nPlease verify with the venue on times and KJ. \n 
URL:https://livemusicasheville.com/calendar/sunday-karaoke-2/2027-09-12/
LOCATION:Asheville Area
CATEGORIES:Asheville Area,Black Mountain,Karaoke,South Asheville/Arden/Fletcher,Weaverville
END:VEVENT
BEGIN:VEVENT
DTSTART;TZID=America/New_York:20270914T170000
DTEND;TZID=America/New_York:20270915T010000
DTSTAMP:20260425T190609
CREATED:20250114T165902Z
LAST-MODIFIED:20260422T152410Z
UID:10052456-1820941200-1820970000@livemusicasheville.com
SUMMARY:Tuesday Karaoke
DESCRIPTION:Sierra Nevada Mills River – 5-9pm (April 28) \nWild Wing Cafe – 8-11pm \nThe One Stop – 10pm-1am \n 
URL:https://livemusicasheville.com/calendar/tuesday-karaoke/2027-09-14/
LOCATION:Asheville Area
CATEGORIES:Asheville Area,Karaoke
END:VEVENT
BEGIN:VEVENT
DTSTART;TZID=America/New_York:20270915T200000
DTEND;TZID=America/New_York:20270916T020000
DTSTAMP:20260425T190609
CREATED:20251223T121045Z
LAST-MODIFIED:20260407T133820Z
UID:10035484-1821038400-1821060000@livemusicasheville.com
SUMMARY:Wednesday Karaoke
DESCRIPTION:Kootie Lounge Asheville at Haikuavl – 7-9pm (1st\, 2nd & 4th Wednesdays) \nPeri Social House Black Mountain – 7-9pm (April 1) \nThe Social East Asheville – 8-11pm \nOHenrys – 8-11:30pm \nSticks on Broadway – 8-11pm (March 4) \nFleetwoods – PSK – 9pm-1am (March 18) \nThe Lazy Diamond – 10pm-2am \n The Odd – 9pm-1am (exclude 4/8 & 4/29) \nPlease verify times and KJ with the venue. \n  \n\n 
URL:https://livemusicasheville.com/calendar/wednesday-karaoke-2/2027-09-15/
LOCATION:Asheville Area
CATEGORIES:Asheville Area,Black Mountain,Karaoke,Mills River
END:VEVENT
BEGIN:VEVENT
DTSTART;TZID=America/New_York:20270916T190000
DTEND;TZID=America/New_York:20270917T020000
DTSTAMP:20260425T190609
CREATED:20251121T203604Z
LAST-MODIFIED:20260422T115043Z
UID:10033384-1821121200-1821146400@livemusicasheville.com
SUMMARY:Thursday Karaoke
DESCRIPTION:Please verify times and KJ with the venue! \n  \nTurgua Brewing Fairview – 6-8pm (April 16) \nAsheville Sports Club – 7-10pm \nThe Social East Asheville – 7-11pm \nDaddy Mac’s Downhome Dive – 8-11pm \nShiloh and Gaines – 8-11pm \nVOWL – 8-11pm  \nFleetwoods – 8pm-12am (April 23 indie/punk) \nStatic Age Loft 10pm-2am \nShakeys Dive Bar 9pm-2am
URL:https://livemusicasheville.com/calendar/thursday-weekly-karaoke-2/2027-09-16/
LOCATION:Asheville Area
CATEGORIES:Asheville Area,Karaoke,Madison County,South Asheville/Arden/Fletcher
END:VEVENT
BEGIN:VEVENT
DTSTART;TZID=America/New_York:20270917T190000
DTEND;TZID=America/New_York:20270918T010000
DTSTAMP:20260425T190609
CREATED:20241225T141623Z
LAST-MODIFIED:20260416T110217Z
UID:10056410-1821207600-1821229200@livemusicasheville.com
SUMMARY:Friday Karaoke
DESCRIPTION:  \n7-10pm – Mal’s Bar Marshall (February 20) \n7-10pm- Noble Cider (April 10) \n8pm-12am – Silverados Black Mountain \n8-11pm – Dalton Distillery (April 17) \n8-11pm – T Birds Weaverville \n8:30-11pm – The Village Porch Woodfin (April 17) \n8pm-1am – Fleetwoods (Feb 27) \n9pm-12am – Brewskies Fairview   \n9pm-12am – Little Creek Tavern Fletcher  \n9pm-1am – Handlebar & Grill \n9pm- 1am – O’Henrys \n9:30pm-1:30am – The Crowbar Downtown \n10pm – 2am – Shakeys \nVerify time and KJ with The Venue. \n  \n  \n\n 
URL:https://livemusicasheville.com/calendar/friday-weekly-karaoke/2027-09-17/
LOCATION:Asheville Area
CATEGORIES:Asheville Area,Black Mountain,Fairview,Karaoke,Madison County,Weaverville
END:VEVENT
BEGIN:VEVENT
DTSTART;TZID=America/New_York:20270918T110000
DTEND;TZID=America/New_York:20270919T010000
DTSTAMP:20260425T190609
CREATED:20241225T201123Z
LAST-MODIFIED:20260422T210726Z
UID:10053682-1821265200-1821315600@livemusicasheville.com
SUMMARY:Saturday Karaoke
DESCRIPTION:Ben’s Tune Up – 11am-2pm (1st & 3rd Saturdays) \nWagworld Pub – 6-9pm (April 25) \nLookout Brewing Black Mountain – 7-10pm (April 18) \nThe Whale South Slope – 7-10pm (April 18) \nIce Bar Arden – 8pm-12am (April 25) \nLiondog Lounge Weaverville – 8pm-12am (every other week) \nT Birds Weaverville – 8-11pm \nThe Burger Bar – 8pm-1am \nThe Social East Asheville – 9pm-1am \n  \n  \nPlease verify times and KJ with the venue.
URL:https://livemusicasheville.com/calendar/saturday-karaoke/2027-09-18/
CATEGORIES:Asheville Area,Karaoke
END:VEVENT
BEGIN:VEVENT
DTSTART;TZID=America/New_York:20270919T160000
DTEND;TZID=America/New_York:20270920T020000
DTSTAMP:20260425T190609
CREATED:20260125T153955Z
LAST-MODIFIED:20260412T125122Z
UID:10041164-1821369600-1821405600@livemusicasheville.com
SUMMARY:Sunday Karaoke
DESCRIPTION:T Birds Weaverville – 4-8pm \nStatic Age Loft – 6-9pm (April 12) \nEda’s Hideaway Weaverville – 7-10pm \nBanks Ave – 9pm-12am \nThe Social East Asheville – 9pm-12am (exclude Feb 8) \nThe Double Crown – 10pm-2am \nPlease verify with the venue on times and KJ. \n 
URL:https://livemusicasheville.com/calendar/sunday-karaoke-2/2027-09-19/
LOCATION:Asheville Area
CATEGORIES:Asheville Area,Black Mountain,Karaoke,South Asheville/Arden/Fletcher,Weaverville
END:VEVENT
END:VCALENDAR