BEGIN:VCALENDAR
VERSION:2.0
PRODID:-//LiveMusicAsheville.com - ECPv6.15.20//NONSGML v1.0//EN
CALSCALE:GREGORIAN
METHOD:PUBLISH
X-WR-CALNAME:LiveMusicAsheville.com
X-ORIGINAL-URL:https://livemusicasheville.com
X-WR-CALDESC:Events for LiveMusicAsheville.com
REFRESH-INTERVAL;VALUE=DURATION:PT1H
X-Robots-Tag:noindex
X-PUBLISHED-TTL:PT1H
BEGIN:VTIMEZONE
TZID:America/New_York
BEGIN:DAYLIGHT
TZOFFSETFROM:-0500
TZOFFSETTO:-0400
TZNAME:EDT
DTSTART:20260308T070000
END:DAYLIGHT
BEGIN:STANDARD
TZOFFSETFROM:-0400
TZOFFSETTO:-0500
TZNAME:EST
DTSTART:20261101T060000
END:STANDARD
BEGIN:DAYLIGHT
TZOFFSETFROM:-0500
TZOFFSETTO:-0400
TZNAME:EDT
DTSTART:20270314T070000
END:DAYLIGHT
BEGIN:STANDARD
TZOFFSETFROM:-0400
TZOFFSETTO:-0500
TZNAME:EST
DTSTART:20271107T060000
END:STANDARD
BEGIN:DAYLIGHT
TZOFFSETFROM:-0500
TZOFFSETTO:-0400
TZNAME:EDT
DTSTART:20280312T070000
END:DAYLIGHT
BEGIN:STANDARD
TZOFFSETFROM:-0400
TZOFFSETTO:-0500
TZNAME:EST
DTSTART:20281105T060000
END:STANDARD
END:VTIMEZONE
BEGIN:VEVENT
DTSTART;TZID=America/New_York:20270119T170000
DTEND;TZID=America/New_York:20270120T010000
DTSTAMP:20260425T171625
CREATED:20250114T165902Z
LAST-MODIFIED:20260422T152410Z
UID:10052422-1800378000-1800406800@livemusicasheville.com
SUMMARY:Tuesday Karaoke
DESCRIPTION:Sierra Nevada Mills River – 5-9pm (April 28) \nWild Wing Cafe – 8-11pm \nThe One Stop – 10pm-1am \n 
URL:https://livemusicasheville.com/calendar/tuesday-karaoke/2027-01-19/
LOCATION:Asheville Area
CATEGORIES:Asheville Area,Karaoke
END:VEVENT
BEGIN:VEVENT
DTSTART;TZID=America/New_York:20270120T200000
DTEND;TZID=America/New_York:20270121T020000
DTSTAMP:20260425T171625
CREATED:20251223T121045Z
LAST-MODIFIED:20260407T133820Z
UID:10035450-1800475200-1800496800@livemusicasheville.com
SUMMARY:Wednesday Karaoke
DESCRIPTION:Kootie Lounge Asheville at Haikuavl – 7-9pm (1st\, 2nd & 4th Wednesdays) \nPeri Social House Black Mountain – 7-9pm (April 1) \nThe Social East Asheville – 8-11pm \nOHenrys – 8-11:30pm \nSticks on Broadway – 8-11pm (March 4) \nFleetwoods – PSK – 9pm-1am (March 18) \nThe Lazy Diamond – 10pm-2am \n The Odd – 9pm-1am (exclude 4/8 & 4/29) \nPlease verify times and KJ with the venue. \n  \n\n 
URL:https://livemusicasheville.com/calendar/wednesday-karaoke-2/2027-01-20/
LOCATION:Asheville Area
CATEGORIES:Asheville Area,Black Mountain,Karaoke,Mills River
END:VEVENT
BEGIN:VEVENT
DTSTART;TZID=America/New_York:20270121T190000
DTEND;TZID=America/New_York:20270122T020000
DTSTAMP:20260425T171625
CREATED:20251121T203604Z
LAST-MODIFIED:20260422T115043Z
UID:10033350-1800558000-1800583200@livemusicasheville.com
SUMMARY:Thursday Karaoke
DESCRIPTION:Please verify times and KJ with the venue! \n  \nTurgua Brewing Fairview – 6-8pm (April 16) \nAsheville Sports Club – 7-10pm \nThe Social East Asheville – 7-11pm \nDaddy Mac’s Downhome Dive – 8-11pm \nShiloh and Gaines – 8-11pm \nVOWL – 8-11pm  \nFleetwoods – 8pm-12am (April 23 indie/punk) \nStatic Age Loft 10pm-2am \nShakeys Dive Bar 9pm-2am
URL:https://livemusicasheville.com/calendar/thursday-weekly-karaoke-2/2027-01-21/
LOCATION:Asheville Area
CATEGORIES:Asheville Area,Karaoke,Madison County,South Asheville/Arden/Fletcher
END:VEVENT
BEGIN:VEVENT
DTSTART;TZID=America/New_York:20270122T190000
DTEND;TZID=America/New_York:20270123T010000
DTSTAMP:20260425T171625
CREATED:20241225T141623Z
LAST-MODIFIED:20260416T110217Z
UID:10056376-1800644400-1800666000@livemusicasheville.com
SUMMARY:Friday Karaoke
DESCRIPTION:  \n7-10pm – Mal’s Bar Marshall (February 20) \n7-10pm- Noble Cider (April 10) \n8pm-12am – Silverados Black Mountain \n8-11pm – Dalton Distillery (April 17) \n8-11pm – T Birds Weaverville \n8:30-11pm – The Village Porch Woodfin (April 17) \n8pm-1am – Fleetwoods (Feb 27) \n9pm-12am – Brewskies Fairview   \n9pm-12am – Little Creek Tavern Fletcher  \n9pm-1am – Handlebar & Grill \n9pm- 1am – O’Henrys \n9:30pm-1:30am – The Crowbar Downtown \n10pm – 2am – Shakeys \nVerify time and KJ with The Venue. \n  \n  \n\n 
URL:https://livemusicasheville.com/calendar/friday-weekly-karaoke/2027-01-22/
LOCATION:Asheville Area
CATEGORIES:Asheville Area,Black Mountain,Fairview,Karaoke,Madison County,Weaverville
END:VEVENT
BEGIN:VEVENT
DTSTART;TZID=America/New_York:20270123T110000
DTEND;TZID=America/New_York:20270124T010000
DTSTAMP:20260425T171625
CREATED:20241225T201123Z
LAST-MODIFIED:20260422T210726Z
UID:10053648-1800702000-1800752400@livemusicasheville.com
SUMMARY:Saturday Karaoke
DESCRIPTION:Ben’s Tune Up – 11am-2pm (1st & 3rd Saturdays) \nWagworld Pub – 6-9pm (April 25) \nLookout Brewing Black Mountain – 7-10pm (April 18) \nThe Whale South Slope – 7-10pm (April 18) \nIce Bar Arden – 8pm-12am (April 25) \nLiondog Lounge Weaverville – 8pm-12am (every other week) \nT Birds Weaverville – 8-11pm \nThe Burger Bar – 8pm-1am \nThe Social East Asheville – 9pm-1am \n  \n  \nPlease verify times and KJ with the venue.
URL:https://livemusicasheville.com/calendar/saturday-karaoke/2027-01-23/
CATEGORIES:Asheville Area,Karaoke
END:VEVENT
BEGIN:VEVENT
DTSTART;TZID=America/New_York:20270124T160000
DTEND;TZID=America/New_York:20270125T020000
DTSTAMP:20260425T171625
CREATED:20260125T153955Z
LAST-MODIFIED:20260412T125122Z
UID:10041130-1800806400-1800842400@livemusicasheville.com
SUMMARY:Sunday Karaoke
DESCRIPTION:T Birds Weaverville – 4-8pm \nStatic Age Loft – 6-9pm (April 12) \nEda’s Hideaway Weaverville – 7-10pm \nBanks Ave – 9pm-12am \nThe Social East Asheville – 9pm-12am (exclude Feb 8) \nThe Double Crown – 10pm-2am \nPlease verify with the venue on times and KJ. \n 
URL:https://livemusicasheville.com/calendar/sunday-karaoke-2/2027-01-24/
LOCATION:Asheville Area
CATEGORIES:Asheville Area,Black Mountain,Karaoke,South Asheville/Arden/Fletcher,Weaverville
END:VEVENT
BEGIN:VEVENT
DTSTART;TZID=America/New_York:20270126T170000
DTEND;TZID=America/New_York:20270127T010000
DTSTAMP:20260425T171625
CREATED:20250114T165902Z
LAST-MODIFIED:20260422T152410Z
UID:10052423-1800982800-1801011600@livemusicasheville.com
SUMMARY:Tuesday Karaoke
DESCRIPTION:Sierra Nevada Mills River – 5-9pm (April 28) \nWild Wing Cafe – 8-11pm \nThe One Stop – 10pm-1am \n 
URL:https://livemusicasheville.com/calendar/tuesday-karaoke/2027-01-26/
LOCATION:Asheville Area
CATEGORIES:Asheville Area,Karaoke
END:VEVENT
BEGIN:VEVENT
DTSTART;TZID=America/New_York:20270127T200000
DTEND;TZID=America/New_York:20270128T020000
DTSTAMP:20260425T171625
CREATED:20251223T121045Z
LAST-MODIFIED:20260407T133820Z
UID:10035451-1801080000-1801101600@livemusicasheville.com
SUMMARY:Wednesday Karaoke
DESCRIPTION:Kootie Lounge Asheville at Haikuavl – 7-9pm (1st\, 2nd & 4th Wednesdays) \nPeri Social House Black Mountain – 7-9pm (April 1) \nThe Social East Asheville – 8-11pm \nOHenrys – 8-11:30pm \nSticks on Broadway – 8-11pm (March 4) \nFleetwoods – PSK – 9pm-1am (March 18) \nThe Lazy Diamond – 10pm-2am \n The Odd – 9pm-1am (exclude 4/8 & 4/29) \nPlease verify times and KJ with the venue. \n  \n\n 
URL:https://livemusicasheville.com/calendar/wednesday-karaoke-2/2027-01-27/
LOCATION:Asheville Area
CATEGORIES:Asheville Area,Black Mountain,Karaoke,Mills River
END:VEVENT
BEGIN:VEVENT
DTSTART;TZID=America/New_York:20270128T190000
DTEND;TZID=America/New_York:20270129T020000
DTSTAMP:20260425T171625
CREATED:20251121T203604Z
LAST-MODIFIED:20260422T115043Z
UID:10033351-1801162800-1801188000@livemusicasheville.com
SUMMARY:Thursday Karaoke
DESCRIPTION:Please verify times and KJ with the venue! \n  \nTurgua Brewing Fairview – 6-8pm (April 16) \nAsheville Sports Club – 7-10pm \nThe Social East Asheville – 7-11pm \nDaddy Mac’s Downhome Dive – 8-11pm \nShiloh and Gaines – 8-11pm \nVOWL – 8-11pm  \nFleetwoods – 8pm-12am (April 23 indie/punk) \nStatic Age Loft 10pm-2am \nShakeys Dive Bar 9pm-2am
URL:https://livemusicasheville.com/calendar/thursday-weekly-karaoke-2/2027-01-28/
LOCATION:Asheville Area
CATEGORIES:Asheville Area,Karaoke,Madison County,South Asheville/Arden/Fletcher
END:VEVENT
BEGIN:VEVENT
DTSTART;TZID=America/New_York:20270129T190000
DTEND;TZID=America/New_York:20270130T010000
DTSTAMP:20260425T171625
CREATED:20241225T141623Z
LAST-MODIFIED:20260416T110217Z
UID:10056377-1801249200-1801270800@livemusicasheville.com
SUMMARY:Friday Karaoke
DESCRIPTION:  \n7-10pm – Mal’s Bar Marshall (February 20) \n7-10pm- Noble Cider (April 10) \n8pm-12am – Silverados Black Mountain \n8-11pm – Dalton Distillery (April 17) \n8-11pm – T Birds Weaverville \n8:30-11pm – The Village Porch Woodfin (April 17) \n8pm-1am – Fleetwoods (Feb 27) \n9pm-12am – Brewskies Fairview   \n9pm-12am – Little Creek Tavern Fletcher  \n9pm-1am – Handlebar & Grill \n9pm- 1am – O’Henrys \n9:30pm-1:30am – The Crowbar Downtown \n10pm – 2am – Shakeys \nVerify time and KJ with The Venue. \n  \n  \n\n 
URL:https://livemusicasheville.com/calendar/friday-weekly-karaoke/2027-01-29/
LOCATION:Asheville Area
CATEGORIES:Asheville Area,Black Mountain,Fairview,Karaoke,Madison County,Weaverville
END:VEVENT
BEGIN:VEVENT
DTSTART;TZID=America/New_York:20270130T110000
DTEND;TZID=America/New_York:20270131T010000
DTSTAMP:20260425T171625
CREATED:20241225T201123Z
LAST-MODIFIED:20260422T210726Z
UID:10053649-1801306800-1801357200@livemusicasheville.com
SUMMARY:Saturday Karaoke
DESCRIPTION:Ben’s Tune Up – 11am-2pm (1st & 3rd Saturdays) \nWagworld Pub – 6-9pm (April 25) \nLookout Brewing Black Mountain – 7-10pm (April 18) \nThe Whale South Slope – 7-10pm (April 18) \nIce Bar Arden – 8pm-12am (April 25) \nLiondog Lounge Weaverville – 8pm-12am (every other week) \nT Birds Weaverville – 8-11pm \nThe Burger Bar – 8pm-1am \nThe Social East Asheville – 9pm-1am \n  \n  \nPlease verify times and KJ with the venue.
URL:https://livemusicasheville.com/calendar/saturday-karaoke/2027-01-30/
CATEGORIES:Asheville Area,Karaoke
END:VEVENT
BEGIN:VEVENT
DTSTART;TZID=America/New_York:20270131T160000
DTEND;TZID=America/New_York:20270201T020000
DTSTAMP:20260425T171625
CREATED:20260125T153955Z
LAST-MODIFIED:20260412T125122Z
UID:10041131-1801411200-1801447200@livemusicasheville.com
SUMMARY:Sunday Karaoke
DESCRIPTION:T Birds Weaverville – 4-8pm \nStatic Age Loft – 6-9pm (April 12) \nEda’s Hideaway Weaverville – 7-10pm \nBanks Ave – 9pm-12am \nThe Social East Asheville – 9pm-12am (exclude Feb 8) \nThe Double Crown – 10pm-2am \nPlease verify with the venue on times and KJ. \n 
URL:https://livemusicasheville.com/calendar/sunday-karaoke-2/2027-01-31/
LOCATION:Asheville Area
CATEGORIES:Asheville Area,Black Mountain,Karaoke,South Asheville/Arden/Fletcher,Weaverville
END:VEVENT
BEGIN:VEVENT
DTSTART;TZID=America/New_York:20270202T170000
DTEND;TZID=America/New_York:20270203T010000
DTSTAMP:20260425T171625
CREATED:20250114T165902Z
LAST-MODIFIED:20260422T152410Z
UID:10052424-1801587600-1801616400@livemusicasheville.com
SUMMARY:Tuesday Karaoke
DESCRIPTION:Sierra Nevada Mills River – 5-9pm (April 28) \nWild Wing Cafe – 8-11pm \nThe One Stop – 10pm-1am \n 
URL:https://livemusicasheville.com/calendar/tuesday-karaoke/2027-02-02/
LOCATION:Asheville Area
CATEGORIES:Asheville Area,Karaoke
END:VEVENT
BEGIN:VEVENT
DTSTART;TZID=America/New_York:20270203T200000
DTEND;TZID=America/New_York:20270204T020000
DTSTAMP:20260425T171625
CREATED:20251223T121045Z
LAST-MODIFIED:20260407T133820Z
UID:10035452-1801684800-1801706400@livemusicasheville.com
SUMMARY:Wednesday Karaoke
DESCRIPTION:Kootie Lounge Asheville at Haikuavl – 7-9pm (1st\, 2nd & 4th Wednesdays) \nPeri Social House Black Mountain – 7-9pm (April 1) \nThe Social East Asheville – 8-11pm \nOHenrys – 8-11:30pm \nSticks on Broadway – 8-11pm (March 4) \nFleetwoods – PSK – 9pm-1am (March 18) \nThe Lazy Diamond – 10pm-2am \n The Odd – 9pm-1am (exclude 4/8 & 4/29) \nPlease verify times and KJ with the venue. \n  \n\n 
URL:https://livemusicasheville.com/calendar/wednesday-karaoke-2/2027-02-03/
LOCATION:Asheville Area
CATEGORIES:Asheville Area,Black Mountain,Karaoke,Mills River
END:VEVENT
BEGIN:VEVENT
DTSTART;TZID=America/New_York:20270204T190000
DTEND;TZID=America/New_York:20270205T020000
DTSTAMP:20260425T171625
CREATED:20251121T203604Z
LAST-MODIFIED:20260422T115043Z
UID:10033352-1801767600-1801792800@livemusicasheville.com
SUMMARY:Thursday Karaoke
DESCRIPTION:Please verify times and KJ with the venue! \n  \nTurgua Brewing Fairview – 6-8pm (April 16) \nAsheville Sports Club – 7-10pm \nThe Social East Asheville – 7-11pm \nDaddy Mac’s Downhome Dive – 8-11pm \nShiloh and Gaines – 8-11pm \nVOWL – 8-11pm  \nFleetwoods – 8pm-12am (April 23 indie/punk) \nStatic Age Loft 10pm-2am \nShakeys Dive Bar 9pm-2am
URL:https://livemusicasheville.com/calendar/thursday-weekly-karaoke-2/2027-02-04/
LOCATION:Asheville Area
CATEGORIES:Asheville Area,Karaoke,Madison County,South Asheville/Arden/Fletcher
END:VEVENT
BEGIN:VEVENT
DTSTART;TZID=America/New_York:20270205T190000
DTEND;TZID=America/New_York:20270206T010000
DTSTAMP:20260425T171625
CREATED:20241225T141623Z
LAST-MODIFIED:20260416T110217Z
UID:10056378-1801854000-1801875600@livemusicasheville.com
SUMMARY:Friday Karaoke
DESCRIPTION:  \n7-10pm – Mal’s Bar Marshall (February 20) \n7-10pm- Noble Cider (April 10) \n8pm-12am – Silverados Black Mountain \n8-11pm – Dalton Distillery (April 17) \n8-11pm – T Birds Weaverville \n8:30-11pm – The Village Porch Woodfin (April 17) \n8pm-1am – Fleetwoods (Feb 27) \n9pm-12am – Brewskies Fairview   \n9pm-12am – Little Creek Tavern Fletcher  \n9pm-1am – Handlebar & Grill \n9pm- 1am – O’Henrys \n9:30pm-1:30am – The Crowbar Downtown \n10pm – 2am – Shakeys \nVerify time and KJ with The Venue. \n  \n  \n\n 
URL:https://livemusicasheville.com/calendar/friday-weekly-karaoke/2027-02-05/
LOCATION:Asheville Area
CATEGORIES:Asheville Area,Black Mountain,Fairview,Karaoke,Madison County,Weaverville
END:VEVENT
BEGIN:VEVENT
DTSTART;TZID=America/New_York:20270206T110000
DTEND;TZID=America/New_York:20270207T010000
DTSTAMP:20260425T171625
CREATED:20241225T201123Z
LAST-MODIFIED:20260422T210726Z
UID:10053650-1801911600-1801962000@livemusicasheville.com
SUMMARY:Saturday Karaoke
DESCRIPTION:Ben’s Tune Up – 11am-2pm (1st & 3rd Saturdays) \nWagworld Pub – 6-9pm (April 25) \nLookout Brewing Black Mountain – 7-10pm (April 18) \nThe Whale South Slope – 7-10pm (April 18) \nIce Bar Arden – 8pm-12am (April 25) \nLiondog Lounge Weaverville – 8pm-12am (every other week) \nT Birds Weaverville – 8-11pm \nThe Burger Bar – 8pm-1am \nThe Social East Asheville – 9pm-1am \n  \n  \nPlease verify times and KJ with the venue.
URL:https://livemusicasheville.com/calendar/saturday-karaoke/2027-02-06/
CATEGORIES:Asheville Area,Karaoke
END:VEVENT
BEGIN:VEVENT
DTSTART;TZID=America/New_York:20270207T160000
DTEND;TZID=America/New_York:20270208T020000
DTSTAMP:20260425T171625
CREATED:20260125T153955Z
LAST-MODIFIED:20260412T125122Z
UID:10041132-1802016000-1802052000@livemusicasheville.com
SUMMARY:Sunday Karaoke
DESCRIPTION:T Birds Weaverville – 4-8pm \nStatic Age Loft – 6-9pm (April 12) \nEda’s Hideaway Weaverville – 7-10pm \nBanks Ave – 9pm-12am \nThe Social East Asheville – 9pm-12am (exclude Feb 8) \nThe Double Crown – 10pm-2am \nPlease verify with the venue on times and KJ. \n 
URL:https://livemusicasheville.com/calendar/sunday-karaoke-2/2027-02-07/
LOCATION:Asheville Area
CATEGORIES:Asheville Area,Black Mountain,Karaoke,South Asheville/Arden/Fletcher,Weaverville
END:VEVENT
BEGIN:VEVENT
DTSTART;TZID=America/New_York:20270209T170000
DTEND;TZID=America/New_York:20270210T010000
DTSTAMP:20260425T171625
CREATED:20250114T165902Z
LAST-MODIFIED:20260422T152410Z
UID:10052425-1802192400-1802221200@livemusicasheville.com
SUMMARY:Tuesday Karaoke
DESCRIPTION:Sierra Nevada Mills River – 5-9pm (April 28) \nWild Wing Cafe – 8-11pm \nThe One Stop – 10pm-1am \n 
URL:https://livemusicasheville.com/calendar/tuesday-karaoke/2027-02-09/
LOCATION:Asheville Area
CATEGORIES:Asheville Area,Karaoke
END:VEVENT
BEGIN:VEVENT
DTSTART;TZID=America/New_York:20270210T200000
DTEND;TZID=America/New_York:20270211T020000
DTSTAMP:20260425T171625
CREATED:20251223T121045Z
LAST-MODIFIED:20260407T133820Z
UID:10035453-1802289600-1802311200@livemusicasheville.com
SUMMARY:Wednesday Karaoke
DESCRIPTION:Kootie Lounge Asheville at Haikuavl – 7-9pm (1st\, 2nd & 4th Wednesdays) \nPeri Social House Black Mountain – 7-9pm (April 1) \nThe Social East Asheville – 8-11pm \nOHenrys – 8-11:30pm \nSticks on Broadway – 8-11pm (March 4) \nFleetwoods – PSK – 9pm-1am (March 18) \nThe Lazy Diamond – 10pm-2am \n The Odd – 9pm-1am (exclude 4/8 & 4/29) \nPlease verify times and KJ with the venue. \n  \n\n 
URL:https://livemusicasheville.com/calendar/wednesday-karaoke-2/2027-02-10/
LOCATION:Asheville Area
CATEGORIES:Asheville Area,Black Mountain,Karaoke,Mills River
END:VEVENT
BEGIN:VEVENT
DTSTART;TZID=America/New_York:20270211T190000
DTEND;TZID=America/New_York:20270212T020000
DTSTAMP:20260425T171625
CREATED:20251121T203604Z
LAST-MODIFIED:20260422T115043Z
UID:10033353-1802372400-1802397600@livemusicasheville.com
SUMMARY:Thursday Karaoke
DESCRIPTION:Please verify times and KJ with the venue! \n  \nTurgua Brewing Fairview – 6-8pm (April 16) \nAsheville Sports Club – 7-10pm \nThe Social East Asheville – 7-11pm \nDaddy Mac’s Downhome Dive – 8-11pm \nShiloh and Gaines – 8-11pm \nVOWL – 8-11pm  \nFleetwoods – 8pm-12am (April 23 indie/punk) \nStatic Age Loft 10pm-2am \nShakeys Dive Bar 9pm-2am
URL:https://livemusicasheville.com/calendar/thursday-weekly-karaoke-2/2027-02-11/
LOCATION:Asheville Area
CATEGORIES:Asheville Area,Karaoke,Madison County,South Asheville/Arden/Fletcher
END:VEVENT
BEGIN:VEVENT
DTSTART;TZID=America/New_York:20270212T190000
DTEND;TZID=America/New_York:20270213T010000
DTSTAMP:20260425T171625
CREATED:20241225T141623Z
LAST-MODIFIED:20260416T110217Z
UID:10056379-1802458800-1802480400@livemusicasheville.com
SUMMARY:Friday Karaoke
DESCRIPTION:  \n7-10pm – Mal’s Bar Marshall (February 20) \n7-10pm- Noble Cider (April 10) \n8pm-12am – Silverados Black Mountain \n8-11pm – Dalton Distillery (April 17) \n8-11pm – T Birds Weaverville \n8:30-11pm – The Village Porch Woodfin (April 17) \n8pm-1am – Fleetwoods (Feb 27) \n9pm-12am – Brewskies Fairview   \n9pm-12am – Little Creek Tavern Fletcher  \n9pm-1am – Handlebar & Grill \n9pm- 1am – O’Henrys \n9:30pm-1:30am – The Crowbar Downtown \n10pm – 2am – Shakeys \nVerify time and KJ with The Venue. \n  \n  \n\n 
URL:https://livemusicasheville.com/calendar/friday-weekly-karaoke/2027-02-12/
LOCATION:Asheville Area
CATEGORIES:Asheville Area,Black Mountain,Fairview,Karaoke,Madison County,Weaverville
END:VEVENT
BEGIN:VEVENT
DTSTART;TZID=America/New_York:20270213T110000
DTEND;TZID=America/New_York:20270214T010000
DTSTAMP:20260425T171625
CREATED:20241225T201123Z
LAST-MODIFIED:20260422T210726Z
UID:10053651-1802516400-1802566800@livemusicasheville.com
SUMMARY:Saturday Karaoke
DESCRIPTION:Ben’s Tune Up – 11am-2pm (1st & 3rd Saturdays) \nWagworld Pub – 6-9pm (April 25) \nLookout Brewing Black Mountain – 7-10pm (April 18) \nThe Whale South Slope – 7-10pm (April 18) \nIce Bar Arden – 8pm-12am (April 25) \nLiondog Lounge Weaverville – 8pm-12am (every other week) \nT Birds Weaverville – 8-11pm \nThe Burger Bar – 8pm-1am \nThe Social East Asheville – 9pm-1am \n  \n  \nPlease verify times and KJ with the venue.
URL:https://livemusicasheville.com/calendar/saturday-karaoke/2027-02-13/
CATEGORIES:Asheville Area,Karaoke
END:VEVENT
BEGIN:VEVENT
DTSTART;TZID=America/New_York:20270214T160000
DTEND;TZID=America/New_York:20270215T020000
DTSTAMP:20260425T171625
CREATED:20260125T153955Z
LAST-MODIFIED:20260412T125122Z
UID:10041133-1802620800-1802656800@livemusicasheville.com
SUMMARY:Sunday Karaoke
DESCRIPTION:T Birds Weaverville – 4-8pm \nStatic Age Loft – 6-9pm (April 12) \nEda’s Hideaway Weaverville – 7-10pm \nBanks Ave – 9pm-12am \nThe Social East Asheville – 9pm-12am (exclude Feb 8) \nThe Double Crown – 10pm-2am \nPlease verify with the venue on times and KJ. \n 
URL:https://livemusicasheville.com/calendar/sunday-karaoke-2/2027-02-14/
LOCATION:Asheville Area
CATEGORIES:Asheville Area,Black Mountain,Karaoke,South Asheville/Arden/Fletcher,Weaverville
END:VEVENT
BEGIN:VEVENT
DTSTART;TZID=America/New_York:20270216T170000
DTEND;TZID=America/New_York:20270217T010000
DTSTAMP:20260425T171625
CREATED:20250114T165902Z
LAST-MODIFIED:20260422T152410Z
UID:10052426-1802797200-1802826000@livemusicasheville.com
SUMMARY:Tuesday Karaoke
DESCRIPTION:Sierra Nevada Mills River – 5-9pm (April 28) \nWild Wing Cafe – 8-11pm \nThe One Stop – 10pm-1am \n 
URL:https://livemusicasheville.com/calendar/tuesday-karaoke/2027-02-16/
LOCATION:Asheville Area
CATEGORIES:Asheville Area,Karaoke
END:VEVENT
BEGIN:VEVENT
DTSTART;TZID=America/New_York:20270217T200000
DTEND;TZID=America/New_York:20270218T020000
DTSTAMP:20260425T171625
CREATED:20251223T121045Z
LAST-MODIFIED:20260407T133820Z
UID:10035454-1802894400-1802916000@livemusicasheville.com
SUMMARY:Wednesday Karaoke
DESCRIPTION:Kootie Lounge Asheville at Haikuavl – 7-9pm (1st\, 2nd & 4th Wednesdays) \nPeri Social House Black Mountain – 7-9pm (April 1) \nThe Social East Asheville – 8-11pm \nOHenrys – 8-11:30pm \nSticks on Broadway – 8-11pm (March 4) \nFleetwoods – PSK – 9pm-1am (March 18) \nThe Lazy Diamond – 10pm-2am \n The Odd – 9pm-1am (exclude 4/8 & 4/29) \nPlease verify times and KJ with the venue. \n  \n\n 
URL:https://livemusicasheville.com/calendar/wednesday-karaoke-2/2027-02-17/
LOCATION:Asheville Area
CATEGORIES:Asheville Area,Black Mountain,Karaoke,Mills River
END:VEVENT
BEGIN:VEVENT
DTSTART;TZID=America/New_York:20270218T190000
DTEND;TZID=America/New_York:20270219T020000
DTSTAMP:20260425T171625
CREATED:20251121T203604Z
LAST-MODIFIED:20260422T115043Z
UID:10033354-1802977200-1803002400@livemusicasheville.com
SUMMARY:Thursday Karaoke
DESCRIPTION:Please verify times and KJ with the venue! \n  \nTurgua Brewing Fairview – 6-8pm (April 16) \nAsheville Sports Club – 7-10pm \nThe Social East Asheville – 7-11pm \nDaddy Mac’s Downhome Dive – 8-11pm \nShiloh and Gaines – 8-11pm \nVOWL – 8-11pm  \nFleetwoods – 8pm-12am (April 23 indie/punk) \nStatic Age Loft 10pm-2am \nShakeys Dive Bar 9pm-2am
URL:https://livemusicasheville.com/calendar/thursday-weekly-karaoke-2/2027-02-18/
LOCATION:Asheville Area
CATEGORIES:Asheville Area,Karaoke,Madison County,South Asheville/Arden/Fletcher
END:VEVENT
BEGIN:VEVENT
DTSTART;TZID=America/New_York:20270219T190000
DTEND;TZID=America/New_York:20270220T010000
DTSTAMP:20260425T171625
CREATED:20241225T141623Z
LAST-MODIFIED:20260416T110217Z
UID:10056380-1803063600-1803085200@livemusicasheville.com
SUMMARY:Friday Karaoke
DESCRIPTION:  \n7-10pm – Mal’s Bar Marshall (February 20) \n7-10pm- Noble Cider (April 10) \n8pm-12am – Silverados Black Mountain \n8-11pm – Dalton Distillery (April 17) \n8-11pm – T Birds Weaverville \n8:30-11pm – The Village Porch Woodfin (April 17) \n8pm-1am – Fleetwoods (Feb 27) \n9pm-12am – Brewskies Fairview   \n9pm-12am – Little Creek Tavern Fletcher  \n9pm-1am – Handlebar & Grill \n9pm- 1am – O’Henrys \n9:30pm-1:30am – The Crowbar Downtown \n10pm – 2am – Shakeys \nVerify time and KJ with The Venue. \n  \n  \n\n 
URL:https://livemusicasheville.com/calendar/friday-weekly-karaoke/2027-02-19/
LOCATION:Asheville Area
CATEGORIES:Asheville Area,Black Mountain,Fairview,Karaoke,Madison County,Weaverville
END:VEVENT
BEGIN:VEVENT
DTSTART;TZID=America/New_York:20270220T110000
DTEND;TZID=America/New_York:20270221T010000
DTSTAMP:20260425T171625
CREATED:20241225T201123Z
LAST-MODIFIED:20260422T210726Z
UID:10053652-1803121200-1803171600@livemusicasheville.com
SUMMARY:Saturday Karaoke
DESCRIPTION:Ben’s Tune Up – 11am-2pm (1st & 3rd Saturdays) \nWagworld Pub – 6-9pm (April 25) \nLookout Brewing Black Mountain – 7-10pm (April 18) \nThe Whale South Slope – 7-10pm (April 18) \nIce Bar Arden – 8pm-12am (April 25) \nLiondog Lounge Weaverville – 8pm-12am (every other week) \nT Birds Weaverville – 8-11pm \nThe Burger Bar – 8pm-1am \nThe Social East Asheville – 9pm-1am \n  \n  \nPlease verify times and KJ with the venue.
URL:https://livemusicasheville.com/calendar/saturday-karaoke/2027-02-20/
CATEGORIES:Asheville Area,Karaoke
END:VEVENT
BEGIN:VEVENT
DTSTART;TZID=America/New_York:20270221T160000
DTEND;TZID=America/New_York:20270222T020000
DTSTAMP:20260425T171625
CREATED:20260125T153955Z
LAST-MODIFIED:20260412T125122Z
UID:10041134-1803225600-1803261600@livemusicasheville.com
SUMMARY:Sunday Karaoke
DESCRIPTION:T Birds Weaverville – 4-8pm \nStatic Age Loft – 6-9pm (April 12) \nEda’s Hideaway Weaverville – 7-10pm \nBanks Ave – 9pm-12am \nThe Social East Asheville – 9pm-12am (exclude Feb 8) \nThe Double Crown – 10pm-2am \nPlease verify with the venue on times and KJ. \n 
URL:https://livemusicasheville.com/calendar/sunday-karaoke-2/2027-02-21/
LOCATION:Asheville Area
CATEGORIES:Asheville Area,Black Mountain,Karaoke,South Asheville/Arden/Fletcher,Weaverville
END:VEVENT
END:VCALENDAR