BEGIN:VCALENDAR
VERSION:2.0
PRODID:-//LiveMusicAsheville.com - ECPv6.15.20//NONSGML v1.0//EN
CALSCALE:GREGORIAN
METHOD:PUBLISH
X-WR-CALNAME:LiveMusicAsheville.com
X-ORIGINAL-URL:https://livemusicasheville.com
X-WR-CALDESC:Events for LiveMusicAsheville.com
REFRESH-INTERVAL;VALUE=DURATION:PT1H
X-Robots-Tag:noindex
X-PUBLISHED-TTL:PT1H
BEGIN:VTIMEZONE
TZID:America/New_York
BEGIN:DAYLIGHT
TZOFFSETFROM:-0500
TZOFFSETTO:-0400
TZNAME:EDT
DTSTART:20250309T070000
END:DAYLIGHT
BEGIN:STANDARD
TZOFFSETFROM:-0400
TZOFFSETTO:-0500
TZNAME:EST
DTSTART:20251102T060000
END:STANDARD
BEGIN:DAYLIGHT
TZOFFSETFROM:-0500
TZOFFSETTO:-0400
TZNAME:EDT
DTSTART:20260308T070000
END:DAYLIGHT
BEGIN:STANDARD
TZOFFSETFROM:-0400
TZOFFSETTO:-0500
TZNAME:EST
DTSTART:20261101T060000
END:STANDARD
BEGIN:DAYLIGHT
TZOFFSETFROM:-0500
TZOFFSETTO:-0400
TZNAME:EDT
DTSTART:20270314T070000
END:DAYLIGHT
BEGIN:STANDARD
TZOFFSETFROM:-0400
TZOFFSETTO:-0500
TZNAME:EST
DTSTART:20271107T060000
END:STANDARD
END:VTIMEZONE
BEGIN:VEVENT
DTSTART;TZID=America/New_York:20260426T130000
DTEND;TZID=America/New_York:20260426T200000
DTSTAMP:20260425T230244
CREATED:20260423T153755Z
LAST-MODIFIED:20260423T205318Z
UID:10058946-1777208400-1777233600@livemusicasheville.com
SUMMARY:Shellie Smith benefit ft. Vintage + Karaoke
DESCRIPTION:SHELLIE is a young vibrant mother of 3 with breast cancer.\nShe is employed at Mission Hospital but only qualified for Short term disability. She has gone through that while receiving chemo and is now expected to need a double mastectomy. She is of good nature and a kind spirit.\n\n\nShellie Smith\nBENEFIT: 4/26/26 1-8 pm @\nBREWSKIES: 1585 Charlotte Hwy \nKARAOKE 1-5 w DJ MADDS\nLIVE MUSIC: 5-7 w VINTAGE (rock) \n50/50 Raffle\nRaffle Baskets w gift cards from local businesses! \nSpecial Guest Speaker!\nSpecial Guest Singer for 1 song! \nBBQ PLATES FOR SALE w proceeds going to benefit! \nLooking to donate something! Just drop it by Brewskies anytime hours are listed on their page.\nMoney\, giftcards\, or tangible items welcome (only new or slightly used items worth value). \nRaffle Rules:\nALL RAFFLE TICKETS\n$5 each or 5 for $20 \n50/50 – you keep half/ half goes to Shellie! Optional: you can let her keep it all. No judgement either way! \nYou do not have to be present to win but you must write name/ # clearly!\nYou then have 48 hrs to claim prize. After 8 pm Tuesday all unclaimed prizes will be forfeited to Shellie! \nBrewskies is animal friendly!\nKids welcome w parental discretion and supervision! \nCOME ONE COME ALL!\nLet’s celebrate love\, community\, charity\, good music\, food\, & fun!
URL:https://livemusicasheville.com/calendar/shellie-smith-benefit-ft-vintage/
LOCATION:Brewskies Fairview
CATEGORIES:Asheville Area,Fairview,Karaoke,Live Music
ATTACH;FMTTYPE=image/jpeg:https://livemusicasheville.com/wp-content/uploads/2026/04/677425578_122250111332116740_353323744290215667_n-e1776958524648.jpg
END:VEVENT
BEGIN:VEVENT
DTSTART;TZID=America/New_York:20260426T160000
DTEND;TZID=America/New_York:20260427T020000
DTSTAMP:20260425T230244
CREATED:20260125T153955Z
LAST-MODIFIED:20260412T125122Z
UID:10026771-1777219200-1777255200@livemusicasheville.com
SUMMARY:Sunday Karaoke
DESCRIPTION:T Birds Weaverville – 4-8pm \nStatic Age Loft – 6-9pm (April 12) \nEda’s Hideaway Weaverville – 7-10pm \nBanks Ave – 9pm-12am \nThe Social East Asheville – 9pm-12am (exclude Feb 8) \nThe Double Crown – 10pm-2am \nPlease verify with the venue on times and KJ. \n 
URL:https://livemusicasheville.com/calendar/sunday-karaoke-2/2026-04-26/
LOCATION:Asheville Area
CATEGORIES:Asheville Area,Black Mountain,Karaoke,South Asheville/Arden/Fletcher,Weaverville
END:VEVENT
END:VCALENDAR