BEGIN:VCALENDAR
VERSION:2.0
PRODID:-//LiveMusicAsheville.com - ECPv6.15.20//NONSGML v1.0//EN
CALSCALE:GREGORIAN
METHOD:PUBLISH
X-ORIGINAL-URL:https://livemusicasheville.com
X-WR-CALDESC:Events for LiveMusicAsheville.com
REFRESH-INTERVAL;VALUE=DURATION:PT1H
X-Robots-Tag:noindex
X-PUBLISHED-TTL:PT1H
BEGIN:VTIMEZONE
TZID:America/New_York
BEGIN:DAYLIGHT
TZOFFSETFROM:-0500
TZOFFSETTO:-0400
TZNAME:EDT
DTSTART:20250309T070000
END:DAYLIGHT
BEGIN:STANDARD
TZOFFSETFROM:-0400
TZOFFSETTO:-0500
TZNAME:EST
DTSTART:20251102T060000
END:STANDARD
BEGIN:DAYLIGHT
TZOFFSETFROM:-0500
TZOFFSETTO:-0400
TZNAME:EDT
DTSTART:20260308T070000
END:DAYLIGHT
BEGIN:STANDARD
TZOFFSETFROM:-0400
TZOFFSETTO:-0500
TZNAME:EST
DTSTART:20261101T060000
END:STANDARD
BEGIN:DAYLIGHT
TZOFFSETFROM:-0500
TZOFFSETTO:-0400
TZNAME:EDT
DTSTART:20270314T070000
END:DAYLIGHT
BEGIN:STANDARD
TZOFFSETFROM:-0400
TZOFFSETTO:-0500
TZNAME:EST
DTSTART:20271107T060000
END:STANDARD
END:VTIMEZONE
BEGIN:VEVENT
DTSTART;TZID=America/New_York:20260426T110000
DTEND;TZID=America/New_York:20260427T020000
DTSTAMP:20260422T055116
CREATED:20241225T203202Z
LAST-MODIFIED:20260415T173939Z
UID:10055144-1777201200-1777255200@livemusicasheville.com
SUMMARY:Sunday Weekly DJ Events
DESCRIPTION:Bens Tune Up – 11am-3pm \nWaterstreet – 3-7pm \nLA Pizza Party Rooftop – 6-9pm \nVOWL – 7-11pm \nCheck with the venue for the DJ and cover charges.
URL:https://livemusicasheville.com/calendar/sunday-weekly-dj/2026-04-26/
LOCATION:Asheville Area
CATEGORIES:Asheville Area,DJ/Electronic
END:VEVENT
BEGIN:VEVENT
DTSTART;TZID=America/New_York:20260426T160000
DTEND;TZID=America/New_York:20260426T190000
DTSTAMP:20260422T055116
CREATED:20260125T154344Z
LAST-MODIFIED:20260215T131033Z
UID:10028008-1777219200-1777230000@livemusicasheville.com
SUMMARY:BUTTS & BOOTS :: Line Dancing
DESCRIPTION:
URL:https://livemusicasheville.com/calendar/butts-boots-line-dancing-2-2-2-2/2026-04-26/
LOCATION:Banks Ave
CATEGORIES:Asheville Area,DJ/Electronic
GEO:35.5892908;-82.5536382
END:VEVENT
BEGIN:VEVENT
DTSTART;TZID=America/New_York:20260427T180000
DTEND;TZID=America/New_York:20260428T020000
DTSTAMP:20260422T055116
CREATED:20241226T132023Z
LAST-MODIFIED:20260308T081314Z
UID:10027631-1777312800-1777341600@livemusicasheville.com
SUMMARY:Monday Weekly DJs
DESCRIPTION:Although we are primarily a Live Music Calendar\, we often come across Electronic & DJ events in the area and list them for you as we find out about them. Please verify the DJ\, times and cover charges with the venue. \nAntidote – 6-9pm \nCoffee Art Music Type Place (CAMP) – 7-9pm (swing) \nLazy Diamond- 10pm-2am \nCheck with the venue on tonight’s djs and cover charges.
URL:https://livemusicasheville.com/calendar/monday-djs/2026-04-27/
LOCATION:Asheville Area
CATEGORIES:Asheville Area,DJ/Electronic
END:VEVENT
BEGIN:VEVENT
DTSTART;TZID=America/New_York:20260428T183000
DTEND;TZID=America/New_York:20260428T210000
DTSTAMP:20260422T055116
CREATED:20260409T092256Z
LAST-MODIFIED:20260409T092257Z
UID:10027781-1777401000-1777410000@livemusicasheville.com
SUMMARY:Mountain Shag Club
DESCRIPTION:
URL:https://livemusicasheville.com/calendar/mountain-shag-club-2/2026-04-28/
LOCATION:The Mule at Devils Foot Beverages\, 131 Sweeten Creek Road\, Asheville\, NC\, 28803\, United States
CATEGORIES:Asheville Area,DJ/Electronic
GEO:35.5588369;-82.5218977
X-APPLE-STRUCTURED-LOCATION;VALUE=URI;X-ADDRESS=The Mule at Devils Foot Beverages 131 Sweeten Creek Road Asheville NC 28803 United States;X-APPLE-RADIUS=500;X-TITLE=131 Sweeten Creek Road:geo:-82.5218977,35.5588369
END:VEVENT
BEGIN:VEVENT
DTSTART;TZID=America/New_York:20260428T190000
DTEND;TZID=America/New_York:20260429T020000
DTSTAMP:20260422T055116
CREATED:20241226T144543Z
LAST-MODIFIED:20260224T090529Z
UID:10046535-1777402800-1777428000@livemusicasheville.com
SUMMARY:Tuesday Weekly DJ Schedule
DESCRIPTION:Although we are primarily a Live Music Calendar\, we often come across Electronic & DJ events in the area and list them for you as we find out about them. Please verify the DJ\, times and cover charges with the venue. \nPotential New Boyfriend – 7-11pm \nThird Room (open decks) – 8pm-12am \nThe Double Crown – 10pm-2am \nLazy Diamond – 10pm-2am \nShakeys – 10pm-2am
URL:https://livemusicasheville.com/calendar/tuesday-weekly-dj-schedule/2026-04-28/
LOCATION:NC
CATEGORIES:Asheville Area,DJ/Electronic
END:VEVENT
BEGIN:VEVENT
DTSTART;TZID=America/New_York:20260429T180000
DTEND;TZID=America/New_York:20260429T210000
DTSTAMP:20260422T055116
CREATED:20260114T160602Z
LAST-MODIFIED:20260114T160604Z
UID:10022417-1777485600-1777496400@livemusicasheville.com
SUMMARY:Country Line Dance Lessons and Dancing
DESCRIPTION:
URL:https://livemusicasheville.com/calendar/country-line-dance-lessons-and-dancing-2/2026-04-29/
LOCATION:Eda’s Hide-a-Way Weaverville
CATEGORIES:Asheville Area,DJ/Electronic,Weaverville
GEO:35.6970547;-82.5606851
END:VEVENT
BEGIN:VEVENT
DTSTART;TZID=America/New_York:20260429T190000
DTEND;TZID=America/New_York:20260429T220000
DTSTAMP:20260422T055116
CREATED:20250902T235040Z
LAST-MODIFIED:20260219T020732Z
UID:10037193-1777489200-1777500000@livemusicasheville.com
SUMMARY:Swing Asheville Dance and Lesson
DESCRIPTION:We have moved our Wednesday night location to Coffee Art Music type Place (CAMP) at 1 Kenilworth Knolls #1\, Asheville\, NC 28805!!!\nJoin us for our weekly dance series Wednesday night at Coffee Art Music type Place!\n\n\n\nA lesson is included with your $10 entry. ($5 for students with i.d.)
URL:https://livemusicasheville.com/calendar/swing-asheville-dance-and-lesson-2-2-3/2026-04-29/
LOCATION:Coffee Art Music type Place\, 1 Kenilworth Knolls Suite 1\, Asheville\, NC\,
CATEGORIES:Asheville Area,DJ/Electronic
GEO:35.5895785;-82.5285828
X-APPLE-STRUCTURED-LOCATION;VALUE=URI;X-ADDRESS=Coffee Art Music type Place 1 Kenilworth Knolls Suite 1 Asheville NC;X-APPLE-RADIUS=500;X-TITLE=1 Kenilworth Knolls Suite 1\, Asheville\, NC\,:geo:-82.5285828,35.5895785
END:VEVENT
BEGIN:VEVENT
DTSTART;TZID=America/New_York:20260429T200000
DTEND;TZID=America/New_York:20260430T000000
DTSTAMP:20260422T055116
CREATED:20260324T165603Z
LAST-MODIFIED:20260324T165604Z
UID:10024030-1777492800-1777507200@livemusicasheville.com
SUMMARY:Latin Night Wednesdays
DESCRIPTION:
URL:https://livemusicasheville.com/calendar/latin-night-wednesdays-2-2-2-2-2/2026-04-29/
LOCATION:One World Brewing – West\, 520 Haywood Rd\, Asheville\, North Carolina\, 28806
CATEGORIES:Asheville Area,DJ/Electronic
GEO:35.5783642;-82.5848526
X-APPLE-STRUCTURED-LOCATION;VALUE=URI;X-ADDRESS=One World Brewing – West 520 Haywood Rd Asheville North Carolina 28806;X-APPLE-RADIUS=500;X-TITLE=520 Haywood Rd:geo:-82.5848526,35.5783642
END:VEVENT
BEGIN:VEVENT
DTSTART;TZID=America/New_York:20260429T200000
DTEND;TZID=America/New_York:20260430T020000
DTSTAMP:20260422T055116
CREATED:20251222T163440Z
LAST-MODIFIED:20260408T184720Z
UID:10027955-1777492800-1777514400@livemusicasheville.com
SUMMARY:Wednesday Weekly DJs
DESCRIPTION:Although we are primarily a Live Music Calendar\, we often come across Electronic & DJ events in the area and list them for you as we find out about them. Please verify the DJ\, times and cover charges with the venue. \nOne World Brewing West – 8pm-12am (Latin dance) \nThe One Stop -9pm-12am (until 5/27) \nShakeys Dive Bar – 10pm-2am \nVerify with the venue for the DJs and cover charges. \n 
URL:https://livemusicasheville.com/calendar/wednesday-weekely-djs-2/2026-04-29/
LOCATION:Asheville Area
CATEGORIES:Asheville Area,DJ/Electronic
END:VEVENT
BEGIN:VEVENT
DTSTART;TZID=America/New_York:20260430T160000
DTEND;TZID=America/New_York:20260430T210000
DTSTAMP:20260422T055116
CREATED:20260415T095936Z
LAST-MODIFIED:20260415T095937Z
UID:10056755-1777564800-1777582800@livemusicasheville.com
SUMMARY:Golden Hour: Thursdays at The Mule
DESCRIPTION:This is what we mean by “Keep It Fresh. Drink It In.”.  Thursdays April through August\, we’re settin’ the almost-weekend vibes on our patio with a live DJ\, local beverage partners\, and interactive experiences. Each month will highlight a different local craft beverage brand\, and they’ll be here offering samples and giveaways! You’ll also have the opportunity to sink into an interactive craft experience\, take advantage of our rotating Build Your Own bar\, and shake off the day to the different sounds of our rotating DJ lineup. \nThis is free to attend\, and sure to be your Thursday go-to for Spring & Summer.
URL:https://livemusicasheville.com/calendar/golden-hour-thursdays-at-the-mule-2/2026-04-30/
LOCATION:The Mule at Devils Foot Beverages\, 131 Sweeten Creek Road\, Asheville\, NC\, 28803\, United States
CATEGORIES:Asheville Area,DJ/Electronic
ATTACH;FMTTYPE=image/png:https://livemusicasheville.com/wp-content/uploads/2026/04/Screenshot-2026-04-15-054852-e1776247079732.png
GEO:35.5588369;-82.5218977
X-APPLE-STRUCTURED-LOCATION;VALUE=URI;X-ADDRESS=The Mule at Devils Foot Beverages 131 Sweeten Creek Road Asheville NC 28803 United States;X-APPLE-RADIUS=500;X-TITLE=131 Sweeten Creek Road:geo:-82.5218977,35.5588369
END:VEVENT
BEGIN:VEVENT
DTSTART;TZID=America/New_York:20260430T180000
DTEND;TZID=America/New_York:20260430T210000
DTSTAMP:20260422T055116
CREATED:20251121T203137Z
LAST-MODIFIED:20260107T125034Z
UID:10024963-1777572000-1777582800@livemusicasheville.com
SUMMARY:BUTTS & BOOTS :: Line Dancing
DESCRIPTION:
URL:https://livemusicasheville.com/calendar/butts-boots-line-dancing-3/2026-04-30/
LOCATION:Banks Ave
CATEGORIES:Asheville Area,DJ/Electronic
GEO:35.5892908;-82.5536382
END:VEVENT
BEGIN:VEVENT
DTSTART;TZID=America/New_York:20260430T180000
DTEND;TZID=America/New_York:20260430T230000
DTSTAMP:20260422T055116
CREATED:20251121T202643Z
LAST-MODIFIED:20260416T174209Z
UID:10024915-1777572000-1777590000@livemusicasheville.com
SUMMARY:Thursday Open Mics / Jams
DESCRIPTION:Bluegrass Jam @ Zuma Coffee Marshall – 6-8pm (first & third Thursdays) \nTrue Home Open Mic Night @Flood Gallery Fine Art Center (new location) 6-8:30pm \nBlunt Pretzels Swannanoa – 6-9pm \n \nGarden Creek Foundation Community Barn Jam – 6-9pm (Third Thursdays) \nOld Time or Irish Session @Leveller Brewing Co Weaverville – 6-9pm (Old Time 1st & 3rd Thursdays\, Irish Session 2nd & 4th Thursdays) \nHi Wire South Slope – 6-9pm \nWheelhouse South Slope – 7-10pm \nPlant Bar South Slope – 7-9pm (1st & 3rd Thursdays) \nBens Tune Up – 8-11pm (open mic/decks) \n  \n  \n 
URL:https://livemusicasheville.com/calendar/thursday-open-mics-jams-2/2026-04-30/
LOCATION:Asheville Area
CATEGORIES:Asheville Area,DJ/Electronic,Open MIc/Jam
END:VEVENT
BEGIN:VEVENT
DTSTART;TZID=America/New_York:20260430T180000
DTEND;TZID=America/New_York:20260501T020000
DTSTAMP:20260422T055116
CREATED:20251121T203413Z
LAST-MODIFIED:20260408T094503Z
UID:10025040-1777572000-1777600800@livemusicasheville.com
SUMMARY:Thursday Weekly DJs
DESCRIPTION:Although we are primarily a Live Music Calendar\, we often come across Electronic & DJ events in the area and list them for you as we find out about them. Please verify the DJ\, times and cover charges with the venue. \nThe Mule at Devils Foot Beverages – 4-9pm (Starts April 23) \nEda Rhyne Distilling – 6-9pm \nPotential New Boyfriend – 7-10pm \nSticks on Broadway – 10pm -2am \nLazy Diamond – 10pm-2am \nThe Double Crown – 10pm-2am \nCheck with the for DJs and covers.
URL:https://livemusicasheville.com/calendar/thursday-weekly-djs-2/2026-04-30/
LOCATION:Asheville Area
CATEGORIES:Asheville Area,DJ/Electronic
END:VEVENT
BEGIN:VEVENT
DTSTART;TZID=America/New_York:20260430T203000
DTEND;TZID=America/New_York:20260501T000000
DTSTAMP:20260422T055116
CREATED:20251121T204451Z
LAST-MODIFIED:20251121T204452Z
UID:10025434-1777581000-1777593600@livemusicasheville.com
SUMMARY:Bachata Thursday
DESCRIPTION:
URL:https://livemusicasheville.com/calendar/bachata-thursday-2/2026-04-30/
LOCATION:Urban Orchard Cider Co
CATEGORIES:Asheville Area,DJ/Electronic
END:VEVENT
BEGIN:VEVENT
DTSTART;TZID=America/New_York:20260501T180000
DTEND;TZID=America/New_York:20260502T020000
DTSTAMP:20260422T055116
CREATED:20241225T134450Z
LAST-MODIFIED:20260415T173808Z
UID:10027312-1777658400-1777687200@livemusicasheville.com
SUMMARY:Friday Weekly DJ's
DESCRIPTION:Although we are primarily a Live Music Calendar\, we often come across Electronic & DJ events in the area and list them for you as we find out about them. Please verify the DJ\, times and cover charges with the venue. \nLA Pizza Party Rooftop – 6-9pm \nThe Radical – 6-11pm \nPotential New Boyfriend – 7:30-11pm \nCapella On 9 – 8-11pm \nBen’s Tune Up – 8-11pm \nAntidote – 9-11pm \nBanks Ave – 9-11:30pm \nVOWL – 9pm-1am \nDouble Crown – 9pm-2am \nHavana Miami – 9pm-2am \nStatic Age Loft – 9pm-2am \nWaterstreet – 9pm-2am \nLa Pizza Party – 10pm-2am \nThe Barksdale – 10pm-2am \nLazy Diamond – 10pm-2am \nSticks On Broadway – 10pm-2am \nStrange Magic Bar – 10pm-2am \nShakeys – 10pm-2am \n  \nVerify with the venue on times\, cover charges and tonight’s DJ.
URL:https://livemusicasheville.com/calendar/friday-weekly-dj-schedule/2026-05-01/
LOCATION:Asheville Area
CATEGORIES:Asheville Area,DJ/Electronic
END:VEVENT
BEGIN:VEVENT
DTSTART;TZID=America/New_York:20260502T180000
DTEND;TZID=America/New_York:20260503T020000
DTSTAMP:20260422T055116
CREATED:20241225T200257Z
LAST-MODIFIED:20260415T173722Z
UID:10026687-1777744800-1777773600@livemusicasheville.com
SUMMARY:Saturday Weekly DJ's
DESCRIPTION:Although we are primarily a Live Music Calendar\, we often come across Electronic & DJ events in the area and list them for you as we find out about them. Please verify the DJ\, times and cover charges with the venue. \nWaterstreet – 3-7pm \nLA Pizza Party Rooftop – 6-9pm \nThe Radical – 6-11pm \nPotential New Boyfriend – 7:30-11pm \nCapella On 9 – 8-11pm \nBen’s Tune Up – 8-11pm \nThe Tiki Easy Bar – 9pm-12am \nBanks Ave – 9-11:30pm \nHavana Miami – 9pm-2am \nStatic Age Loft – 9pm-2am \nWaterstreet – 9pm-2am \nNightshade – 9pm-1am \nVOWL – 9pm-1am \nLa Pizza Party South Slope – 10pm-2am \nFarməse – 10pm-1am \nThe Barksdale – 10pm-2am \nDouble Crown – 10pm-2am \nLazy Diamond – 10pm-2am \nStrange Magic Bar – 10pm-2am \nShakeys – 10pm-2am \nVerify with the venue on time\, cover charges and tonight’s DJ.
URL:https://livemusicasheville.com/calendar/saturday-weekly-dj-schedule/2026-05-02/
LOCATION:NC
CATEGORIES:Asheville Area,DJ/Electronic
END:VEVENT
BEGIN:VEVENT
DTSTART;TZID=America/New_York:20260503T110000
DTEND;TZID=America/New_York:20260504T020000
DTSTAMP:20260422T055116
CREATED:20241225T203202Z
LAST-MODIFIED:20260415T173939Z
UID:10055145-1777806000-1777860000@livemusicasheville.com
SUMMARY:Sunday Weekly DJ Events
DESCRIPTION:Bens Tune Up – 11am-3pm \nWaterstreet – 3-7pm \nLA Pizza Party Rooftop – 6-9pm \nVOWL – 7-11pm \nCheck with the venue for the DJ and cover charges.
URL:https://livemusicasheville.com/calendar/sunday-weekly-dj/2026-05-03/
LOCATION:Asheville Area
CATEGORIES:Asheville Area,DJ/Electronic
END:VEVENT
BEGIN:VEVENT
DTSTART;TZID=America/New_York:20260503T160000
DTEND;TZID=America/New_York:20260503T190000
DTSTAMP:20260422T055116
CREATED:20260125T154344Z
LAST-MODIFIED:20260215T131033Z
UID:10028009-1777824000-1777834800@livemusicasheville.com
SUMMARY:BUTTS & BOOTS :: Line Dancing
DESCRIPTION:
URL:https://livemusicasheville.com/calendar/butts-boots-line-dancing-2-2-2-2/2026-05-03/
LOCATION:Banks Ave
CATEGORIES:Asheville Area,DJ/Electronic
GEO:35.5892908;-82.5536382
END:VEVENT
BEGIN:VEVENT
DTSTART;TZID=America/New_York:20260504T180000
DTEND;TZID=America/New_York:20260505T020000
DTSTAMP:20260422T055116
CREATED:20241226T132023Z
LAST-MODIFIED:20260308T081314Z
UID:10027632-1777917600-1777946400@livemusicasheville.com
SUMMARY:Monday Weekly DJs
DESCRIPTION:Although we are primarily a Live Music Calendar\, we often come across Electronic & DJ events in the area and list them for you as we find out about them. Please verify the DJ\, times and cover charges with the venue. \nAntidote – 6-9pm \nCoffee Art Music Type Place (CAMP) – 7-9pm (swing) \nLazy Diamond- 10pm-2am \nCheck with the venue on tonight’s djs and cover charges.
URL:https://livemusicasheville.com/calendar/monday-djs/2026-05-04/
LOCATION:Asheville Area
CATEGORIES:Asheville Area,DJ/Electronic
END:VEVENT
BEGIN:VEVENT
DTSTART;TZID=America/New_York:20260505T183000
DTEND;TZID=America/New_York:20260505T210000
DTSTAMP:20260422T055116
CREATED:20260409T092256Z
LAST-MODIFIED:20260409T092257Z
UID:10027784-1778005800-1778014800@livemusicasheville.com
SUMMARY:Mountain Shag Club
DESCRIPTION:
URL:https://livemusicasheville.com/calendar/mountain-shag-club-2/2026-05-05/
LOCATION:The Mule at Devils Foot Beverages\, 131 Sweeten Creek Road\, Asheville\, NC\, 28803\, United States
CATEGORIES:Asheville Area,DJ/Electronic
GEO:35.5588369;-82.5218977
X-APPLE-STRUCTURED-LOCATION;VALUE=URI;X-ADDRESS=The Mule at Devils Foot Beverages 131 Sweeten Creek Road Asheville NC 28803 United States;X-APPLE-RADIUS=500;X-TITLE=131 Sweeten Creek Road:geo:-82.5218977,35.5588369
END:VEVENT
BEGIN:VEVENT
DTSTART;TZID=America/New_York:20260505T190000
DTEND;TZID=America/New_York:20260506T020000
DTSTAMP:20260422T055116
CREATED:20241226T144543Z
LAST-MODIFIED:20260224T090529Z
UID:10046536-1778007600-1778032800@livemusicasheville.com
SUMMARY:Tuesday Weekly DJ Schedule
DESCRIPTION:Although we are primarily a Live Music Calendar\, we often come across Electronic & DJ events in the area and list them for you as we find out about them. Please verify the DJ\, times and cover charges with the venue. \nPotential New Boyfriend – 7-11pm \nThird Room (open decks) – 8pm-12am \nThe Double Crown – 10pm-2am \nLazy Diamond – 10pm-2am \nShakeys – 10pm-2am
URL:https://livemusicasheville.com/calendar/tuesday-weekly-dj-schedule/2026-05-05/
LOCATION:NC
CATEGORIES:Asheville Area,DJ/Electronic
END:VEVENT
BEGIN:VEVENT
DTSTART;TZID=America/New_York:20260506T180000
DTEND;TZID=America/New_York:20260506T210000
DTSTAMP:20260422T055116
CREATED:20260114T160602Z
LAST-MODIFIED:20260114T160604Z
UID:10022418-1778090400-1778101200@livemusicasheville.com
SUMMARY:Country Line Dance Lessons and Dancing
DESCRIPTION:
URL:https://livemusicasheville.com/calendar/country-line-dance-lessons-and-dancing-2/2026-05-06/
LOCATION:Eda’s Hide-a-Way Weaverville
CATEGORIES:Asheville Area,DJ/Electronic,Weaverville
GEO:35.6970547;-82.5606851
END:VEVENT
BEGIN:VEVENT
DTSTART;TZID=America/New_York:20260506T190000
DTEND;TZID=America/New_York:20260506T220000
DTSTAMP:20260422T055116
CREATED:20250902T235040Z
LAST-MODIFIED:20260219T020732Z
UID:10037194-1778094000-1778104800@livemusicasheville.com
SUMMARY:Swing Asheville Dance and Lesson
DESCRIPTION:We have moved our Wednesday night location to Coffee Art Music type Place (CAMP) at 1 Kenilworth Knolls #1\, Asheville\, NC 28805!!!\nJoin us for our weekly dance series Wednesday night at Coffee Art Music type Place!\n\n\n\nA lesson is included with your $10 entry. ($5 for students with i.d.)
URL:https://livemusicasheville.com/calendar/swing-asheville-dance-and-lesson-2-2-3/2026-05-06/
LOCATION:Coffee Art Music type Place\, 1 Kenilworth Knolls Suite 1\, Asheville\, NC\,
CATEGORIES:Asheville Area,DJ/Electronic
GEO:35.5895785;-82.5285828
X-APPLE-STRUCTURED-LOCATION;VALUE=URI;X-ADDRESS=Coffee Art Music type Place 1 Kenilworth Knolls Suite 1 Asheville NC;X-APPLE-RADIUS=500;X-TITLE=1 Kenilworth Knolls Suite 1\, Asheville\, NC\,:geo:-82.5285828,35.5895785
END:VEVENT
BEGIN:VEVENT
DTSTART;TZID=America/New_York:20260506T200000
DTEND;TZID=America/New_York:20260507T000000
DTSTAMP:20260422T055116
CREATED:20260324T165603Z
LAST-MODIFIED:20260324T165604Z
UID:10024031-1778097600-1778112000@livemusicasheville.com
SUMMARY:Latin Night Wednesdays
DESCRIPTION:
URL:https://livemusicasheville.com/calendar/latin-night-wednesdays-2-2-2-2-2/2026-05-06/
LOCATION:One World Brewing – West\, 520 Haywood Rd\, Asheville\, North Carolina\, 28806
CATEGORIES:Asheville Area,DJ/Electronic
GEO:35.5783642;-82.5848526
X-APPLE-STRUCTURED-LOCATION;VALUE=URI;X-ADDRESS=One World Brewing – West 520 Haywood Rd Asheville North Carolina 28806;X-APPLE-RADIUS=500;X-TITLE=520 Haywood Rd:geo:-82.5848526,35.5783642
END:VEVENT
BEGIN:VEVENT
DTSTART;TZID=America/New_York:20260506T200000
DTEND;TZID=America/New_York:20260507T020000
DTSTAMP:20260422T055116
CREATED:20251222T163440Z
LAST-MODIFIED:20260408T184720Z
UID:10027956-1778097600-1778119200@livemusicasheville.com
SUMMARY:Wednesday Weekly DJs
DESCRIPTION:Although we are primarily a Live Music Calendar\, we often come across Electronic & DJ events in the area and list them for you as we find out about them. Please verify the DJ\, times and cover charges with the venue. \nOne World Brewing West – 8pm-12am (Latin dance) \nThe One Stop -9pm-12am (until 5/27) \nShakeys Dive Bar – 10pm-2am \nVerify with the venue for the DJs and cover charges. \n 
URL:https://livemusicasheville.com/calendar/wednesday-weekely-djs-2/2026-05-06/
LOCATION:Asheville Area
CATEGORIES:Asheville Area,DJ/Electronic
END:VEVENT
BEGIN:VEVENT
DTSTART;TZID=America/New_York:20260507T160000
DTEND;TZID=America/New_York:20260507T210000
DTSTAMP:20260422T055116
CREATED:20260415T095638Z
LAST-MODIFIED:20260415T100021Z
UID:10056743-1778169600-1778187600@livemusicasheville.com
SUMMARY:Golden Hour: Thursdays at The Mule
DESCRIPTION:This is what we mean by “Keep It Fresh. Drink It In.”.  Thursdays April through August\, we’re settin’ the almost-weekend vibes on our patio with a live DJ\, local beverage partners\, and interactive experiences. Each month will highlight a different local craft beverage brand\, and they’ll be here offering samples and giveaways! You’ll also have the opportunity to sink into an interactive craft experience\, take advantage of our rotating Build Your Own bar\, and shake off the day to the different sounds of our rotating DJ lineup. \nThis is free to attend\, and sure to be your Thursday go-to for Spring & Summer. \n  \n\n\n‘The Mule’ – Tasting Room \n\n\n\n\n\nSay hello to The Mule – a full-service bar/event space in the home of Devil’s Foot Beverage’s production facility. Draft soda\, beer\, & wine – as well as delicious cocktails & mocktails featuring Devil’s Foot craft sodas and the largest collection of NC-made spirits in Asheville – all at your fingertips just outside of Biltmore Village! Open now for all of your beverage & party needs! devilsfootbrew.com/the-mule
URL:https://livemusicasheville.com/calendar/golden-hour-thursdays-at-the-mule/2026-05-07/
LOCATION:The Mule at Devils Foot Beverages\, 131 Sweeten Creek Road\, Asheville\, NC\, 28803\, United States
CATEGORIES:Asheville Area,DJ/Electronic
ATTACH;FMTTYPE=image/png:https://livemusicasheville.com/wp-content/uploads/2026/04/Screenshot-2026-04-15-055545-e1776246984177.png
GEO:35.5588369;-82.5218977
X-APPLE-STRUCTURED-LOCATION;VALUE=URI;X-ADDRESS=The Mule at Devils Foot Beverages 131 Sweeten Creek Road Asheville NC 28803 United States;X-APPLE-RADIUS=500;X-TITLE=131 Sweeten Creek Road:geo:-82.5218977,35.5588369
END:VEVENT
BEGIN:VEVENT
DTSTART;TZID=America/New_York:20260507T180000
DTEND;TZID=America/New_York:20260507T210000
DTSTAMP:20260422T055116
CREATED:20251121T203137Z
LAST-MODIFIED:20260107T125034Z
UID:10024964-1778176800-1778187600@livemusicasheville.com
SUMMARY:BUTTS & BOOTS :: Line Dancing
DESCRIPTION:
URL:https://livemusicasheville.com/calendar/butts-boots-line-dancing-3/2026-05-07/
LOCATION:Banks Ave
CATEGORIES:Asheville Area,DJ/Electronic
GEO:35.5892908;-82.5536382
END:VEVENT
BEGIN:VEVENT
DTSTART;TZID=America/New_York:20260507T180000
DTEND;TZID=America/New_York:20260507T230000
DTSTAMP:20260422T055116
CREATED:20251121T202643Z
LAST-MODIFIED:20260416T174209Z
UID:10024916-1778176800-1778194800@livemusicasheville.com
SUMMARY:Thursday Open Mics / Jams
DESCRIPTION:Bluegrass Jam @ Zuma Coffee Marshall – 6-8pm (first & third Thursdays) \nTrue Home Open Mic Night @Flood Gallery Fine Art Center (new location) 6-8:30pm \nBlunt Pretzels Swannanoa – 6-9pm \n \nGarden Creek Foundation Community Barn Jam – 6-9pm (Third Thursdays) \nOld Time or Irish Session @Leveller Brewing Co Weaverville – 6-9pm (Old Time 1st & 3rd Thursdays\, Irish Session 2nd & 4th Thursdays) \nHi Wire South Slope – 6-9pm \nWheelhouse South Slope – 7-10pm \nPlant Bar South Slope – 7-9pm (1st & 3rd Thursdays) \nBens Tune Up – 8-11pm (open mic/decks) \n  \n  \n 
URL:https://livemusicasheville.com/calendar/thursday-open-mics-jams-2/2026-05-07/
LOCATION:Asheville Area
CATEGORIES:Asheville Area,DJ/Electronic,Open MIc/Jam
END:VEVENT
BEGIN:VEVENT
DTSTART;TZID=America/New_York:20260507T180000
DTEND;TZID=America/New_York:20260508T020000
DTSTAMP:20260422T055116
CREATED:20251121T203413Z
LAST-MODIFIED:20260408T094503Z
UID:10025041-1778176800-1778205600@livemusicasheville.com
SUMMARY:Thursday Weekly DJs
DESCRIPTION:Although we are primarily a Live Music Calendar\, we often come across Electronic & DJ events in the area and list them for you as we find out about them. Please verify the DJ\, times and cover charges with the venue. \nThe Mule at Devils Foot Beverages – 4-9pm (Starts April 23) \nEda Rhyne Distilling – 6-9pm \nPotential New Boyfriend – 7-10pm \nSticks on Broadway – 10pm -2am \nLazy Diamond – 10pm-2am \nThe Double Crown – 10pm-2am \nCheck with the for DJs and covers.
URL:https://livemusicasheville.com/calendar/thursday-weekly-djs-2/2026-05-07/
LOCATION:Asheville Area
CATEGORIES:Asheville Area,DJ/Electronic
END:VEVENT
BEGIN:VEVENT
DTSTART;TZID=America/New_York:20260507T203000
DTEND;TZID=America/New_York:20260508T000000
DTSTAMP:20260422T055116
CREATED:20251121T204451Z
LAST-MODIFIED:20251121T204452Z
UID:10025435-1778185800-1778198400@livemusicasheville.com
SUMMARY:Bachata Thursday
DESCRIPTION:
URL:https://livemusicasheville.com/calendar/bachata-thursday-2/2026-05-07/
LOCATION:Urban Orchard Cider Co
CATEGORIES:Asheville Area,DJ/Electronic
END:VEVENT
END:VCALENDAR