BEGIN:VCALENDAR
VERSION:2.0
PRODID:-//LiveMusicAsheville.com - ECPv6.15.20//NONSGML v1.0//EN
CALSCALE:GREGORIAN
METHOD:PUBLISH
X-WR-CALNAME:LiveMusicAsheville.com
X-ORIGINAL-URL:https://livemusicasheville.com
X-WR-CALDESC:Events for LiveMusicAsheville.com
REFRESH-INTERVAL;VALUE=DURATION:PT1H
X-Robots-Tag:noindex
X-PUBLISHED-TTL:PT1H
BEGIN:VTIMEZONE
TZID:America/New_York
BEGIN:DAYLIGHT
TZOFFSETFROM:-0500
TZOFFSETTO:-0400
TZNAME:EDT
DTSTART:20250309T070000
END:DAYLIGHT
BEGIN:STANDARD
TZOFFSETFROM:-0400
TZOFFSETTO:-0500
TZNAME:EST
DTSTART:20251102T060000
END:STANDARD
BEGIN:DAYLIGHT
TZOFFSETFROM:-0500
TZOFFSETTO:-0400
TZNAME:EDT
DTSTART:20260308T070000
END:DAYLIGHT
BEGIN:STANDARD
TZOFFSETFROM:-0400
TZOFFSETTO:-0500
TZNAME:EST
DTSTART:20261101T060000
END:STANDARD
BEGIN:DAYLIGHT
TZOFFSETFROM:-0500
TZOFFSETTO:-0400
TZNAME:EDT
DTSTART:20270314T070000
END:DAYLIGHT
BEGIN:STANDARD
TZOFFSETFROM:-0400
TZOFFSETTO:-0500
TZNAME:EST
DTSTART:20271107T060000
END:STANDARD
END:VTIMEZONE
BEGIN:VEVENT
DTSTART;TZID=America/New_York:20260402T180000
DTEND;TZID=America/New_York:20260402T210000
DTSTAMP:20260422T020241
CREATED:20251121T203137Z
LAST-MODIFIED:20260107T125034Z
UID:10024959-1775152800-1775163600@livemusicasheville.com
SUMMARY:BUTTS & BOOTS :: Line Dancing
DESCRIPTION:
URL:https://livemusicasheville.com/calendar/butts-boots-line-dancing-3/2026-04-02/
LOCATION:Banks Ave
CATEGORIES:Asheville Area,DJ/Electronic
GEO:35.5892908;-82.5536382
END:VEVENT
BEGIN:VEVENT
DTSTART;TZID=America/New_York:20260402T180000
DTEND;TZID=America/New_York:20260402T230000
DTSTAMP:20260422T020241
CREATED:20251121T202643Z
LAST-MODIFIED:20260416T174209Z
UID:10024911-1775152800-1775170800@livemusicasheville.com
SUMMARY:Thursday Open Mics / Jams
DESCRIPTION:Bluegrass Jam @ Zuma Coffee Marshall – 6-8pm (first & third Thursdays) \nTrue Home Open Mic Night @Flood Gallery Fine Art Center (new location) 6-8:30pm \nBlunt Pretzels Swannanoa – 6-9pm \n \nGarden Creek Foundation Community Barn Jam – 6-9pm (Third Thursdays) \nOld Time or Irish Session @Leveller Brewing Co Weaverville – 6-9pm (Old Time 1st & 3rd Thursdays\, Irish Session 2nd & 4th Thursdays) \nHi Wire South Slope – 6-9pm \nWheelhouse South Slope – 7-10pm \nPlant Bar South Slope – 7-9pm (1st & 3rd Thursdays) \nBens Tune Up – 8-11pm (open mic/decks) \n  \n  \n 
URL:https://livemusicasheville.com/calendar/thursday-open-mics-jams-2/2026-04-02/
LOCATION:Asheville Area
CATEGORIES:Asheville Area,DJ/Electronic,Open MIc/Jam
END:VEVENT
BEGIN:VEVENT
DTSTART;TZID=America/New_York:20260402T180000
DTEND;TZID=America/New_York:20260403T020000
DTSTAMP:20260422T020241
CREATED:20251121T203413Z
LAST-MODIFIED:20260408T094503Z
UID:10025036-1775152800-1775181600@livemusicasheville.com
SUMMARY:Thursday Weekly DJs
DESCRIPTION:Although we are primarily a Live Music Calendar\, we often come across Electronic & DJ events in the area and list them for you as we find out about them. Please verify the DJ\, times and cover charges with the venue. \nThe Mule at Devils Foot Beverages – 4-9pm (Starts April 23) \nEda Rhyne Distilling – 6-9pm \nPotential New Boyfriend – 7-10pm \nSticks on Broadway – 10pm -2am \nLazy Diamond – 10pm-2am \nThe Double Crown – 10pm-2am \nCheck with the for DJs and covers.
URL:https://livemusicasheville.com/calendar/thursday-weekly-djs-2/2026-04-02/
LOCATION:Asheville Area
CATEGORIES:Asheville Area,DJ/Electronic
END:VEVENT
BEGIN:VEVENT
DTSTART;TZID=America/New_York:20260402T203000
DTEND;TZID=America/New_York:20260403T000000
DTSTAMP:20260422T020241
CREATED:20251121T204451Z
LAST-MODIFIED:20251121T204452Z
UID:10025430-1775161800-1775174400@livemusicasheville.com
SUMMARY:Bachata Thursday
DESCRIPTION:
URL:https://livemusicasheville.com/calendar/bachata-thursday-2/2026-04-02/
LOCATION:Urban Orchard Cider Co
CATEGORIES:Asheville Area,DJ/Electronic
END:VEVENT
END:VCALENDAR