BEGIN:VCALENDAR
VERSION:2.0
PRODID:-//LiveMusicAsheville.com - ECPv6.15.20//NONSGML v1.0//EN
CALSCALE:GREGORIAN
METHOD:PUBLISH
X-ORIGINAL-URL:https://livemusicasheville.com
X-WR-CALDESC:Events for LiveMusicAsheville.com
REFRESH-INTERVAL;VALUE=DURATION:PT1H
X-Robots-Tag:noindex
X-PUBLISHED-TTL:PT1H
BEGIN:VTIMEZONE
TZID:America/New_York
BEGIN:DAYLIGHT
TZOFFSETFROM:-0500
TZOFFSETTO:-0400
TZNAME:EDT
DTSTART:20250309T070000
END:DAYLIGHT
BEGIN:STANDARD
TZOFFSETFROM:-0400
TZOFFSETTO:-0500
TZNAME:EST
DTSTART:20251102T060000
END:STANDARD
BEGIN:DAYLIGHT
TZOFFSETFROM:-0500
TZOFFSETTO:-0400
TZNAME:EDT
DTSTART:20260308T070000
END:DAYLIGHT
BEGIN:STANDARD
TZOFFSETFROM:-0400
TZOFFSETTO:-0500
TZNAME:EST
DTSTART:20261101T060000
END:STANDARD
BEGIN:DAYLIGHT
TZOFFSETFROM:-0500
TZOFFSETTO:-0400
TZNAME:EDT
DTSTART:20270314T070000
END:DAYLIGHT
BEGIN:STANDARD
TZOFFSETFROM:-0400
TZOFFSETTO:-0500
TZNAME:EST
DTSTART:20271107T060000
END:STANDARD
END:VTIMEZONE
BEGIN:VEVENT
DTSTART;VALUE=DATE:20260529
DTEND;VALUE=DATE:20260531
DTSTAMP:20260424T130108
CREATED:20251125T212109Z
LAST-MODIFIED:20260423T060843Z
UID:10025736-1780023600-1780109999@livemusicasheville.com
SUMMARY:We Update Our Calendar On Wednesdays
DESCRIPTION:That’s right folks\, other than our Featured Listings and repetitive events\, we update the calendar on Wednesdays for the coming Friday through next Thursday. This helps us bring you the most current and reliable information available. We also update throughout the week as we find out about music events that might interest you. \nWe suggest you save our calendar page to the Home Screen on your phone help you stay up to date on all the Asheville area music events.
URL:https://livemusicasheville.com/calendar/we-update-our-calendar-on-wednesdays/2026-05-29/
LOCATION:Asheville Area
CATEGORIES:Asheville Area,Live Music
ATTACH;FMTTYPE=image/jpeg:https://livemusicasheville.com/wp-content/uploads/2025/11/IMG_3224-e1764105623423.jpeg
END:VEVENT
BEGIN:VEVENT
DTSTART;VALUE=DATE:20260529
DTEND;VALUE=DATE:20260531
DTSTAMP:20260424T130108
CREATED:20260417T141421Z
LAST-MODIFIED:20260420T012530Z
UID:10047454-1780023600-1780109999@livemusicasheville.com
SUMMARY:COMING JUNE 20th | Big Something
DESCRIPTION:Saturday\, June 20th\, 2026 | Doors at 6:00PM | Music at 7:30PM | From $34.17 adv. Event Details and Tickets \nHailing from the North Carolina countryside\, or “The Middle of Nowhere\,” as it’s proudly dubbed on their debut album\, the 6 headed musical monster known as ‘Big Something‘ has steadily become one of the most unique and exciting rock bands to emerge from the Southeast. Their musical alchemy is deeply rooted in the strong bond of its members—Nick MacDaniels [lead vocals\, guitar]\, Jesse Hensley [lead guitar\, vocals]\, Casey Cranford [saxophone\, E.W.I. “Electronic Wind Instrument”]\, Ben Vinograd [drums]\, Josh Kagel [keys\, trumpet]\, and Matt Laird [bass]. \nAfter over a decade of touring together with 7 full-length studio albums and even their own Summer music festival The Big What?\, Big Something has emerged as a grassroots phenomenon in the live music community. \n  \nFounded in 2005\, Pisgah is known for producing some of the most sought after craft ales in Western North Carolina. Pisgah Brewing Company currently operates the new indoor taproom & deli\, with live music several days a week\, plus an open air outdoor bar in the summer and fall months. Check out our upcoming schedule at pisgahbrewing.com/events
URL:https://livemusicasheville.com/calendar/coming-june-20th-big-something-2/2026-05-29/
LOCATION:Pisgah Brewing Company Black Mountain\, 2948 US-70\, Black Mountain\, NC\, 28711
CATEGORIES:Asheville Area,Black Mountain,Live Music
ATTACH;FMTTYPE=image/jpeg:https://livemusicasheville.com/wp-content/uploads/2026/03/645500299_1393109482843224_5252979529021024333_n-e1772557144468.jpg
GEO:35.6068069;-82.3568213
X-APPLE-STRUCTURED-LOCATION;VALUE=URI;X-ADDRESS=Pisgah Brewing Company Black Mountain 2948 US-70 Black Mountain NC 28711;X-APPLE-RADIUS=500;X-TITLE=2948 US-70:geo:-82.3568213,35.6068069
END:VEVENT
BEGIN:VEVENT
DTSTART;TZID=America/New_York:20260529T163000
DTEND;TZID=America/New_York:20260529T201500
DTSTAMP:20260424T130108
CREATED:20260415T225105Z
LAST-MODIFIED:20260415T225422Z
UID:10057453-1780072200-1780085700@livemusicasheville.com
SUMMARY:Live Music at the Bandstand
DESCRIPTION:Friday\, May 1\, 2026 Clay Lunsford Band Americana\nSaturday\, May 2\, 2026 Kelley and The Cowboys Country Western\nFriday\, May 8\, 2026 Speak EZ Jazz\, Motown\, R&B\nSaturday\, May 9\, 2026 Speak EZ Jazz\, Motown\, R&B\nFriday\, May 15\, 2026 One Leg Up Acoustic Swing\, Gypsy Jazz\nSaturday\, May 16\, 2026 Company Swing Jazz\, Latin\, Bossa\, Gypsy\, Soft Pop\nFriday\, May 22\, 2026 Not From Here featuring Sandi Grecco\, Jazz Rock Blues\nSaturday\, May 23\, 2026 Flashback Band 80’s Rock\nSunday\, May 24\, 2026 Freeport Jazz Smooth Jazz\nFriday\, May 29\, 2026 Fwuit Pop\nSaturday\, May 30\, 2026 Firecracker Jazz Band Dixieland Jazz \nTo enjoy this complimentary event\, guest must have a daytime ticket\, a Biltmore Annual Pass\, or a stay at one of the estate’s splendid overnight properties. 
URL:https://livemusicasheville.com/calendar/live-music-at-the-bandstand-4-2/2026-05-29/
LOCATION:Antler Hill Village\, Biltmore Estate
CATEGORIES:Asheville Area,Live Music
END:VEVENT
BEGIN:VEVENT
DTSTART;TZID=America/New_York:20260529T173000
DTEND;TZID=America/New_York:20260529T193000
DTSTAMP:20260424T130108
CREATED:20260109T141021Z
LAST-MODIFIED:20260109T141022Z
UID:10028106-1780075800-1780083000@livemusicasheville.com
SUMMARY:Hank and Vollie
DESCRIPTION:
URL:https://livemusicasheville.com/calendar/hank-and-vollie-2/2026-05-29/
LOCATION:Battery Park Book Exchange & Champagne Bar
CATEGORIES:Asheville Area,Live Music
GEO:35.5951042;-82.556633
END:VEVENT
BEGIN:VEVENT
DTSTART;TZID=America/New_York:20260529T173000
DTEND;TZID=America/New_York:20260529T203000
DTSTAMP:20260424T130108
CREATED:20260309T151501Z
LAST-MODIFIED:20260309T151502Z
UID:10036366-1780075800-1780086600@livemusicasheville.com
SUMMARY:The Grateful Family Band!
DESCRIPTION:
URL:https://livemusicasheville.com/calendar/the-grateful-family-band-3-2-2/2026-05-29/
LOCATION:The Social East Asheville
CATEGORIES:Asheville Area,Live Music
GEO:35.5878491;-82.4909537
END:VEVENT
BEGIN:VEVENT
DTSTART;TZID=America/New_York:20260529T173000
DTEND;TZID=America/New_York:20260529T213000
DTSTAMP:20260424T130108
CREATED:20260221T134837Z
LAST-MODIFIED:20260320T181747Z
UID:10050573-1780075800-1780090200@livemusicasheville.com
SUMMARY:The Friday Drum Circle
DESCRIPTION:Weather dependent
URL:https://livemusicasheville.com/calendar/the-friday-drum-circle-3/2026-05-29/
LOCATION:Pritchard Park Downtown\, 67 Patton Avenue\, Asheville\, NC\, 28801
CATEGORIES:Asheville Area,Live Music,Open MIc/Jam
GEO:35.5947402;-82.5543431
X-APPLE-STRUCTURED-LOCATION;VALUE=URI;X-ADDRESS=Pritchard Park Downtown 67 Patton Avenue Asheville NC 28801;X-APPLE-RADIUS=500;X-TITLE=67 Patton Avenue:geo:-82.5543431,35.5947402
END:VEVENT
BEGIN:VEVENT
DTSTART;TZID=America/New_York:20260529T173000
DTEND;TZID=America/New_York:20260529T220000
DTSTAMP:20260424T130108
CREATED:20260417T165350Z
LAST-MODIFIED:20260417T165803Z
UID:10057819-1780075800-1780092000@livemusicasheville.com
SUMMARY:Beats Antique - Metamorphosis Tour
DESCRIPTION:Friday\, May 29 & Saturday\, May 30 | 5:30-10pm | From $39.44 Event Details and Tickets \nGet ready to vibe with Beats Antique’s wild fusion of beats and rhythms that’ll keep you moving all night long. \nYou can’t know Beats Antique until you’ve been a part of its journey\, and experienced the act as an entity with a life of its own. A stage show that demands more music; music that needs costumes\, ships and masks and shadow dances; an audience that comes for art\, and takes away stories to feed their imagination.Commitment to the full performance art form is how Beats Antique fuses musical worlds\, pulling on global sounds for experiments on the fringes of cinematic cabaret\, informed by electronic mash-ups and inspirations who have joined them on the journey such as Les Claypool\, Alam Khan\, The Glitch Mob\, Too Many Zooz and the Preservation Hall Jazz Band. \nFrench Broad River Brewery is more than just a place to enjoy a drink—it’s a community hub where great beer\, delicious pizza\, live music\, and good times come together. Just minutes from the Biltmore Estate & Downtown\, our taproom is a gathering spot for locals and visitors alike. We regularly host live music and entertainment in our taproom\, making French Broad River Brewery a lively hub of local activity. From bluegrass to reggae\, there’s always something happening. Check out our Events Page to see what’s coming up next! \nNo brewery experience is complete without great food. That’s why we offer French Broad River Pizza\, serving up hot\, hand-tossed pizzas made to order. Whether you’re here for a quick slice or a full meal\, our pizza perfectly complements our craft beers and the lively atmosphere of our taproom. frenchbroadbrewery.com/pizza
URL:https://livemusicasheville.com/calendar/beats-antique/2026-05-29/
LOCATION:French Broad River Brewery\, 101 Fairview Rd\, Asheville\, NC\, United States
CATEGORIES:Asheville Area,DJ/Electronic,Live Music
ATTACH;FMTTYPE=image/jpeg:https://livemusicasheville.com/wp-content/uploads/2026/04/640924111_18563402887041101_1312997491970589616_n-e1776445009180.jpg
GEO:35.5662722;-82.5374054
X-APPLE-STRUCTURED-LOCATION;VALUE=URI;X-ADDRESS=French Broad River Brewery 101 Fairview Rd Asheville NC United States;X-APPLE-RADIUS=500;X-TITLE=101 Fairview Rd:geo:-82.5374054,35.5662722
END:VEVENT
BEGIN:VEVENT
DTSTART;TZID=America/New_York:20260529T180000
DTEND;TZID=America/New_York:20260529T200000
DTSTAMP:20260424T130108
CREATED:20260421T151351Z
LAST-MODIFIED:20260421T151351Z
UID:10058139-1780077600-1780084800@livemusicasheville.com
SUMMARY:Fridays In The RAD Music Series
DESCRIPTION:Records in the RAD in the River Arts District is a thoughtfully curated record store with an eclectic selection of vinyl\, both new and used. In addition to records\, we also have a music inspired art gallery\, which features artwork from Brian\, Dylan and Susan Haynes. recordsintherad.com \nAt Wedge Brewing\, we got our start in the River Arts District\, and therefore hold art and community very close to us. We create beer for the creatives and give them a place to commune. wedgebrewing.com \n  \nScreenshot\n  \n  \n 
URL:https://livemusicasheville.com/calendar/fridays-in-the-rad-music-series-3/2026-05-29/
LOCATION:Records in the RAD/The Wedge
CATEGORIES:Asheville Area,Live Music
ATTACH;FMTTYPE=image/jpeg:https://livemusicasheville.com/wp-content/uploads/2025/06/483859064_639983772123902_5187475918688955438_n-e1776710785302.jpg
END:VEVENT
BEGIN:VEVENT
DTSTART;TZID=America/New_York:20260529T180000
DTEND;TZID=America/New_York:20260529T230000
DTSTAMP:20260424T130108
CREATED:20250207T164158Z
LAST-MODIFIED:20260422T131528Z
UID:10028151-1780077600-1780095600@livemusicasheville.com
SUMMARY:Friday Open Mic/Jam
DESCRIPTION:Flora Asheville – 5:30-7:30pm (April 17) \nTurgua Brewing Fairview – 6-8pm (2nd & 4th Fridays) \nCoffee\, Art\, Music type Place – 6-8pm (First Fridays) \nWagWorld Pub Fletcher – 6:30-9:30pm \nElevated Kava Downtown – 8-11
URL:https://livemusicasheville.com/calendar/friday-open-mic-jam/2026-05-29/
LOCATION:Asheville Area
CATEGORIES:Asheville Area,Madison County,Open MIc/Jam,South Asheville/Arden/Fletcher
END:VEVENT
BEGIN:VEVENT
DTSTART;TZID=America/New_York:20260529T180000
DTEND;TZID=America/New_York:20260530T020000
DTSTAMP:20260424T130108
CREATED:20241225T134450Z
LAST-MODIFIED:20260415T173808Z
UID:10027316-1780077600-1780106400@livemusicasheville.com
SUMMARY:Friday Weekly DJ's
DESCRIPTION:Although we are primarily a Live Music Calendar\, we often come across Electronic & DJ events in the area and list them for you as we find out about them. Please verify the DJ\, times and cover charges with the venue. \nLA Pizza Party Rooftop – 6-9pm \nThe Radical – 6-11pm \nPotential New Boyfriend – 7:30-11pm \nCapella On 9 – 8-11pm \nBen’s Tune Up – 8-11pm \nAntidote – 9-11pm \nBanks Ave – 9-11:30pm \nVOWL – 9pm-1am \nDouble Crown – 9pm-2am \nHavana Miami – 9pm-2am \nStatic Age Loft – 9pm-2am \nWaterstreet – 9pm-2am \nLa Pizza Party – 10pm-2am \nThe Barksdale – 10pm-2am \nLazy Diamond – 10pm-2am \nSticks On Broadway – 10pm-2am \nStrange Magic Bar – 10pm-2am \nShakeys – 10pm-2am \n  \nVerify with the venue on times\, cover charges and tonight’s DJ.
URL:https://livemusicasheville.com/calendar/friday-weekly-dj-schedule/2026-05-29/
LOCATION:Asheville Area
CATEGORIES:Asheville Area,DJ/Electronic
END:VEVENT
BEGIN:VEVENT
DTSTART;TZID=America/New_York:20260529T190000
DTEND;TZID=America/New_York:20260529T210000
DTSTAMP:20260424T130108
CREATED:20251029T132808Z
LAST-MODIFIED:20260415T133603Z
UID:10056859-1780081200-1780088400@livemusicasheville.com
SUMMARY:Grass Is Back!
DESCRIPTION:No Cover – Donations accepted!\n\n\n\n\nApril 17 – Lynn Goldsmith & The Jeter Mountain Band\nApril 24 – New Carolina Connection Band\nMay 1 – Harlan County Grass\nMay 8 – Mulley Holler Band\nMay 15- Travis Watts & Mountain Blessings\nMay 22 – Hit or Miss Bluegrass & Country Band
URL:https://livemusicasheville.com/calendar/grass-is-back-3/2026-05-29/
LOCATION:Feed and Seed Fletcher
CATEGORIES:Asheville Area,Live Music,South Asheville/Arden/Fletcher
END:VEVENT
BEGIN:VEVENT
DTSTART;TZID=America/New_York:20260529T190000
DTEND;TZID=America/New_York:20260529T220000
DTSTAMP:20260424T130108
CREATED:20251113T101742Z
LAST-MODIFIED:20260327T002508Z
UID:10052995-1780081200-1780092000@livemusicasheville.com
SUMMARY:Blues with Mr Jimmy
DESCRIPTION:
URL:https://livemusicasheville.com/calendar/blues-with-mr-jimmy-2-2-2/2026-05-29/
LOCATION:The Station Black Mountain
CATEGORIES:Asheville Area,Black Mountain,Live Music
END:VEVENT
BEGIN:VEVENT
DTSTART;TZID=America/New_York:20260529T190000
DTEND;TZID=America/New_York:20260529T220000
DTSTAMP:20260424T130108
CREATED:20251222T160644Z
LAST-MODIFIED:20251222T160644Z
UID:10029270-1780081200-1780092000@livemusicasheville.com
SUMMARY:The B's Trio in The Great Hall
DESCRIPTION:
URL:https://livemusicasheville.com/calendar/the-bs-trio-in-the-great-hall-2/2026-05-29/
LOCATION:The Omni Grove Park Inn
CATEGORIES:Asheville Area,Live Music
GEO:35.6206376;-82.5422977
END:VEVENT
BEGIN:VEVENT
DTSTART;TZID=America/New_York:20260529T190000
DTEND;TZID=America/New_York:20260530T010000
DTSTAMP:20260424T130108
CREATED:20241225T141623Z
LAST-MODIFIED:20260416T110217Z
UID:10056342-1780081200-1780102800@livemusicasheville.com
SUMMARY:Friday Karaoke
DESCRIPTION:  \n7-10pm – Mal’s Bar Marshall (February 20) \n7-10pm- Noble Cider (April 10) \n8pm-12am – Silverados Black Mountain \n8-11pm – Dalton Distillery (April 17) \n8-11pm – T Birds Weaverville \n8:30-11pm – The Village Porch Woodfin (April 17) \n8pm-1am – Fleetwoods (Feb 27) \n9pm-12am – Brewskies Fairview   \n9pm-12am – Little Creek Tavern Fletcher  \n9pm-1am – Handlebar & Grill \n9pm- 1am – O’Henrys \n9:30pm-1:30am – The Crowbar Downtown \n10pm – 2am – Shakeys \nVerify time and KJ with The Venue. \n  \n  \n\n 
URL:https://livemusicasheville.com/calendar/friday-weekly-karaoke/2026-05-29/
LOCATION:Asheville Area
CATEGORIES:Asheville Area,Black Mountain,Fairview,Karaoke,Madison County,Weaverville
END:VEVENT
BEGIN:VEVENT
DTSTART;TZID=America/New_York:20260529T190000
DTEND;TZID=America/New_York:20260530T020000
DTSTAMP:20260424T130108
CREATED:20241225T123126Z
LAST-MODIFIED:20251122T132355Z
UID:10025558-1780081200-1780106400@livemusicasheville.com
SUMMARY:Dueling Piano Show
DESCRIPTION:
URL:https://livemusicasheville.com/calendar/dueling-piano-show/2026-05-29/
LOCATION:Off the Wagon
CATEGORIES:Asheville Area,Live Music
GEO:41.4302231;-81.3909542
END:VEVENT
BEGIN:VEVENT
DTSTART;TZID=America/New_York:20260529T200000
DTEND;TZID=America/New_York:20260529T220000
DTSTAMP:20260424T130108
CREATED:20241226T143754Z
LAST-MODIFIED:20260331T121545Z
UID:10053902-1780084800-1780092000@livemusicasheville.com
SUMMARY:Jump Blues w/ Virginia and The Slims
DESCRIPTION:
URL:https://livemusicasheville.com/calendar/virginia-and-the-slims/2026-05-29/
LOCATION:5 Walnut Wine Bar
CATEGORIES:Asheville Area,Live Music
GEO:35.596654;-82.5525389
END:VEVENT
BEGIN:VEVENT
DTSTART;TZID=America/New_York:20260529T200000
DTEND;TZID=America/New_York:20260529T230000
DTSTAMP:20260424T130108
CREATED:20250711T192233Z
LAST-MODIFIED:20260116T152048Z
UID:10028226-1780084800-1780095600@livemusicasheville.com
SUMMARY:Commodore Fox Band
DESCRIPTION:
URL:https://livemusicasheville.com/calendar/commodore-fox-band-2/2026-05-29/
LOCATION:Wild Wing Cafe South
CATEGORIES:Live Music,South Asheville/Arden/Fletcher
END:VEVENT
BEGIN:VEVENT
DTSTART;TZID=America/New_York:20260529T200000
DTEND;TZID=America/New_York:20260529T230000
DTSTAMP:20260424T130108
CREATED:20260423T184724Z
LAST-MODIFIED:20260423T184724Z
UID:10058963-1780084800-1780095600@livemusicasheville.com
SUMMARY:The Jacob Rodriguez Quartet | Featuring Jean Caze
DESCRIPTION:Members of this ensemble have been sharing sounds and stages with each other for 25 years and counting. Jean and Jacob first met in their undergrads at Manhattan School of Music in 2001. Jean Caze is a dynamic jazz trumpeter\, composer\, and educator known for his lyrical tone and inventive improvisation\, blending his Haitian roots with modern jazz. A Queens\, NY native\, he has performed with legends like Herbie Hancock and Aretha Franklin and is a featured soloist with Michael Bublé. He’s joined by Jacob Rodriguez\, a longtime member of Bublé’s band whose playing appears on Grammy-winning albums including Michael Bublé Meets Madison Square Garden\, Crazy Love\, and Higher. Born in Seattle and raised in San Antonio\, Rodriguez honed his craft in New York at the Manhattan School of Music\, performing with artists such as Aretha Franklin and Ambrose Akinmusire before joining Bublé at 26. Join them as they perform their original compositions as well as re-arrangements of jazz classics and re-imaginations of music by Phoebe Bridgers\, Sufjan Stevens\, and others with support from an all-star trio of Alex Taub\, Quinn Sternberg\, and Joe Enright. \nJacob Rodriguez – Saxophone Jean Caze – Trumpet Alex Taub – Keyboard Quinn Sternberg – Bass Joe Enright – Drums \n$10 weekdays -$15 weekends at the door (all ticket proceeds are 100% passed to the band\, backed by a living wage guarantee from Hotel Eve) \n*Reserve a table in advance\, or join us impromptu the night of the show. Reservations/advance tickets are recommended for preferred seating\, but not required. Tickets are available at the door on a first-come\, first-served basis.  Event Details and Tickets \nHotel Eve is your locally rooted\, speakeasy jazz club & cocktail bar\, hidden in the heart of Downtown Asheville. Mysteriously not a hotel…check in for spirits\, souls and jazz! We’re tucked away\, on purpose. You’ll find us behind the gate nestled between Virtue Boutique and Dane Wells Gallery at 56 N Lexington Avenue in downtown Asheville. Step through\, take a left into the courtyard\, check in for Spirits\, Souls & Jazz. We’ll be waiting on the other side. hotelevejazz.com \n 
URL:https://livemusicasheville.com/calendar/the-jacob-rodriguez-quartet-featuring-jean-caze/
LOCATION:Hotel Eve Jazz\, 56 N Lexington Avenue\, Asheville\, NC\, 28801\, United States
CATEGORIES:Asheville Area,Live Music
ATTACH;FMTTYPE=image/jpeg:https://livemusicasheville.com/wp-content/uploads/2026/04/607285035_17874954675467074_4231556573096960496_n-e1776707665224.jpg
GEO:35.5967716;-82.5530826
X-APPLE-STRUCTURED-LOCATION;VALUE=URI;X-ADDRESS=Hotel Eve Jazz 56 N Lexington Avenue Asheville NC 28801 United States;X-APPLE-RADIUS=500;X-TITLE=56 N Lexington Avenue:geo:-82.5530826,35.5967716
END:VEVENT
BEGIN:VEVENT
DTSTART;TZID=America/New_York:20260529T203000
DTEND;TZID=America/New_York:20260530T010000
DTSTAMP:20260424T130108
CREATED:20251224T142533Z
LAST-MODIFIED:20251224T142535Z
UID:10028298-1780086600-1780102800@livemusicasheville.com
SUMMARY:Elaine’s Dueling Piano Bar
DESCRIPTION:
URL:https://livemusicasheville.com/calendar/elaines-dueling-piano-bar-2/2026-05-29/
LOCATION:The Omni Grove Park Inn
CATEGORIES:Asheville Area,Live Music
GEO:35.6206376;-82.5422977
END:VEVENT
END:VCALENDAR