BEGIN:VCALENDAR
VERSION:2.0
PRODID:-//LiveMusicAsheville.com - ECPv6.15.20//NONSGML v1.0//EN
CALSCALE:GREGORIAN
METHOD:PUBLISH
X-WR-CALNAME:LiveMusicAsheville.com
X-ORIGINAL-URL:https://livemusicasheville.com
X-WR-CALDESC:Events for LiveMusicAsheville.com
REFRESH-INTERVAL;VALUE=DURATION:PT1H
X-Robots-Tag:noindex
X-PUBLISHED-TTL:PT1H
BEGIN:VTIMEZONE
TZID:America/New_York
BEGIN:DAYLIGHT
TZOFFSETFROM:-0500
TZOFFSETTO:-0400
TZNAME:EDT
DTSTART:20250309T070000
END:DAYLIGHT
BEGIN:STANDARD
TZOFFSETFROM:-0400
TZOFFSETTO:-0500
TZNAME:EST
DTSTART:20251102T060000
END:STANDARD
BEGIN:DAYLIGHT
TZOFFSETFROM:-0500
TZOFFSETTO:-0400
TZNAME:EDT
DTSTART:20260308T070000
END:DAYLIGHT
BEGIN:STANDARD
TZOFFSETFROM:-0400
TZOFFSETTO:-0500
TZNAME:EST
DTSTART:20261101T060000
END:STANDARD
BEGIN:DAYLIGHT
TZOFFSETFROM:-0500
TZOFFSETTO:-0400
TZNAME:EDT
DTSTART:20270314T070000
END:DAYLIGHT
BEGIN:STANDARD
TZOFFSETFROM:-0400
TZOFFSETTO:-0500
TZNAME:EST
DTSTART:20271107T060000
END:STANDARD
END:VTIMEZONE
BEGIN:VEVENT
DTSTART;VALUE=DATE:20260522
DTEND;VALUE=DATE:20260524
DTSTAMP:20260424T031437
CREATED:20251125T212109Z
LAST-MODIFIED:20260423T060843Z
UID:10025734-1779418800-1779505199@livemusicasheville.com
SUMMARY:We Update Our Calendar On Wednesdays
DESCRIPTION:That’s right folks\, other than our Featured Listings and repetitive events\, we update the calendar on Wednesdays for the coming Friday through next Thursday. This helps us bring you the most current and reliable information available. We also update throughout the week as we find out about music events that might interest you. \nWe suggest you save our calendar page to the Home Screen on your phone help you stay up to date on all the Asheville area music events.
URL:https://livemusicasheville.com/calendar/we-update-our-calendar-on-wednesdays/2026-05-22/
LOCATION:Asheville Area
CATEGORIES:Asheville Area,Live Music
ATTACH;FMTTYPE=image/jpeg:https://livemusicasheville.com/wp-content/uploads/2025/11/IMG_3224-e1764105623423.jpeg
END:VEVENT
BEGIN:VEVENT
DTSTART;VALUE=DATE:20260522
DTEND;VALUE=DATE:20260524
DTSTAMP:20260424T031437
CREATED:20260205T182133Z
LAST-MODIFIED:20260420T012209Z
UID:10043513-1779418800-1779505199@livemusicasheville.com
SUMMARY:Umphrey’s McGee
DESCRIPTION:Friday\, May 22nd & Saturday\, May 23rd\, 2026 | Pisgah Brewing Outdoor Stage | Doors open at 6:00PM\, music starts at 7:30PM \nFriday\, May 22nd Event Details and Tickets \nSaturday\, May 23rd Event Details and Tickets \nWith over 2\,800 live shows\, 15 studio albums\, and more than 27 years of musical evolution\, Umphrey’s McGee continues to defy classification and expectation. Drawing fans from around the globe and across musical boundaries\, the band has cultivated a devoted community rooted in spontaneity\, precision\, and connection. \nPioneers at the intersection of music and technology\, their live experience fuses cutting-edge production with fan-centric innovation\, creating a space where longtime followers and newcomers alike feel at home. Genre lines blur as progressive rock\, funk\, jazz\, metal\, electronic\, and beyond converge into something unmistakably Umphrey’s.\n\nMore than just a band\, Umphrey’s McGee is a living\, breathing organism — constantly evolving\, yet grounded in a singular mission: to create bold\, immersive\, and memorable musical experiences. \n  \nFounded in 2005\, Pisgah is known for producing some of the most sought after craft ales in Western North Carolina. Pisgah Brewing Company currently operates the new indoor taproom & deli\, with live music several days a week\, plus an open air outdoor bar in the summer and fall months. Check out our upcoming schedule at pisgahbrewing.com/events
URL:https://livemusicasheville.com/calendar/umphreys-mcgee/2026-05-22/
LOCATION:Pisgah Brewing Company Black Mountain\, 2948 US-70\, Black Mountain\, NC\, 28711
CATEGORIES:Asheville Area,Black Mountain,Live Music
ATTACH;FMTTYPE=image/jpeg:https://livemusicasheville.com/wp-content/uploads/2026/02/627480039_1368427411978098_970304923746143494_n-e1770315646754.jpg
GEO:35.6068069;-82.3568213
X-APPLE-STRUCTURED-LOCATION;VALUE=URI;X-ADDRESS=Pisgah Brewing Company Black Mountain 2948 US-70 Black Mountain NC 28711;X-APPLE-RADIUS=500;X-TITLE=2948 US-70:geo:-82.3568213,35.6068069
END:VEVENT
BEGIN:VEVENT
DTSTART;VALUE=DATE:20260522
DTEND;VALUE=DATE:20260524
DTSTAMP:20260424T031437
CREATED:20260414T191204Z
LAST-MODIFIED:20260414T193507Z
UID:10056676-1779418800-1779505199@livemusicasheville.com
SUMMARY:Supernova - A Tribute to Oasis w/sg Alla Prima
DESCRIPTION:Fri\, May 22nd\, 2026 || Doors 6PM || Show 7PM || From $17 Event Details and Tickets \nSupernova is an Oasis tribute band obsessed with recreating the raw energy\, intensity\, and swagger of a real Oasis gig. Most fans never got the chance to see Oasis in their prime – when they were still the scrappy Manchester lads playing clubs and theaters with something to prove. Supernova exists to deliver that experience: an intimate\, high-energy show where you can feel the music in your chest and sing every word at the top of your lungs. \nSupernova isn’t just another tribute band going through the motions. This six-piece outfit is obsessed with recreating the energy\, intensity\, and swagger of a live Oasis performance. From the opening chords of “Rock ‘n’ Roll Star” to the final notes of “Champagne Supernova\,” every show is crafted to deliver the full Oasis experience—loud\, raw\, and unapologetic rock and roll. thesupernovatribute.com \nAsheville’s local garage rock/alt-blues band Alla Prima opens the show!! allaprimaofficial.com
URL:https://livemusicasheville.com/calendar/supernova-a-tribute-to-oasis/
LOCATION:Eulogy\, 10 Buxton Ave\, Asheville\, NC\, 28801
CATEGORIES:Asheville Area,Live Music
ATTACH;FMTTYPE=image/jpeg:https://livemusicasheville.com/wp-content/uploads/2026/04/658015126_122298307922023997_1336333073070347371_n-e1776195422447.jpg
GEO:35.5883468;-82.5539256
X-APPLE-STRUCTURED-LOCATION;VALUE=URI;X-ADDRESS=Eulogy 10 Buxton Ave Asheville NC 28801;X-APPLE-RADIUS=500;X-TITLE=10 Buxton Ave:geo:-82.5539256,35.5883468
END:VEVENT
BEGIN:VEVENT
DTSTART;TZID=America/New_York:20260522T163000
DTEND;TZID=America/New_York:20260522T201500
DTSTAMP:20260424T031437
CREATED:20260415T225105Z
LAST-MODIFIED:20260415T225422Z
UID:10057450-1779467400-1779480900@livemusicasheville.com
SUMMARY:Live Music at the Bandstand
DESCRIPTION:Friday\, May 1\, 2026 Clay Lunsford Band Americana\nSaturday\, May 2\, 2026 Kelley and The Cowboys Country Western\nFriday\, May 8\, 2026 Speak EZ Jazz\, Motown\, R&B\nSaturday\, May 9\, 2026 Speak EZ Jazz\, Motown\, R&B\nFriday\, May 15\, 2026 One Leg Up Acoustic Swing\, Gypsy Jazz\nSaturday\, May 16\, 2026 Company Swing Jazz\, Latin\, Bossa\, Gypsy\, Soft Pop\nFriday\, May 22\, 2026 Not From Here featuring Sandi Grecco\, Jazz Rock Blues\nSaturday\, May 23\, 2026 Flashback Band 80’s Rock\nSunday\, May 24\, 2026 Freeport Jazz Smooth Jazz\nFriday\, May 29\, 2026 Fwuit Pop\nSaturday\, May 30\, 2026 Firecracker Jazz Band Dixieland Jazz \nTo enjoy this complimentary event\, guest must have a daytime ticket\, a Biltmore Annual Pass\, or a stay at one of the estate’s splendid overnight properties. 
URL:https://livemusicasheville.com/calendar/live-music-at-the-bandstand-4-2/2026-05-22/
LOCATION:Antler Hill Village\, Biltmore Estate
CATEGORIES:Asheville Area,Live Music
END:VEVENT
BEGIN:VEVENT
DTSTART;TZID=America/New_York:20260522T173000
DTEND;TZID=America/New_York:20260522T193000
DTSTAMP:20260424T031437
CREATED:20260109T141021Z
LAST-MODIFIED:20260109T141022Z
UID:10028105-1779471000-1779478200@livemusicasheville.com
SUMMARY:Hank and Vollie
DESCRIPTION:
URL:https://livemusicasheville.com/calendar/hank-and-vollie-2/2026-05-22/
LOCATION:Battery Park Book Exchange & Champagne Bar
CATEGORIES:Asheville Area,Live Music
GEO:35.5951042;-82.556633
END:VEVENT
BEGIN:VEVENT
DTSTART;TZID=America/New_York:20260522T173000
DTEND;TZID=America/New_York:20260522T203000
DTSTAMP:20260424T031437
CREATED:20260309T151501Z
LAST-MODIFIED:20260309T151502Z
UID:10036365-1779471000-1779481800@livemusicasheville.com
SUMMARY:The Grateful Family Band!
DESCRIPTION:
URL:https://livemusicasheville.com/calendar/the-grateful-family-band-3-2-2/2026-05-22/
LOCATION:The Social East Asheville
CATEGORIES:Asheville Area,Live Music
GEO:35.5878491;-82.4909537
END:VEVENT
BEGIN:VEVENT
DTSTART;TZID=America/New_York:20260522T173000
DTEND;TZID=America/New_York:20260522T213000
DTSTAMP:20260424T031437
CREATED:20260221T134837Z
LAST-MODIFIED:20260320T181747Z
UID:10050572-1779471000-1779485400@livemusicasheville.com
SUMMARY:The Friday Drum Circle
DESCRIPTION:Weather dependent
URL:https://livemusicasheville.com/calendar/the-friday-drum-circle-3/2026-05-22/
LOCATION:Pritchard Park Downtown\, 67 Patton Avenue\, Asheville\, NC\, 28801
CATEGORIES:Asheville Area,Live Music,Open MIc/Jam
GEO:35.5947402;-82.5543431
X-APPLE-STRUCTURED-LOCATION;VALUE=URI;X-ADDRESS=Pritchard Park Downtown 67 Patton Avenue Asheville NC 28801;X-APPLE-RADIUS=500;X-TITLE=67 Patton Avenue:geo:-82.5543431,35.5947402
END:VEVENT
BEGIN:VEVENT
DTSTART;TZID=America/New_York:20260522T180000
DTEND;TZID=America/New_York:20260522T200000
DTSTAMP:20260424T031437
CREATED:20260421T151351Z
LAST-MODIFIED:20260421T151351Z
UID:10058138-1779472800-1779480000@livemusicasheville.com
SUMMARY:Fridays In The RAD Music Series
DESCRIPTION:Records in the RAD in the River Arts District is a thoughtfully curated record store with an eclectic selection of vinyl\, both new and used. In addition to records\, we also have a music inspired art gallery\, which features artwork from Brian\, Dylan and Susan Haynes. recordsintherad.com \nAt Wedge Brewing\, we got our start in the River Arts District\, and therefore hold art and community very close to us. We create beer for the creatives and give them a place to commune. wedgebrewing.com \n  \nScreenshot\n  \n  \n 
URL:https://livemusicasheville.com/calendar/fridays-in-the-rad-music-series-3/2026-05-22/
LOCATION:Records in the RAD/The Wedge
CATEGORIES:Asheville Area,Live Music
ATTACH;FMTTYPE=image/jpeg:https://livemusicasheville.com/wp-content/uploads/2025/06/483859064_639983772123902_5187475918688955438_n-e1776710785302.jpg
END:VEVENT
BEGIN:VEVENT
DTSTART;TZID=America/New_York:20260522T180000
DTEND;TZID=America/New_York:20260522T230000
DTSTAMP:20260424T031437
CREATED:20250207T164158Z
LAST-MODIFIED:20260422T131528Z
UID:10028150-1779472800-1779490800@livemusicasheville.com
SUMMARY:Friday Open Mic/Jam
DESCRIPTION:Flora Asheville – 5:30-7:30pm (April 17) \nTurgua Brewing Fairview – 6-8pm (2nd & 4th Fridays) \nCoffee\, Art\, Music type Place – 6-8pm (First Fridays) \nWagWorld Pub Fletcher – 6:30-9:30pm \nElevated Kava Downtown – 8-11
URL:https://livemusicasheville.com/calendar/friday-open-mic-jam/2026-05-22/
LOCATION:Asheville Area
CATEGORIES:Asheville Area,Madison County,Open MIc/Jam,South Asheville/Arden/Fletcher
END:VEVENT
BEGIN:VEVENT
DTSTART;TZID=America/New_York:20260522T180000
DTEND;TZID=America/New_York:20260523T020000
DTSTAMP:20260424T031437
CREATED:20241225T134450Z
LAST-MODIFIED:20260415T173808Z
UID:10027315-1779472800-1779501600@livemusicasheville.com
SUMMARY:Friday Weekly DJ's
DESCRIPTION:Although we are primarily a Live Music Calendar\, we often come across Electronic & DJ events in the area and list them for you as we find out about them. Please verify the DJ\, times and cover charges with the venue. \nLA Pizza Party Rooftop – 6-9pm \nThe Radical – 6-11pm \nPotential New Boyfriend – 7:30-11pm \nCapella On 9 – 8-11pm \nBen’s Tune Up – 8-11pm \nAntidote – 9-11pm \nBanks Ave – 9-11:30pm \nVOWL – 9pm-1am \nDouble Crown – 9pm-2am \nHavana Miami – 9pm-2am \nStatic Age Loft – 9pm-2am \nWaterstreet – 9pm-2am \nLa Pizza Party – 10pm-2am \nThe Barksdale – 10pm-2am \nLazy Diamond – 10pm-2am \nSticks On Broadway – 10pm-2am \nStrange Magic Bar – 10pm-2am \nShakeys – 10pm-2am \n  \nVerify with the venue on times\, cover charges and tonight’s DJ.
URL:https://livemusicasheville.com/calendar/friday-weekly-dj-schedule/2026-05-22/
LOCATION:Asheville Area
CATEGORIES:Asheville Area,DJ/Electronic
END:VEVENT
BEGIN:VEVENT
DTSTART;TZID=America/New_York:20260522T190000
DTEND;TZID=America/New_York:20260522T210000
DTSTAMP:20260424T031437
CREATED:20251029T132808Z
LAST-MODIFIED:20260415T133603Z
UID:10056858-1779476400-1779483600@livemusicasheville.com
SUMMARY:Grass Is Back!
DESCRIPTION:No Cover – Donations accepted!\n\n\n\n\nApril 17 – Lynn Goldsmith & The Jeter Mountain Band\nApril 24 – New Carolina Connection Band\nMay 1 – Harlan County Grass\nMay 8 – Mulley Holler Band\nMay 15- Travis Watts & Mountain Blessings\nMay 22 – Hit or Miss Bluegrass & Country Band
URL:https://livemusicasheville.com/calendar/grass-is-back-3/2026-05-22/
LOCATION:Feed and Seed Fletcher
CATEGORIES:Asheville Area,Live Music,South Asheville/Arden/Fletcher
END:VEVENT
BEGIN:VEVENT
DTSTART;TZID=America/New_York:20260522T190000
DTEND;TZID=America/New_York:20260522T220000
DTSTAMP:20260424T031437
CREATED:20251113T101742Z
LAST-MODIFIED:20260327T002508Z
UID:10052994-1779476400-1779487200@livemusicasheville.com
SUMMARY:Blues with Mr Jimmy
DESCRIPTION:
URL:https://livemusicasheville.com/calendar/blues-with-mr-jimmy-2-2-2/2026-05-22/
LOCATION:The Station Black Mountain
CATEGORIES:Asheville Area,Black Mountain,Live Music
END:VEVENT
BEGIN:VEVENT
DTSTART;TZID=America/New_York:20260522T190000
DTEND;TZID=America/New_York:20260522T220000
DTSTAMP:20260424T031437
CREATED:20251222T160644Z
LAST-MODIFIED:20251222T160644Z
UID:10029267-1779476400-1779487200@livemusicasheville.com
SUMMARY:The B's Trio in The Great Hall
DESCRIPTION:
URL:https://livemusicasheville.com/calendar/the-bs-trio-in-the-great-hall-2/2026-05-22/
LOCATION:The Omni Grove Park Inn
CATEGORIES:Asheville Area,Live Music
GEO:35.6206376;-82.5422977
END:VEVENT
BEGIN:VEVENT
DTSTART;TZID=America/New_York:20260522T190000
DTEND;TZID=America/New_York:20260522T220000
DTSTAMP:20260424T031437
CREATED:20260414T194549Z
LAST-MODIFIED:20260414T194549Z
UID:10056681-1779476400-1779487200@livemusicasheville.com
SUMMARY:Supernova - A Tribute to Oasis w/sg Alla Prima
DESCRIPTION:
URL:https://livemusicasheville.com/calendar/supernova-a-tribute-to-oasis-w-sg-alla-prima/
LOCATION:Eulogy\, 10 Buxton Ave\, Asheville\, NC\, 28801
CATEGORIES:Asheville Area,Live Music
GEO:35.5883468;-82.5539256
X-APPLE-STRUCTURED-LOCATION;VALUE=URI;X-ADDRESS=Eulogy 10 Buxton Ave Asheville NC 28801;X-APPLE-RADIUS=500;X-TITLE=10 Buxton Ave:geo:-82.5539256,35.5883468
END:VEVENT
BEGIN:VEVENT
DTSTART;TZID=America/New_York:20260522T190000
DTEND;TZID=America/New_York:20260523T010000
DTSTAMP:20260424T031437
CREATED:20241225T141623Z
LAST-MODIFIED:20260416T110217Z
UID:10056341-1779476400-1779498000@livemusicasheville.com
SUMMARY:Friday Karaoke
DESCRIPTION:  \n7-10pm – Mal’s Bar Marshall (February 20) \n7-10pm- Noble Cider (April 10) \n8pm-12am – Silverados Black Mountain \n8-11pm – Dalton Distillery (April 17) \n8-11pm – T Birds Weaverville \n8:30-11pm – The Village Porch Woodfin (April 17) \n8pm-1am – Fleetwoods (Feb 27) \n9pm-12am – Brewskies Fairview   \n9pm-12am – Little Creek Tavern Fletcher  \n9pm-1am – Handlebar & Grill \n9pm- 1am – O’Henrys \n9:30pm-1:30am – The Crowbar Downtown \n10pm – 2am – Shakeys \nVerify time and KJ with The Venue. \n  \n  \n\n 
URL:https://livemusicasheville.com/calendar/friday-weekly-karaoke/2026-05-22/
LOCATION:Asheville Area
CATEGORIES:Asheville Area,Black Mountain,Fairview,Karaoke,Madison County,Weaverville
END:VEVENT
BEGIN:VEVENT
DTSTART;TZID=America/New_York:20260522T190000
DTEND;TZID=America/New_York:20260523T020000
DTSTAMP:20260424T031437
CREATED:20241225T123126Z
LAST-MODIFIED:20251122T132355Z
UID:10025556-1779476400-1779501600@livemusicasheville.com
SUMMARY:Dueling Piano Show
DESCRIPTION:
URL:https://livemusicasheville.com/calendar/dueling-piano-show/2026-05-22/
LOCATION:Off the Wagon
CATEGORIES:Asheville Area,Live Music
GEO:41.4302231;-81.3909542
END:VEVENT
BEGIN:VEVENT
DTSTART;TZID=America/New_York:20260522T200000
DTEND;TZID=America/New_York:20260522T230000
DTSTAMP:20260424T031437
CREATED:20250711T192233Z
LAST-MODIFIED:20260116T152048Z
UID:10028225-1779480000-1779490800@livemusicasheville.com
SUMMARY:Commodore Fox Band
DESCRIPTION:
URL:https://livemusicasheville.com/calendar/commodore-fox-band-2/2026-05-22/
LOCATION:Wild Wing Cafe South
CATEGORIES:Live Music,South Asheville/Arden/Fletcher
END:VEVENT
BEGIN:VEVENT
DTSTART;TZID=America/New_York:20260522T200000
DTEND;TZID=America/New_York:20260522T230000
DTSTAMP:20260424T031437
CREATED:20260423T184037Z
LAST-MODIFIED:20260423T184037Z
UID:10058960-1779480000-1779490800@livemusicasheville.com
SUMMARY:Nick Garrison Quartet
DESCRIPTION:The Nick Garrison Quartet honors the traditions of jazz while pushing the music forward through a modern lens. Shaped by his time in New Orleans\, trombonist and vocalist Nick Garrison brings a deep connection to the blues and groove-driven playing\, now expanded by a more adventurous harmonic approach from his current base in Baltimore. The result is a dynamic\, high-energy sound—blending soulful expression\, hard-hitting grooves\, and inventive improvisation. \nFeaturing Nick Garrison (trombone & vocals)\, Tim Fischer (guitar)\, Josef Butts (bass)\, and Joe Enright (drums). \n$10 weekdays -$15 weekends at the door (all ticket proceeds are 100% passed to the band\, backed by a living wage guarantee from Hotel Eve) \n*Reserve a table in advance\, or join us impromptu the night of the show. Reservations/advance tickets are recommended for preferred seating\, but not required. Tickets are available at the door on a first-come\, first-served basis.  Event Details and Tickets \nHotel Eve is your locally rooted\, speakeasy jazz club & cocktail bar\, hidden in the heart of Downtown Asheville. Mysteriously not a hotel…check in for spirits\, souls and jazz! We’re tucked away\, on purpose. You’ll find us behind the gate nestled between Virtue Boutique and Dane Wells Gallery at 56 N Lexington Avenue in downtown Asheville. Step through\, take a left into the courtyard\, check in for Spirits\, Souls & Jazz. We’ll be waiting on the other side. hotelevejazz.com \n 
URL:https://livemusicasheville.com/calendar/nick-garrison-quartet/
LOCATION:Hotel Eve Jazz\, 56 N Lexington Avenue\, Asheville\, NC\, 28801\, United States
CATEGORIES:Asheville Area,Live Music
ATTACH;FMTTYPE=image/jpeg:https://livemusicasheville.com/wp-content/uploads/2026/04/607285035_17874954675467074_4231556573096960496_n-e1776707665224.jpg
GEO:35.5967716;-82.5530826
X-APPLE-STRUCTURED-LOCATION;VALUE=URI;X-ADDRESS=Hotel Eve Jazz 56 N Lexington Avenue Asheville NC 28801 United States;X-APPLE-RADIUS=500;X-TITLE=56 N Lexington Avenue:geo:-82.5530826,35.5967716
END:VEVENT
BEGIN:VEVENT
DTSTART;TZID=America/New_York:20260522T203000
DTEND;TZID=America/New_York:20260523T010000
DTSTAMP:20260424T031437
CREATED:20251224T142533Z
LAST-MODIFIED:20251224T142535Z
UID:10028296-1779481800-1779498000@livemusicasheville.com
SUMMARY:Elaine’s Dueling Piano Bar
DESCRIPTION:
URL:https://livemusicasheville.com/calendar/elaines-dueling-piano-bar-2/2026-05-22/
LOCATION:The Omni Grove Park Inn
CATEGORIES:Asheville Area,Live Music
GEO:35.6206376;-82.5422977
END:VEVENT
END:VCALENDAR