BEGIN:VCALENDAR
VERSION:2.0
PRODID:-//LiveMusicAsheville.com - ECPv6.15.20//NONSGML v1.0//EN
CALSCALE:GREGORIAN
METHOD:PUBLISH
X-WR-CALNAME:LiveMusicAsheville.com
X-ORIGINAL-URL:https://livemusicasheville.com
X-WR-CALDESC:Events for LiveMusicAsheville.com
REFRESH-INTERVAL;VALUE=DURATION:PT1H
X-Robots-Tag:noindex
X-PUBLISHED-TTL:PT1H
BEGIN:VTIMEZONE
TZID:America/New_York
BEGIN:DAYLIGHT
TZOFFSETFROM:-0500
TZOFFSETTO:-0400
TZNAME:EDT
DTSTART:20250309T070000
END:DAYLIGHT
BEGIN:STANDARD
TZOFFSETFROM:-0400
TZOFFSETTO:-0500
TZNAME:EST
DTSTART:20251102T060000
END:STANDARD
BEGIN:DAYLIGHT
TZOFFSETFROM:-0500
TZOFFSETTO:-0400
TZNAME:EDT
DTSTART:20260308T070000
END:DAYLIGHT
BEGIN:STANDARD
TZOFFSETFROM:-0400
TZOFFSETTO:-0500
TZNAME:EST
DTSTART:20261101T060000
END:STANDARD
BEGIN:DAYLIGHT
TZOFFSETFROM:-0500
TZOFFSETTO:-0400
TZNAME:EDT
DTSTART:20270314T070000
END:DAYLIGHT
BEGIN:STANDARD
TZOFFSETFROM:-0400
TZOFFSETTO:-0500
TZNAME:EST
DTSTART:20271107T060000
END:STANDARD
END:VTIMEZONE
BEGIN:VEVENT
DTSTART;VALUE=DATE:20260428
DTEND;VALUE=DATE:20260430
DTSTAMP:20260424T112237
CREATED:20260411T144316Z
LAST-MODIFIED:20260411T144317Z
UID:10056223-1777345200-1777431599@livemusicasheville.com
SUMMARY:COMING Saturday May 9th | You Can Call Me Paul (A Paul Simon Tribute)
DESCRIPTION:You Can Call Me Paul | May 9\, 2026 7:00 PM | $31+ Event Details and Tickets\nBenjamin Falcon formed a love of the Simon & Garfunkel songbook while growing up outside of DC\, in Alexandria\, VA\, through his parents fondness and nostalgia for Simon’s early work\, as well as Falcon’s frequent exposure to the music in radio and media. In college\, Falcon began to explore the larger catalogue of both Simon’s early and solo material.\n“You can call me Paul” has since sold out venues and attracted the collaboration of nationally touring musicians of note\, including Jason Hann (The String Cheese Incident)\, Justin Ray (Michael Bublé)\, Justin Stanton (Snarky Puppy).\nThis twelve-member band was assembled to authentically recreate the experience of seeing Simon’s solo work through the eras\, in a live setting\, with all the power and emotion that drew you to start.\n  \nFounded in 2005\, Pisgah is known for producing some of the most sought after craft ales in Western North Carolina. Pisgah Brewing Company currently operates the new indoor taproom & deli\, with live music several days a week\, plus an open air outdoor bar in the summer and fall months. Check out our upcoming schedule at pisgahbrewing.com/events
URL:https://livemusicasheville.com/calendar/coming-saturday-may-9th-you-can-call-me-paul-a-paul-simon-tribute-2/2026-04-28/
LOCATION:Pisgah Brewing Company Black Mountain\, 2948 US-70\, Black Mountain\, NC\, 28711
CATEGORIES:Asheville Area,Black Mountain,Live Music
ATTACH;FMTTYPE=image/jpeg:https://livemusicasheville.com/wp-content/uploads/2026/03/657258735_1413883220765850_5372182365295250927_n-e1774645194201.jpg
GEO:35.6068069;-82.3568213
X-APPLE-STRUCTURED-LOCATION;VALUE=URI;X-ADDRESS=Pisgah Brewing Company Black Mountain 2948 US-70 Black Mountain NC 28711;X-APPLE-RADIUS=500;X-TITLE=2948 US-70:geo:-82.3568213,35.6068069
END:VEVENT
BEGIN:VEVENT
DTSTART;TZID=America/New_York:20260428T153000
DTEND;TZID=America/New_York:20260428T183000
DTSTAMP:20260424T112237
CREATED:20260406T170531Z
LAST-MODIFIED:20260406T170531Z
UID:10054819-1777390200-1777401000@livemusicasheville.com
SUMMARY:Live Music at The Market
DESCRIPTION:Every Tuesday afternoon\, enjoy live music while stocking up on fresh produce and goodies from local favorites.
URL:https://livemusicasheville.com/calendar/live-music-at-the-market/2026-04-28/
LOCATION:West Asheville Tailgate Market.\, 718 Haywood Rd\, Asheville\, NC\, United States
CATEGORIES:Asheville Area,Live Music
ATTACH;FMTTYPE=image/jpeg:https://livemusicasheville.com/wp-content/uploads/2026/04/658860598_18577196326005885_7368238720050299296_n-e1775495083903.jpg
GEO:35.5770686;-82.5923882
X-APPLE-STRUCTURED-LOCATION;VALUE=URI;X-ADDRESS=West Asheville Tailgate Market. 718 Haywood Rd Asheville NC United States;X-APPLE-RADIUS=500;X-TITLE=718 Haywood Rd:geo:-82.5923882,35.5770686
END:VEVENT
BEGIN:VEVENT
DTSTART;TZID=America/New_York:20260428T153000
DTEND;TZID=America/New_York:20260428T233000
DTSTAMP:20260424T112237
CREATED:20241226T154009Z
LAST-MODIFIED:20260421T161506Z
UID:10027682-1777390200-1777419000@livemusicasheville.com
SUMMARY:Tuesday Open Mics/Jams
DESCRIPTION:Irish Session @ Diatribe Brewing – 4-6pm \nModerate Old Time Jam @ Cork & Keg – 5-6:30pm (1st & 3rd Tuesdays) \nNoble Cider – 5-8pm \nAcoustic Jam @ Turgua Brewing Fairview – 5:30-7pm (1st Tuesday-Old Time\, 2nd Tuesday-Irish Session\, 3rd Tuesday-Americana\, 4th Tuesday-Gypsy Jazz) (December 30-Irish Session) \nOpen Mic with Mike & Pat @ Sweeten Creek Brewing – 6-8:30pm (open bluegrass jam Feb 10) \nBluegrass Jam with Alex Bazemore @ Eda’s Hideaway Weaverville – 6:30-10pm \nScratch Ankle Fillin’ Station Candler – 7-9pm \nBeans & Tunes Old Time Jam w/ Banjo Mitch @Mals Bar Marshall – 7-9pm \nMudpuppies – 7-10pm \nEarly Tuesday Jam @ The One Stop – 7-10pm  \nOpen Mic w/Hamza @ The Social East Asheville – 7-11pm \nThe Open Jam with The Lactones @ Sovereign Kava – 8-11pm  \nWeaverville Open Mic @ Vintage Kava Weaverville – 9-11:30pm \n\n 
URL:https://livemusicasheville.com/calendar/tuesday-open-mics-jams/2026-04-28/
LOCATION:Asheville Area
CATEGORIES:Asheville Area,Black Mountain,Fairview,Open MIc/Jam,Weaverville
ATTACH;FMTTYPE=image/jpeg:https://livemusicasheville.com/wp-content/uploads/2024/12/IMG_9400-e1743027161179.jpeg
END:VEVENT
BEGIN:VEVENT
DTSTART;TZID=America/New_York:20260428T170000
DTEND;TZID=America/New_York:20260428T193000
DTSTAMP:20260424T112237
CREATED:20260324T141721Z
LAST-MODIFIED:20260407T121153Z
UID:10055122-1777395600-1777404600@livemusicasheville.com
SUMMARY:Daniel Shearin
DESCRIPTION:
URL:https://livemusicasheville.com/calendar/april-residency-daniel-shearin-3/2026-04-28/
LOCATION:New Belgium Brewing
CATEGORIES:Asheville Area,Live Music
END:VEVENT
BEGIN:VEVENT
DTSTART;TZID=America/New_York:20260428T170000
DTEND;TZID=America/New_York:20260429T010000
DTSTAMP:20260424T112237
CREATED:20250114T165902Z
LAST-MODIFIED:20260422T152410Z
UID:10052384-1777395600-1777424400@livemusicasheville.com
SUMMARY:Tuesday Karaoke
DESCRIPTION:Sierra Nevada Mills River – 5-9pm (April 28) \nWild Wing Cafe – 8-11pm \nThe One Stop – 10pm-1am \n 
URL:https://livemusicasheville.com/calendar/tuesday-karaoke/2026-04-28/
LOCATION:Asheville Area
CATEGORIES:Asheville Area,Karaoke
END:VEVENT
BEGIN:VEVENT
DTSTART;TZID=America/New_York:20260428T180000
DTEND;TZID=America/New_York:20260428T200000
DTSTAMP:20260424T112237
CREATED:20260304T182634Z
LAST-MODIFIED:20260304T182634Z
UID:10048261-1777399200-1777406400@livemusicasheville.com
SUMMARY:Black Mountain Bluegrass Jam "unplugged"
DESCRIPTION:Pisgah Brewing’s unplugged bluegrass jam is hosted on Tuesdays at 6pm in the taproom. Bring your instruments and join in. It’ll be held on the patio on nicer days.\nAll levels welcome.\n\n\nFounded in 2005\, Pisgah is known for producing some of the most sought after craft ales in Western North Carolina. Pisgah Brewing Company currently operates the new indoor taproom & deli\, with live music several days a week\, plus an open air outdoor bar in the summer and fall months. Check out our upcoming schedule at pisgahbrewing.com/events
URL:https://livemusicasheville.com/calendar/black-mountain-bluegrass-jam-unplugged/2026-04-28/
LOCATION:Pisgah Brewing Company Black Mountain\, 2948 US-70\, Black Mountain\, NC\, 28711
CATEGORIES:Asheville Area,Black Mountain,Live Music
ATTACH;FMTTYPE=image/jpeg:https://livemusicasheville.com/wp-content/uploads/2026/03/645631663_1394670986020407_5217295838333578307_n-e1773067467855.jpg
GEO:35.6068069;-82.3568213
X-APPLE-STRUCTURED-LOCATION;VALUE=URI;X-ADDRESS=Pisgah Brewing Company Black Mountain 2948 US-70 Black Mountain NC 28711;X-APPLE-RADIUS=500;X-TITLE=2948 US-70:geo:-82.3568213,35.6068069
END:VEVENT
BEGIN:VEVENT
DTSTART;TZID=America/New_York:20260428T180000
DTEND;TZID=America/New_York:20260428T200000
DTSTAMP:20260424T112237
CREATED:20260317T214747Z
LAST-MODIFIED:20260317T214748Z
UID:10015943-1777399200-1777406400@livemusicasheville.com
SUMMARY:Tuesdays w/ Ashley Heath
DESCRIPTION:
URL:https://livemusicasheville.com/calendar/ashley-heath-7-2-2-2/2026-04-28/
LOCATION:The Bush Farmhouse Black Mountain
CATEGORIES:Asheville Area,Black Mountain,Live Music
GEO:35.6171865;-82.3170606
END:VEVENT
BEGIN:VEVENT
DTSTART;TZID=America/New_York:20260428T180000
DTEND;TZID=America/New_York:20260428T203000
DTSTAMP:20260424T112237
CREATED:20250108T162243Z
LAST-MODIFIED:20260422T120901Z
UID:10005475-1777399200-1777408200@livemusicasheville.com
SUMMARY:MoonBeatz
DESCRIPTION:
URL:https://livemusicasheville.com/calendar/moonbeatz/
LOCATION:The Joint Next Door Fairview
CATEGORIES:Asheville Area,Fairview,Live Music
GEO:35.5251372;-82.424797
END:VEVENT
BEGIN:VEVENT
DTSTART;TZID=America/New_York:20260428T183000
DTEND;TZID=America/New_York:20260428T210000
DTSTAMP:20260424T112237
CREATED:20260409T092256Z
LAST-MODIFIED:20260409T092257Z
UID:10027781-1777401000-1777410000@livemusicasheville.com
SUMMARY:Mountain Shag Club
DESCRIPTION:
URL:https://livemusicasheville.com/calendar/mountain-shag-club-2/2026-04-28/
LOCATION:The Mule at Devils Foot Beverages\, 131 Sweeten Creek Road\, Asheville\, NC\, 28803\, United States
CATEGORIES:Asheville Area,DJ/Electronic
GEO:35.5588369;-82.5218977
X-APPLE-STRUCTURED-LOCATION;VALUE=URI;X-ADDRESS=The Mule at Devils Foot Beverages 131 Sweeten Creek Road Asheville NC 28803 United States;X-APPLE-RADIUS=500;X-TITLE=131 Sweeten Creek Road:geo:-82.5218977,35.5588369
END:VEVENT
BEGIN:VEVENT
DTSTART;TZID=America/New_York:20260428T190000
DTEND;TZID=America/New_York:20260428T210000
DTSTAMP:20260424T112237
CREATED:20250121T170922Z
LAST-MODIFIED:20260423T181843Z
UID:10006799-1777402800-1777410000@livemusicasheville.com
SUMMARY:Jenny Bradley's Curated Fourth Tuesdays
DESCRIPTION:ft: Elizabeth McCorvey\, Stevie Tombstone\, Molly Rose Reed and A. Lee Edwards! \n$10 suggested. Pay what you can
URL:https://livemusicasheville.com/calendar/jenny-bradleys-curated-fourth-tuesdays/
LOCATION:River Arts District Brewing\, 13 Mystery St\, Asheville\, NC\, 28801\, United States
CATEGORIES:Asheville Area,Live Music
GEO:35.5846876;-82.5649928
X-APPLE-STRUCTURED-LOCATION;VALUE=URI;X-ADDRESS=River Arts District Brewing 13 Mystery St Asheville NC 28801 United States;X-APPLE-RADIUS=500;X-TITLE=13 Mystery St:geo:-82.5649928,35.5846876
END:VEVENT
BEGIN:VEVENT
DTSTART;TZID=America/New_York:20260428T190000
DTEND;TZID=America/New_York:20260428T210000
DTSTAMP:20260424T112237
CREATED:20250305T195606Z
LAST-MODIFIED:20260422T193708Z
UID:10009475-1777402800-1777410000@livemusicasheville.com
SUMMARY:Golden Folk Sessions
DESCRIPTION:
URL:https://livemusicasheville.com/calendar/golden-folk-sessions-2/
LOCATION:The Grey Eagle\, 185 Clingman Ave\, Asheville\, NC\, United States
CATEGORIES:Asheville Area,Live Music
GEO:35.5870871;-82.5643936
X-APPLE-STRUCTURED-LOCATION;VALUE=URI;X-ADDRESS=The Grey Eagle 185 Clingman Ave Asheville NC United States;X-APPLE-RADIUS=500;X-TITLE=185 Clingman Ave:geo:-82.5643936,35.5870871
END:VEVENT
BEGIN:VEVENT
DTSTART;TZID=America/New_York:20260428T190000
DTEND;TZID=America/New_York:20260428T210000
DTSTAMP:20260424T112237
CREATED:20260401T141843Z
LAST-MODIFIED:20260401T141844Z
UID:10054355-1777402800-1777410000@livemusicasheville.com
SUMMARY:Mark Bumgarner
DESCRIPTION:
URL:https://livemusicasheville.com/calendar/mark-bumgarner-2-2-2-3-2-2-2/2026-04-28/
LOCATION:Blue Mountain Pizza Weaverville
CATEGORIES:Asheville Area,Live Music,Weaverville
GEO:35.698228;-82.560231
END:VEVENT
BEGIN:VEVENT
DTSTART;TZID=America/New_York:20260428T190000
DTEND;TZID=America/New_York:20260428T220000
DTSTAMP:20260424T112237
CREATED:20250624T071658Z
LAST-MODIFIED:20260422T134424Z
UID:10014015-1777402800-1777413600@livemusicasheville.com
SUMMARY:Live Jazz Tuesday: Jay Sanders' Empyrean Trio
DESCRIPTION:The Empyrean Trio ascends to the highest sphere of musical expression\, where Sanders\, Page\, and Hall commune in the celestial realm of pure improvisation. Like ancient philosophers who believed the empyrean was the highest heaven—a place of fire and light beyond the physical world—this trio inhabits the ethereal space where earthbound genres dissolve into transcendent musical dialogue. \nTheir original compositions float between the terrestrial and the sublime\, oscillating from groove-laden explorations that anchor listeners to the physical realm\, to free-form adventures that lift consciousness into the empyrean heights of pure sonic possibility. Through jazz\, rock\, blues\, and world music influences refined by years of improvisational alchemy\, the trio channels the luminous fire of creative spontaneity. \nIn this rarefied atmosphere\, Sanders’ guitar becomes a conduit between the material and immaterial\, Page’s bass provides the gravitational pull that keeps the music tethered to human experience\, while Hall’s percussion creates the rhythmic cosmos in which their empyrean visions unfold. \nThe Empyrean Trio: \n\nZack Page – Acoustic & Electric Bass\nAlan Hall – Drums\nJay Sanders – Guitar and Effects\n\n\nTogether: architecture in four dimensions. Three virtuosos deciding atmospheric constraints are suggestions that can be ignored with sufficient escape velocity.\n\n\n\n\n\nEvery Monday and Tuesday\, Little Jumbo brings live jazz to your ears. littlejumbobar.com \n“Simply put\, Little Jumbo should be at the top of your list of places for cocktails in Asheville. The drinks and service are both top-notch\, and the atmosphere is reminiscent of a relaxed speakeasy\, without a trace of the pretention that can sometimes be found in such places.” ~ The SmokyMountains.com Local Expert Team
URL:https://livemusicasheville.com/calendar/live-jazz-tuesday-jay-sanders-will-boyd-zack-page-alan-hall-4-2-3/
LOCATION:Little Jumbo\, 241 Broadway St\, Asheville\, NC\, 28801
CATEGORIES:Asheville Area,Live Music
ATTACH;FMTTYPE=image/jpeg:https://livemusicasheville.com/wp-content/uploads/2025/06/up9t0406qz0empgsjjx3dg6d9lm1-e1771426474902.jpg
GEO:35.6024336;-82.5568463
X-APPLE-STRUCTURED-LOCATION;VALUE=URI;X-ADDRESS=Little Jumbo 241 Broadway St Asheville NC 28801;X-APPLE-RADIUS=500;X-TITLE=241 Broadway St:geo:-82.5568463,35.6024336
END:VEVENT
BEGIN:VEVENT
DTSTART;TZID=America/New_York:20260428T190000
DTEND;TZID=America/New_York:20260428T220000
DTSTAMP:20260424T112237
CREATED:20260210T190606Z
LAST-MODIFIED:20260210T190608Z
UID:10043241-1777402800-1777413600@livemusicasheville.com
SUMMARY:Clouds of Delusion
DESCRIPTION:
URL:https://livemusicasheville.com/calendar/clouds-of-delusion-5-4-2-2/2026-04-28/
LOCATION:One World Brewing – West\, 520 Haywood Rd\, Asheville\, North Carolina\, 28806
CATEGORIES:Asheville Area,Live Music
GEO:35.5783642;-82.5848526
X-APPLE-STRUCTURED-LOCATION;VALUE=URI;X-ADDRESS=One World Brewing – West 520 Haywood Rd Asheville North Carolina 28806;X-APPLE-RADIUS=500;X-TITLE=520 Haywood Rd:geo:-82.5848526,35.5783642
END:VEVENT
BEGIN:VEVENT
DTSTART;TZID=America/New_York:20260428T190000
DTEND;TZID=America/New_York:20260428T233000
DTSTAMP:20260424T112237
CREATED:20250322T150845Z
LAST-MODIFIED:20251214T215054Z
UID:10027475-1777402800-1777419000@livemusicasheville.com
SUMMARY:Save Our Website to Your Home Screen 📲
DESCRIPTION:As an interactive calendar\, we often add events to our calendar as we find out about them\, sometimes even from our phone while we are out supporting local live music. By adding our website\, LiveMusicAsheville.com to your home screen\, we will always be right at your fingertips. Here’s how:\n\n\n\n\niPhone (using Safari):\n\n\n\nOpen Safari and navigate to the website: you want to add as a shortcut. \n\n\n\n\n\n\n\n\nTap the Share button: (a square with an arrow pointing out of the top). \n\n\n\n\n\n\n\n\nScroll down and tap “Add to Home Screen” . \n\n\n\n\n\n\n\n\nChoose a name for the shortcut: and tap “Add”. \n\n\n\n\n\n\n\n\nThe shortcut will appear on your home screen as an icon. \n\n\n\n\n\n\n\n\n\n\n\nAndroid (using Chrome or other browsers):\n\n\n\nOpen Chrome (or your preferred browser) and navigate to the website: you want to add.\nTap the three-dot menu icon: (usually in the top right corner).\nSelect “Add to Home Screen” .\nCustomize the name of the shortcut: if desired\, and then tap “Add”.\nThe shortcut will appear on your home screen as an icon. 
URL:https://livemusicasheville.com/calendar/add-our-website-to-your-home-screen/2026-04-28/
CATEGORIES:Asheville Area
END:VEVENT
BEGIN:VEVENT
DTSTART;TZID=America/New_York:20260428T190000
DTEND;TZID=America/New_York:20260429T020000
DTSTAMP:20260424T112237
CREATED:20241226T144543Z
LAST-MODIFIED:20260224T090529Z
UID:10046535-1777402800-1777428000@livemusicasheville.com
SUMMARY:Tuesday Weekly DJ Schedule
DESCRIPTION:Although we are primarily a Live Music Calendar\, we often come across Electronic & DJ events in the area and list them for you as we find out about them. Please verify the DJ\, times and cover charges with the venue. \nPotential New Boyfriend – 7-11pm \nThird Room (open decks) – 8pm-12am \nThe Double Crown – 10pm-2am \nLazy Diamond – 10pm-2am \nShakeys – 10pm-2am
URL:https://livemusicasheville.com/calendar/tuesday-weekly-dj-schedule/2026-04-28/
CATEGORIES:Asheville Area,DJ/Electronic
END:VEVENT
BEGIN:VEVENT
DTSTART;TZID=America/New_York:20260428T193000
DTEND;TZID=America/New_York:20260428T230000
DTSTAMP:20260424T112237
CREATED:20260422T192854Z
LAST-MODIFIED:20260422T192854Z
UID:10058464-1777404600-1777417200@livemusicasheville.com
SUMMARY:GWAR w/ Soulfly\, King Parrot
DESCRIPTION:
URL:https://livemusicasheville.com/calendar/gwar-w-soulfly-king-parrot/
LOCATION:The Orange Peel
CATEGORIES:Asheville Area,Live Music
GEO:35.5914061;-82.5510137
END:VEVENT
BEGIN:VEVENT
DTSTART;TZID=America/New_York:20260428T193000
DTEND;TZID=America/New_York:20260428T233000
DTSTAMP:20260424T112237
CREATED:20260422T153054Z
LAST-MODIFIED:20260422T153054Z
UID:10058430-1777404600-1777419000@livemusicasheville.com
SUMMARY:Weedeater w/ Conan & Telekinetic Yeti
DESCRIPTION:
URL:https://livemusicasheville.com/calendar/weedeater-w-conan-telekinetic-yeti/
LOCATION:Third Room\, 46 Wall Street\, Asheville\, NC\, NC\, 28803\, United States
CATEGORIES:Asheville Area,Live Music
GEO:35.5943967;-82.5559625
X-APPLE-STRUCTURED-LOCATION;VALUE=URI;X-ADDRESS=Third Room 46 Wall Street Asheville NC NC 28803 United States;X-APPLE-RADIUS=500;X-TITLE=46 Wall Street:geo:-82.5559625,35.5943967
END:VEVENT
BEGIN:VEVENT
DTSTART;TZID=America/New_York:20260428T200000
DTEND;TZID=America/New_York:20260428T220000
DTSTAMP:20260424T112237
CREATED:20251023T142458Z
LAST-MODIFIED:20260406T181605Z
UID:10054859-1777406400-1777413600@livemusicasheville.com
SUMMARY:Hot Jazz w/ The John Henrys
DESCRIPTION:
URL:https://livemusicasheville.com/calendar/hot-jazz-w-the-john-henrys-2-2/2026-04-28/
LOCATION:5 Walnut Wine Bar
CATEGORIES:Asheville Area,Live Music
GEO:35.596654;-82.5525389
END:VEVENT
BEGIN:VEVENT
DTSTART;TZID=America/New_York:20260428T200000
DTEND;TZID=America/New_York:20260428T230000
DTSTAMP:20260424T112237
CREATED:20260422T190544Z
LAST-MODIFIED:20260422T190544Z
UID:10058458-1777406400-1777417200@livemusicasheville.com
SUMMARY:Marlon Funaki
DESCRIPTION:
URL:https://livemusicasheville.com/calendar/marlon-funaki/
LOCATION:Eulogy\, 10 Buxton Ave\, Asheville\, NC\, 28801
CATEGORIES:Asheville Area,Live Music
GEO:35.5883468;-82.5539256
X-APPLE-STRUCTURED-LOCATION;VALUE=URI;X-ADDRESS=Eulogy 10 Buxton Ave Asheville NC 28801;X-APPLE-RADIUS=500;X-TITLE=10 Buxton Ave:geo:-82.5539256,35.5883468
END:VEVENT
END:VCALENDAR