BEGIN:VCALENDAR
VERSION:2.0
PRODID:-//LiveMusicAsheville.com - ECPv6.15.20//NONSGML v1.0//EN
CALSCALE:GREGORIAN
METHOD:PUBLISH
X-WR-CALNAME:LiveMusicAsheville.com
X-ORIGINAL-URL:https://livemusicasheville.com
X-WR-CALDESC:Events for LiveMusicAsheville.com
REFRESH-INTERVAL;VALUE=DURATION:PT1H
X-Robots-Tag:noindex
X-PUBLISHED-TTL:PT1H
BEGIN:VTIMEZONE
TZID:America/New_York
BEGIN:DAYLIGHT
TZOFFSETFROM:-0500
TZOFFSETTO:-0400
TZNAME:EDT
DTSTART:20250309T070000
END:DAYLIGHT
BEGIN:STANDARD
TZOFFSETFROM:-0400
TZOFFSETTO:-0500
TZNAME:EST
DTSTART:20251102T060000
END:STANDARD
BEGIN:DAYLIGHT
TZOFFSETFROM:-0500
TZOFFSETTO:-0400
TZNAME:EDT
DTSTART:20260308T070000
END:DAYLIGHT
BEGIN:STANDARD
TZOFFSETFROM:-0400
TZOFFSETTO:-0500
TZNAME:EST
DTSTART:20261101T060000
END:STANDARD
BEGIN:DAYLIGHT
TZOFFSETFROM:-0500
TZOFFSETTO:-0400
TZNAME:EDT
DTSTART:20270314T070000
END:DAYLIGHT
BEGIN:STANDARD
TZOFFSETFROM:-0400
TZOFFSETTO:-0500
TZNAME:EST
DTSTART:20271107T060000
END:STANDARD
END:VTIMEZONE
BEGIN:VEVENT
DTSTART;VALUE=DATE:20260420
DTEND;VALUE=DATE:20260422
DTSTAMP:20260420T021318
CREATED:20260115T155240Z
LAST-MODIFIED:20260416T122141Z
UID:10057543-1776654000-1776740399@livemusicasheville.com
SUMMARY:Love What We Do .......... Buy Us A Beer!
DESCRIPTION:We hope you enjoy our guide to the Asheville area’s dynamic music scene. \nIf we somehow help to brighten up your day\, please consider a small donation to help support our efforts in providing the area’s most reliable local live music calendar. \nVenmo: click here  \nLast 4 digits – 3383 \nPayPal: click here \n 
URL:https://livemusicasheville.com/calendar/greetings-fellow-music-lovers-2-2/2026-04-20/
LOCATION:Asheville Area
CATEGORIES:Asheville Area
ATTACH;FMTTYPE=image/jpeg:https://livemusicasheville.com/wp-content/uploads/2026/04/IMG_4936-e1776341497401.jpeg
END:VEVENT
BEGIN:VEVENT
DTSTART;VALUE=DATE:20260420
DTEND;VALUE=DATE:20260422
DTSTAMP:20260420T021318
CREATED:20260420T011733Z
LAST-MODIFIED:20260420T011734Z
UID:10057857-1776654000-1776740399@livemusicasheville.com
SUMMARY:COMING SATURDAY April 25 | Pisgah Palooza 2026 - (21 Years of Pisgah Brewing)
DESCRIPTION:Saturday April 25\, 2026 6:00 PM | Doors Open: 5:00 PM | Advance Tickets are on sale now – 2 for $21! Event Details and Tickets\nJoin us on April 25th to celebrate 21 years of Pisgah Brewing with Sqwerv\, Airshow and Pocketful of Gold.\n\nDenver’s electrifying Indie-Jam Band\, Sqwerv is a nationally touring quartet that brings elements of classic rock\, psychedelic music\, funk\, and jam fusion for an experience like no other. The band explores rich sonic realms with a depth of improvisational virtuosity. Their passion for well crafted songs and blended harmonies set this group apart in their scene. The band released 2 full length studio albums in 2024\, ‘Mirage’ and ‘Hors d’Oeuvres’ and has a new full length record on the way in 2025. They have opened for acts such as George Clinton and Parliament Funkadelic\, Pigeons Playing Ping Pong\, Eggy\, Big Something\, Spafford and many more.\n–\nAirshow is a high-flying\, Nashville-based jam band featuring a unique contrast of familiar acoustic and mind-bending electric sounds that transports listeners from a campfire picking-party to the outer reaches of the multiverse. Formed by longtime friends Cody Chelius (Mandolin / Vocals) and Steve Gallagher (Guitar / Vocals)\, the group’s lineup was completed with the addition of Bill Baker (Bass/ Vocals) and John Rodrigue (Drums/ Vocals) in 2016. While each member has different musical influences\, it is their shared passion for exploring uncharted sonic territories that has propelled their ascension to the top of Nashville’s jamband scene— and they won’t be landing anytime soon.\n–\nPocketful of Gold\, Asheville’s newest Led Zeppelin Experience\, makes their debut on Pisgah’s Outdoor Stage! Featuring Hannah Ramsey\, Alex Bazemore\, Jackson Chisholm\, and Zach Jones\, these frizzy-haired folk bring their love of Led Zeppelin together to offer a musical experience that both honors their iconic sound and showcases the inspiration that it’s had on each member’s personal musicianship.\n  \nFounded in 2005\, Pisgah is known for producing some of the most sought after craft ales in Western North Carolina. Pisgah Brewing Company currently operates the new indoor taproom & deli\, with live music several days a week\, plus an open air outdoor bar in the summer and fall months. Check out our upcoming schedule at pisgahbrewing.com/events
URL:https://livemusicasheville.com/calendar/pisgah-palooza-2026-2/2026-04-20/
LOCATION:Pisgah Brewing Company Black Mountain\, 2948 US-70\, Black Mountain\, NC\, 28711
CATEGORIES:Asheville Area,Black Mountain,Live Music
ATTACH;FMTTYPE=image/jpeg:https://livemusicasheville.com/wp-content/uploads/2026/01/617704239_1358962522924587_2721723407800321272_n-e1769530924423.jpg
GEO:35.6068069;-82.3568213
X-APPLE-STRUCTURED-LOCATION;VALUE=URI;X-ADDRESS=Pisgah Brewing Company Black Mountain 2948 US-70 Black Mountain NC 28711;X-APPLE-RADIUS=500;X-TITLE=2948 US-70:geo:-82.3568213,35.6068069
END:VEVENT
BEGIN:VEVENT
DTSTART;TZID=America/New_York:20260420T170000
DTEND;TZID=America/New_York:20260420T223000
DTSTAMP:20260420T021318
CREATED:20251216T174756Z
LAST-MODIFIED:20260321T173633Z
UID:10030212-1776704400-1776724200@livemusicasheville.com
SUMMARY:Monday Open Mics/Jams
DESCRIPTION:Musicians In The Round @Urban Orchard South Slope – 6-8:30pm (5:30 sign up) (exclude 2/2) \nOld Time Jam @Dirty Jack’s – 5:30-9pm \nJazz/Blues Jam @ Zillacoah Brewing – 6-8pm \nBlue Mountain Pizza Weaverville – 6-9pm (last Thursday of the month excluding December) \nMarshall Bluegrass Jam @ Mals’ Bar – 6:30-9pm \nHaywood Country Club – 7-10:30pm  \nOne World Brewing Downtown – 7:30-10:30pm \n  \n  \n\n 
URL:https://livemusicasheville.com/calendar/monday-open-mics-jams-2-2/2026-04-20/
LOCATION:Asheville Area
CATEGORIES:Asheville Area,Open MIc/Jam
END:VEVENT
BEGIN:VEVENT
DTSTART;TZID=America/New_York:20260420T180000
DTEND;TZID=America/New_York:20260420T200000
DTSTAMP:20260420T021318
CREATED:20251209T024030Z
LAST-MODIFIED:20260321T173441Z
UID:10050833-1776708000-1776715200@livemusicasheville.com
SUMMARY:Jazz/Blues Jam hosted by Paul Helou
DESCRIPTION:
URL:https://livemusicasheville.com/calendar/jazz-night-2/2026-04-20/
LOCATION:Zillicoah Beer Company
CATEGORIES:Asheville Area,Live Music
END:VEVENT
BEGIN:VEVENT
DTSTART;TZID=America/New_York:20260420T180000
DTEND;TZID=America/New_York:20260420T200000
DTSTAMP:20260420T021318
CREATED:20260415T210041Z
LAST-MODIFIED:20260415T210041Z
UID:10057444-1776708000-1776715200@livemusicasheville.com
SUMMARY:AMP is Back!
DESCRIPTION:Join Asheville Music Professionals on 4/20 from 6–8 PM for a laid-back social to reconnect\, catch up\, and hang with your fellow music community. Whether you’ve been part of AMP for years or are just getting plugged in\, this is a chance to be in the room\, share stories\, and celebrate being back together.\nParty favors will be provided by Small Axe Cannabis Company\, and The Whale will be hosting a tasting featuring Loui Loui cannabis sodas.\nCome through\, bring a friend\, and let’s celebrate the return of AMP
URL:https://livemusicasheville.com/calendar/amp-is-back/
LOCATION:The Whale :: West Asheville
CATEGORIES:Asheville Area
GEO:35.5779408;-82.5827733
END:VEVENT
BEGIN:VEVENT
DTSTART;TZID=America/New_York:20260420T180000
DTEND;TZID=America/New_York:20260420T200000
DTSTAMP:20260420T021318
CREATED:20260416T104339Z
LAST-MODIFIED:20260416T104339Z
UID:10057470-1776708000-1776715200@livemusicasheville.com
SUMMARY:Sonare Music Academy presents: Beethoven 32 Bicentennial Celebration Kick-Off
DESCRIPTION:Sonare Music Academy\, under the artistic direction of Dr. Hwa-Jin Kim\, proudly presents The Beethoven 32 Concert\, in collaboration with Freeburg Pianos. This landmark celebration brings together 32 pianists\, ages 14 to 88\, to perform all 32 Beethoven piano sonatas in one unforgettable week. The first event of its kind in North Carolina\, the festival honors Beethoven’s enduring spirit and the power of community through music. \nEvent Details and Tickets \nThe Schedule\nSunday\, April 19\, 3–6 PM – Freeburg Pianos\nOpening Reception and Piano Performance \nPerformers: Kevin Ayesh #11\, Op. 22 — Heather Lee #18\, Op. 31\, No. 3 — Tavenier #21\, Op. 53 —Polly Feitzinger #27\, Op. 90 — Deborah Belcher #30\, Op. 109 \nMonday\, April 20\, 6-8 PM – Piano Emporium\nPerformers: Elena Stephens #1\, Op. 2\, No. 1 — Matt Blanks #3\, Op. 2\, No. 3 — Judy Phillips #5\, Op. 10\, No. 1 — Monica Song #7\, Op. 10\, No. 3 — Melanie Thompson #12\, Op. 26 \nTuesday\, April 21\, 6-8 PM – Piano Emporium\nPerformers: Edward Lyrene (Eddie) #4\, Op. 7 — Carol McCollum #10\, Op. 14\, No. 2 — Odile Perrenoud #14\, Op. 27\, No. 2 — Randy Kern #15\, Op. 28 — Sharyn Edwards #23\, Op. 57 \nWednesday\, April 22\, 6-8 PM – Piano Emporium\nPerformers: Arabella Nienaber #6\, Op. 10\, No. 2 — Nolan Adcock #13\, Op. 27\, No. 1 — Victoria Fischer Faw #16\, Op. 31\, No. 1 — Ethan Abraham #25\, Op. 79 — Vance Reese #26\, Op. 81a \nThursday\, April 23\, 6-8 PM – Piano Emporium\nPerformers: Shirley Gruenhut #2\, Op. 2\, No. 2 — Katie Osborn #9\, Op. 14\, No. 1 — Elizabeth Child #17\, Op. 31\, No. 2 — Luccia Marguglio #19\, Op. 49\, No. 1 — Ashe Denny #20\, Op. 49\, No. 2 \nFriday\, April 24\, 6–8 PM – Freeburg Pianos\nPerformers: Renee Allsbrook #8\, Op. 13 — Leonidas Lagrimas #22\, Op. 54 — Muen Vanessa Wei #29\, Op. 106 — Hwa-Jin Kim #31\, Op. 110 \nSaturday\, April 25\, 4-7pm – Freeburg Pianos\nPerformers: Derek Parsons #24\, Op. 78 — Leslie Downs #28\, Op. 101 — John Cobb #32\, Op. 111 \n• 4–6 PM – Final Piano Performance at Freeburg Pianos \n• 6–7 PM – Raffle Winner Announcement and Closing Ceremony with Donors and Sponsors \nBeethoven Event Locations\nFreeburg Pianos: 2314 Asheville Hwy\, Hendersonville\, NC 28791 \nPiano Emporium: 828 Hendersonville Road\, Asheville\, NC 28803
URL:https://livemusicasheville.com/calendar/sonare-music-academy-presents-beethoven-32-bicentennial-celebration-kick-off-2/2026-04-20/
LOCATION:Piano Emporium\, 828 Hendersonville Road\, Asheville\, NC\, 28803\, United States
CATEGORIES:Asheville Area,Live Music
ATTACH;FMTTYPE=image/jpeg:https://livemusicasheville.com/wp-content/uploads/2026/04/671029481_122154903206976819_4573151486702976550_n-e1776335704321.jpg
GEO:35.5432964;-82.5327928
X-APPLE-STRUCTURED-LOCATION;VALUE=URI;X-ADDRESS=Piano Emporium 828 Hendersonville Road Asheville NC 28803 United States;X-APPLE-RADIUS=500;X-TITLE=828 Hendersonville Road:geo:-82.5327928,35.5432964
END:VEVENT
BEGIN:VEVENT
DTSTART;TZID=America/New_York:20260420T180000
DTEND;TZID=America/New_York:20260420T203000
DTSTAMP:20260420T021318
CREATED:20260413T203229Z
LAST-MODIFIED:20260413T203231Z
UID:10014514-1776708000-1776717000@livemusicasheville.com
SUMMARY:Alex Bazemore and Friends
DESCRIPTION:Join Alex Bazemore and Friends for a Monday night residency at French Broad River Brewery. The bluegrass/ Jamgrass group is a mash up of local Asheville “all star” musicians set to explore new musical frontiers together and melt faces. Alex and his rotating cast of local musicians play sets with ranging genres and styles influenced by everything from bluegrass to folk\, jam \, funk\, and blues. Free show\, pet and family friendly! \nFrench Broad River Brewery is more than just a place to enjoy a drink—it’s a community hub where great beer\, delicious pizza\, live music\, and good times come together. Just minutes from the Biltmore Estate & Downtown\, our taproom is a gathering spot for locals and visitors alike. We regularly host live music and entertainment in our taproom\, making French Broad River Brewery a lively hub of local activity. From bluegrass to reggae\, there’s always something happening. Check out our Events Page to see what’s coming up next! \nNo brewery experience is complete without great food. That’s why we offer French Broad River Pizza\, serving up hot\, hand-tossed pizzas made to order. Whether you’re here for a quick slice or a full meal\, our pizza perfectly complements our craft beers and the lively atmosphere of our taproom. frenchbroadbrewery.com/pizza \n 
URL:https://livemusicasheville.com/calendar/alex-bazemore-and-friends-2-2-2-2-2-2-2-2-2-2/2026-04-20/
LOCATION:French Broad River Brewery\, 101 Fairview Rd\, Asheville\, NC\, United States
CATEGORIES:Asheville Area,Live Music
ATTACH;FMTTYPE=image/jpeg:https://livemusicasheville.com/wp-content/uploads/2026/03/3748C40B-D52C-48B6-833D-BE97AA2BF4DE-e1773349369508.jpeg
GEO:35.5662722;-82.5374054
X-APPLE-STRUCTURED-LOCATION;VALUE=URI;X-ADDRESS=French Broad River Brewery 101 Fairview Rd Asheville NC United States;X-APPLE-RADIUS=500;X-TITLE=101 Fairview Rd:geo:-82.5374054,35.5662722
END:VEVENT
BEGIN:VEVENT
DTSTART;TZID=America/New_York:20260420T180000
DTEND;TZID=America/New_York:20260421T020000
DTSTAMP:20260420T021318
CREATED:20241226T132023Z
LAST-MODIFIED:20260308T081314Z
UID:10027630-1776708000-1776736800@livemusicasheville.com
SUMMARY:Monday Weekly DJs
DESCRIPTION:Although we are primarily a Live Music Calendar\, we often come across Electronic & DJ events in the area and list them for you as we find out about them. Please verify the DJ\, times and cover charges with the venue. \nAntidote – 6-9pm \nCoffee Art Music Type Place (CAMP) – 7-9pm (swing) \nLazy Diamond- 10pm-2am \nCheck with the venue on tonight’s djs and cover charges.
URL:https://livemusicasheville.com/calendar/monday-djs/2026-04-20/
LOCATION:Asheville Area
CATEGORIES:Asheville Area,DJ/Electronic
END:VEVENT
BEGIN:VEVENT
DTSTART;TZID=America/New_York:20260420T190000
DTEND;TZID=America/New_York:20260420T210000
DTSTAMP:20260420T021318
CREATED:20250702T121700Z
LAST-MODIFIED:20260304T145213Z
UID:10028523-1776711600-1776718800@livemusicasheville.com
SUMMARY:Blues with Mr Jimmy & Friends
DESCRIPTION:
URL:https://livemusicasheville.com/calendar/blues-with-mr-jimmy-friends-2/2026-04-20/
LOCATION:The Joint Next Door Fairview
CATEGORIES:Asheville Area,Fairview,Live Music
GEO:35.5251372;-82.424797
END:VEVENT
BEGIN:VEVENT
DTSTART;TZID=America/New_York:20260420T190000
DTEND;TZID=America/New_York:20260420T210000
DTSTAMP:20260420T021318
CREATED:20260126T214751Z
LAST-MODIFIED:20260418T133814Z
UID:10029742-1776711600-1776718800@livemusicasheville.com
SUMMARY:Music Mondays with host Ashley Heath
DESCRIPTION:  \n\n\n\n\n\n\n\n\n\n\n\n\n\n\n\n\n\n\n\n\n\n\n\n\nCheck with the venue on Ashley’s future guests.
URL:https://livemusicasheville.com/calendar/ashley-heath-mondays-2-2-2-2-2-2-2/2026-04-20/
LOCATION:Town Pump Tavern Black Mountain
CATEGORIES:Asheville Area,Black Mountain,Live Music
GEO:35.6162458;-82.320259
END:VEVENT
BEGIN:VEVENT
DTSTART;TZID=America/New_York:20260420T190000
DTEND;TZID=America/New_York:20260420T220000
DTSTAMP:20260420T021318
CREATED:20250212T135433Z
LAST-MODIFIED:20260415T141659Z
UID:10008136-1776711600-1776722400@livemusicasheville.com
SUMMARY:Free Jazz Monday w/ The Page Brothers
DESCRIPTION:
URL:https://livemusicasheville.com/calendar/free-jazz-monday-w-bill-bares-the-asheville-art-trio/
LOCATION:Little Jumbo\, 241 Broadway St\, Asheville\, NC\, 28801
CATEGORIES:Asheville Area,Live Music
GEO:35.6024336;-82.5568463
X-APPLE-STRUCTURED-LOCATION;VALUE=URI;X-ADDRESS=Little Jumbo 241 Broadway St Asheville NC 28801;X-APPLE-RADIUS=500;X-TITLE=241 Broadway St:geo:-82.5568463,35.6024336
END:VEVENT
BEGIN:VEVENT
DTSTART;TZID=America/New_York:20260420T190000
DTEND;TZID=America/New_York:20260420T220000
DTSTAMP:20260420T021318
CREATED:20260223T193302Z
LAST-MODIFIED:20260223T193303Z
UID:10026827-1776711600-1776722400@livemusicasheville.com
SUMMARY:Asheville Monday Night Contra Dance
DESCRIPTION:
URL:https://livemusicasheville.com/calendar/asheville-monday-night-contra-dance-2-2-2/2026-04-20/
LOCATION:The Ivy Building at AB Tech
CATEGORIES:Asheville Area,Live Music
GEO:35.6104607;-82.5676894
END:VEVENT
BEGIN:VEVENT
DTSTART;TZID=America/New_York:20260420T190000
DTEND;TZID=America/New_York:20260421T020000
DTSTAMP:20260420T021318
CREATED:20241226T131635Z
LAST-MODIFIED:20260309T201711Z
UID:10024701-1776711600-1776736800@livemusicasheville.com
SUMMARY:Monday Karaoke
DESCRIPTION:The Social East Asheville – 7-11pm \nBen’s TuneUp – 7-10pm \nEda’a Hideaway Weaverville – 7-10pm \nIce Bar Arden – 8-11pm (March 2) \n27 Club – 9pm-2am \nFleetwood’s – 9pm-12am (7pm start on 2/2) \nDaytrip – 9pm – (verify with the venue) \nThe Double Crown – Country Karaoke- 10pm-2am \nBe sure to check times and KJ with the venue. \n 
URL:https://livemusicasheville.com/calendar/monday-karaoke/2026-04-20/
LOCATION:NC
CATEGORIES:Asheville Area,Karaoke
END:VEVENT
BEGIN:VEVENT
DTSTART;TZID=America/New_York:20260420T193000
DTEND;TZID=America/New_York:20260420T210000
DTSTAMP:20260420T021318
CREATED:20260419T143740Z
LAST-MODIFIED:20260419T143814Z
UID:10057832-1776713400-1776718800@livemusicasheville.com
SUMMARY:Warren Wilson Spring Choir Concert
DESCRIPTION:Come enjoy a program of traditional world music vocal harmonies from around the world presented by the WWC Choir. This playful and expressive group of singers will get you singing along and bring a musical treat to your ears. Directed by Susannah Park\, you can join us in the Warren Wilson Chapel at 7:30 pm on Monday\, April 20th.
URL:https://livemusicasheville.com/calendar/warren-wilson-spring-choir-concert/
LOCATION:Warren Wilson College Swannanoa\, 701 Warren Wilson Road\, Swannanoa\, NC
CATEGORIES:Asheville Area,Black Mountain,Live Music
GEO:35.611126;-82.4422791
X-APPLE-STRUCTURED-LOCATION;VALUE=URI;X-ADDRESS=Warren Wilson College Swannanoa 701 Warren Wilson Road Swannanoa NC;X-APPLE-RADIUS=500;X-TITLE=701 Warren Wilson Road:geo:-82.4422791,35.611126
END:VEVENT
BEGIN:VEVENT
DTSTART;TZID=America/New_York:20260420T200000
DTEND;TZID=America/New_York:20260420T220000
DTSTAMP:20260420T021318
CREATED:20250925T174110Z
LAST-MODIFIED:20260413T163229Z
UID:10021607-1776715200-1776722400@livemusicasheville.com
SUMMARY:The Backyard Revival
DESCRIPTION:
URL:https://livemusicasheville.com/calendar/the-backyard-revival/
LOCATION:5 Walnut Wine Bar
CATEGORIES:Asheville Area,Live Music
GEO:35.596654;-82.5525389
END:VEVENT
BEGIN:VEVENT
DTSTART;TZID=America/New_York:20260420T200000
DTEND;TZID=America/New_York:20260420T230000
DTSTAMP:20260420T021318
CREATED:20260410T145849Z
LAST-MODIFIED:20260410T145850Z
UID:10056218-1776715200-1776726000@livemusicasheville.com
SUMMARY:Arete/Mashup 420 Celebration w/sg Strong Fire Reggae
DESCRIPTION:Asheville’s Arete Hemp sponsors the night for a special 4/20 Celebration!\nFirst 100 people get in FREE\, courtesy of Arete!!\nPlus\, Arete is sponsoring special guests Strong Fire Reggae for a special mid set show!\nEvent at 8pmMusic starts at 8:30Going until 11:30!\nFirst 100 people free!Then $10 after.\nDon’t miss this special night!!
URL:https://livemusicasheville.com/calendar/arete-mashup-420-celebration-w-sg-strong-fire-reggae/
LOCATION:One World Brewing – West\, 520 Haywood Rd\, Asheville\, North Carolina\, 28806
CATEGORIES:Asheville Area,Live Music
ATTACH;FMTTYPE=image/jpeg:https://livemusicasheville.com/wp-content/uploads/2026/04/669684642_1277143847848784_5946076090385773524_n-e1775833081150.jpg
GEO:35.5783642;-82.5848526
X-APPLE-STRUCTURED-LOCATION;VALUE=URI;X-ADDRESS=One World Brewing – West 520 Haywood Rd Asheville North Carolina 28806;X-APPLE-RADIUS=500;X-TITLE=520 Haywood Rd:geo:-82.5848526,35.5783642
END:VEVENT
BEGIN:VEVENT
DTSTART;TZID=America/New_York:20260420T200000
DTEND;TZID=America/New_York:20260420T230000
DTSTAMP:20260420T021318
CREATED:20260415T185738Z
LAST-MODIFIED:20260415T185738Z
UID:10057408-1776715200-1776726000@livemusicasheville.com
SUMMARY:Holy Fuck w/ Gus Englehorn
DESCRIPTION:
URL:https://livemusicasheville.com/calendar/holy-fuck-w-gus-englehorn/
LOCATION:Eulogy\, 10 Buxton Ave\, Asheville\, NC\, 28801
CATEGORIES:Asheville Area,Live Music
GEO:35.5883468;-82.5539256
X-APPLE-STRUCTURED-LOCATION;VALUE=URI;X-ADDRESS=Eulogy 10 Buxton Ave Asheville NC 28801;X-APPLE-RADIUS=500;X-TITLE=10 Buxton Ave:geo:-82.5539256,35.5883468
END:VEVENT
BEGIN:VEVENT
DTSTART;TZID=America/New_York:20260420T200000
DTEND;TZID=America/New_York:20260420T230000
DTSTAMP:20260420T021318
CREATED:20260415T190929Z
LAST-MODIFIED:20260415T191011Z
UID:10057414-1776715200-1776726000@livemusicasheville.com
SUMMARY:Danny Brown w/ midwxst\, chase usa
DESCRIPTION:
URL:https://livemusicasheville.com/calendar/danny-brown-w-midwxst-chase-usa/
LOCATION:NC
CATEGORIES:Asheville Area,DJ/Electronic,Live Music
END:VEVENT
BEGIN:VEVENT
DTSTART;TZID=America/New_York:20260420T200000
DTEND;TZID=America/New_York:20260420T230000
DTSTAMP:20260420T021318
CREATED:20260415T192308Z
LAST-MODIFIED:20260415T192308Z
UID:10057424-1776715200-1776726000@livemusicasheville.com
SUMMARY:Jerry’s Dead
DESCRIPTION:
URL:https://livemusicasheville.com/calendar/jerrys-dead-2/
LOCATION:The Grey Eagle\, 185 Clingman Ave\, Asheville\, NC\, United States
CATEGORIES:Asheville Area,Live Music
GEO:35.5870871;-82.5643936
X-APPLE-STRUCTURED-LOCATION;VALUE=URI;X-ADDRESS=The Grey Eagle 185 Clingman Ave Asheville NC United States;X-APPLE-RADIUS=500;X-TITLE=185 Clingman Ave:geo:-82.5643936,35.5870871
END:VEVENT
END:VCALENDAR