BEGIN:VCALENDAR
VERSION:2.0
PRODID:-//LiveMusicAsheville.com - ECPv6.15.20//NONSGML v1.0//EN
CALSCALE:GREGORIAN
METHOD:PUBLISH
X-WR-CALNAME:LiveMusicAsheville.com
X-ORIGINAL-URL:https://livemusicasheville.com
X-WR-CALDESC:Events for LiveMusicAsheville.com
REFRESH-INTERVAL;VALUE=DURATION:PT1H
X-Robots-Tag:noindex
X-PUBLISHED-TTL:PT1H
BEGIN:VTIMEZONE
TZID:America/New_York
BEGIN:DAYLIGHT
TZOFFSETFROM:-0500
TZOFFSETTO:-0400
TZNAME:EDT
DTSTART:20250309T070000
END:DAYLIGHT
BEGIN:STANDARD
TZOFFSETFROM:-0400
TZOFFSETTO:-0500
TZNAME:EST
DTSTART:20251102T060000
END:STANDARD
BEGIN:DAYLIGHT
TZOFFSETFROM:-0500
TZOFFSETTO:-0400
TZNAME:EDT
DTSTART:20260308T070000
END:DAYLIGHT
BEGIN:STANDARD
TZOFFSETFROM:-0400
TZOFFSETTO:-0500
TZNAME:EST
DTSTART:20261101T060000
END:STANDARD
BEGIN:DAYLIGHT
TZOFFSETFROM:-0500
TZOFFSETTO:-0400
TZNAME:EDT
DTSTART:20270314T070000
END:DAYLIGHT
BEGIN:STANDARD
TZOFFSETFROM:-0400
TZOFFSETTO:-0500
TZNAME:EST
DTSTART:20271107T060000
END:STANDARD
END:VTIMEZONE
BEGIN:VEVENT
DTSTART;VALUE=DATE:20260416
DTEND;VALUE=DATE:20260418
DTSTAMP:20260424T112313
CREATED:20260115T155240Z
LAST-MODIFIED:20260423T154010Z
UID:10037466-1776308400-1776394799@livemusicasheville.com
SUMMARY:Love What We Do .......... Buy Us A Beer!
DESCRIPTION:We hope you enjoy our guide to the Asheville area’s dynamic music scene. \nIf we somehow help to brighten up your day\, please consider a small donation to help support our efforts in providing the area’s most reliable local live music calendar. \nVenmo: click here  \nLast 4 digits – 3383 \nPayPal: click here \n 
URL:https://livemusicasheville.com/calendar/greetings-fellow-music-lovers-2-2/2026-04-16/
LOCATION:Asheville Area
CATEGORIES:Asheville Area
ATTACH;FMTTYPE=image/jpeg:https://livemusicasheville.com/wp-content/uploads/2019/01/alcohol-alcoholic-beverages-beer-1624263-e1776958791382.jpg
END:VEVENT
BEGIN:VEVENT
DTSTART;VALUE=DATE:20260416
DTEND;VALUE=DATE:20260418
DTSTAMP:20260424T112313
CREATED:20260127T162323Z
LAST-MODIFIED:20260420T011548Z
UID:10057856-1776308400-1776394799@livemusicasheville.com
SUMMARY:COMING SATURDAY April 25 | Pisgah Palooza 2026 - (21 Years of Pisgah Brewing)
DESCRIPTION:Saturday April 25\, 2026 6:00 PM | Doors Open: 5:00 PM | Advance Tickets are on sale now – 2 for $21! Event Details and Tickets\nJoin us on April 25th to celebrate 21 years of Pisgah Brewing with Sqwerv\, Airshow and Pocketful of Gold.\n\nDenver’s electrifying Indie-Jam Band\, Sqwerv is a nationally touring quartet that brings elements of classic rock\, psychedelic music\, funk\, and jam fusion for an experience like no other. The band explores rich sonic realms with a depth of improvisational virtuosity. Their passion for well crafted songs and blended harmonies set this group apart in their scene. The band released 2 full length studio albums in 2024\, ‘Mirage’ and ‘Hors d’Oeuvres’ and has a new full length record on the way in 2025. They have opened for acts such as George Clinton and Parliament Funkadelic\, Pigeons Playing Ping Pong\, Eggy\, Big Something\, Spafford and many more.\n–\nAirshow is a high-flying\, Nashville-based jam band featuring a unique contrast of familiar acoustic and mind-bending electric sounds that transports listeners from a campfire picking-party to the outer reaches of the multiverse. Formed by longtime friends Cody Chelius (Mandolin / Vocals) and Steve Gallagher (Guitar / Vocals)\, the group’s lineup was completed with the addition of Bill Baker (Bass/ Vocals) and John Rodrigue (Drums/ Vocals) in 2016. While each member has different musical influences\, it is their shared passion for exploring uncharted sonic territories that has propelled their ascension to the top of Nashville’s jamband scene— and they won’t be landing anytime soon.\n–\nPocketful of Gold\, Asheville’s newest Led Zeppelin Experience\, makes their debut on Pisgah’s Outdoor Stage! Featuring Hannah Ramsey\, Alex Bazemore\, Jackson Chisholm\, and Zach Jones\, these frizzy-haired folk bring their love of Led Zeppelin together to offer a musical experience that both honors their iconic sound and showcases the inspiration that it’s had on each member’s personal musicianship.\n  \nFounded in 2005\, Pisgah is known for producing some of the most sought after craft ales in Western North Carolina. Pisgah Brewing Company currently operates the new indoor taproom & deli\, with live music several days a week\, plus an open air outdoor bar in the summer and fall months. Check out our upcoming schedule at pisgahbrewing.com/events
URL:https://livemusicasheville.com/calendar/pisgah-palooza-2026/2026-04-16/
LOCATION:Pisgah Brewing Company Black Mountain\, 2948 US-70\, Black Mountain\, NC\, 28711
CATEGORIES:Asheville Area,Black Mountain,Live Music
ATTACH;FMTTYPE=image/jpeg:https://livemusicasheville.com/wp-content/uploads/2026/01/617704239_1358962522924587_2721723407800321272_n-e1769530924423.jpg
GEO:35.6068069;-82.3568213
X-APPLE-STRUCTURED-LOCATION;VALUE=URI;X-ADDRESS=Pisgah Brewing Company Black Mountain 2948 US-70 Black Mountain NC 28711;X-APPLE-RADIUS=500;X-TITLE=2948 US-70:geo:-82.3568213,35.6068069
END:VEVENT
BEGIN:VEVENT
DTSTART;VALUE=DATE:20260416
DTEND;VALUE=DATE:20260418
DTSTAMP:20260424T112313
CREATED:20260416T104943Z
LAST-MODIFIED:20260416T104944Z
UID:10041567-1776308400-1776394799@livemusicasheville.com
SUMMARY:THIS SATURDAY APRIL 18 | Pisgah Brewing Presents: Spafford w/ Captain Midnight Band
DESCRIPTION:Saturday April 18\, 2026 | DOORS: 6PM | SHOW: 7PM Event Details and Tickets \nSpafford is known for their astonishing improvisational ability and off-the-cuff extended jams\, Spafford paints a picture in real-time each night with a musical palette known only to each other. It’s a private language comprised of both their talent as musicians as well as their formidable catalog of influences\, spanning 90’s alt-rock radio hits to Steely Dan and The Crystal Method. Each Spafford show is a sonic pilgrimage\, the journey of a team of musicians so in tune with each other that a single note communicates intent and purpose. Spafford is amongst the most creative and hard-traveling bands on the contemporary jam scene\, performing countless sold-out headline dates along with high profile festival sets at Bonnaroo Music & Arts Festival\, Firefly Music Festival\, and many others.\nAll AgesChildren Under 12 FreeLimited Discounted Ticket 4-Packs are available\n  \nFounded in 2005\, Pisgah is known for producing some of the most sought after craft ales in Western North Carolina. Pisgah Brewing Company currently operates the new indoor taproom & deli\, with live music several days a week\, plus an open air outdoor bar in the summer and fall months. Check out our upcoming schedule at pisgahbrewing.com/events
URL:https://livemusicasheville.com/calendar/coming-april-18-pisgah-brewing-presents-spafford-2/
LOCATION:Pisgah Brewing Company Black Mountain\, 2948 US-70\, Black Mountain\, NC\, 28711
CATEGORIES:Asheville Area,Black Mountain,Live Music
ATTACH;FMTTYPE=image/jpeg:https://livemusicasheville.com/wp-content/uploads/2026/01/616168963_1357243266429846_5593842413348066904_n-e1769532093186.jpg
GEO:35.6068069;-82.3568213
X-APPLE-STRUCTURED-LOCATION;VALUE=URI;X-ADDRESS=Pisgah Brewing Company Black Mountain 2948 US-70 Black Mountain NC 28711;X-APPLE-RADIUS=500;X-TITLE=2948 US-70:geo:-82.3568213,35.6068069
END:VEVENT
BEGIN:VEVENT
DTSTART;TZID=America/New_York:20260416T090000
DTEND;TZID=America/New_York:20260416T103000
DTSTAMP:20260424T112313
CREATED:20260324T145424Z
LAST-MODIFIED:20260409T212604Z
UID:10051129-1776330000-1776335400@livemusicasheville.com
SUMMARY:Live Music Yoga with Seán Johnson ft. Chris Rosser
DESCRIPTION:
URL:https://livemusicasheville.com/calendar/live-music-yoga-with-sean-johnson-ft-chris-rosser/2026-04-16/
LOCATION:AyurPrana Listening Room\, 312 Haywood Rd\, Asheville\, NC\, 28806
CATEGORIES:Asheville Area,Live Music
GEO:35.5775962;-82.5760261
X-APPLE-STRUCTURED-LOCATION;VALUE=URI;X-ADDRESS=AyurPrana Listening Room 312 Haywood Rd Asheville NC 28806;X-APPLE-RADIUS=500;X-TITLE=312 Haywood Rd:geo:-82.5760261,35.5775962
END:VEVENT
BEGIN:VEVENT
DTSTART;TZID=America/New_York:20260416T120000
DTEND;TZID=America/New_York:20260416T130000
DTSTAMP:20260424T112313
CREATED:20250916T210709Z
LAST-MODIFIED:20260318T171402Z
UID:10049978-1776340800-1776344400@livemusicasheville.com
SUMMARY:Live at Lunch
DESCRIPTION:Please join the music department for a fantastic afternoon of music.\n\n\n 
URL:https://livemusicasheville.com/calendar/live-at-lunch-2/2026-04-16/
LOCATION:Reed Plaza\, UNCA
CATEGORIES:Asheville Area,Live Music
ATTACH;FMTTYPE=image/jpeg:https://livemusicasheville.com/wp-content/uploads/2025/09/650654521_1663580465141803_8045641685461310352_n-e1773906174812.jpg
END:VEVENT
BEGIN:VEVENT
DTSTART;TZID=America/New_York:20260416T170000
DTEND;TZID=America/New_York:20260416T190000
DTSTAMP:20260424T112313
CREATED:20260314T125134Z
LAST-MODIFIED:20260314T125135Z
UID:10045633-1776358800-1776366000@livemusicasheville.com
SUMMARY:The Candleers
DESCRIPTION:
URL:https://livemusicasheville.com/calendar/the-candleers-2-2-3-2/2026-04-16/
LOCATION:Twin Willows Mars Hill
CATEGORIES:Asheville Area,Live Music,Madison County
END:VEVENT
BEGIN:VEVENT
DTSTART;TZID=America/New_York:20260416T170000
DTEND;TZID=America/New_York:20260416T200000
DTSTAMP:20260424T112313
CREATED:20250409T115707Z
LAST-MODIFIED:20260408T113711Z
UID:10012387-1776358800-1776369600@livemusicasheville.com
SUMMARY:New Beer Thursday w/ Pete Townsend
DESCRIPTION:
URL:https://livemusicasheville.com/calendar/new-beer-thursday-with-pete-townsend/
LOCATION:Wicked Weed Brewpub
CATEGORIES:Asheville Area,Live Music
GEO:35.591694;-82.5510325
END:VEVENT
BEGIN:VEVENT
DTSTART;TZID=America/New_York:20260416T170000
DTEND;TZID=America/New_York:20260416T210000
DTSTAMP:20260424T112313
CREATED:20251008T152919Z
LAST-MODIFIED:20260416T180022Z
UID:10022380-1776358800-1776373200@livemusicasheville.com
SUMMARY:103.3 Asheville FM’s Spring Fund Drive Kickoff
DESCRIPTION:
URL:https://livemusicasheville.com/calendar/asheville-fms-fall-fund-drive-kickoff/
LOCATION:The Whale :: West Asheville
CATEGORIES:Asheville Area,DJ/Electronic
ATTACH;FMTTYPE=image/jpeg:https://livemusicasheville.com/wp-content/uploads/2025/10/IMG_4942-e1776362400345.jpeg
GEO:35.5779408;-82.5827733
END:VEVENT
BEGIN:VEVENT
DTSTART;TZID=America/New_York:20260416T170000
DTEND;TZID=America/New_York:20260416T210000
DTSTAMP:20260424T112313
CREATED:20260415T174400Z
LAST-MODIFIED:20260415T174400Z
UID:10057141-1776358800-1776373200@livemusicasheville.com
SUMMARY:Third Thursday ft. Eric Congdon
DESCRIPTION:Free for Members or included with Museum admission.
URL:https://livemusicasheville.com/calendar/third-thursday-ft-eric-congdon/
LOCATION:Asheville Art Museum
CATEGORIES:Asheville Area,Live Music
GEO:35.5946714;-82.5512827
END:VEVENT
BEGIN:VEVENT
DTSTART;TZID=America/New_York:20260416T173000
DTEND;TZID=America/New_York:20260416T193000
DTSTAMP:20260424T112313
CREATED:20250109T011105Z
LAST-MODIFIED:20260408T145418Z
UID:10018421-1776360600-1776367800@livemusicasheville.com
SUMMARY:Owen Walsh
DESCRIPTION:
URL:https://livemusicasheville.com/calendar/friday-music-series-w-hunter-begley/
LOCATION:12 Bones Brewing
CATEGORIES:Asheville Area,Live Music,South Asheville/Arden/Fletcher
END:VEVENT
BEGIN:VEVENT
DTSTART;TZID=America/New_York:20260416T180000
DTEND;TZID=America/New_York:20260416T200000
DTSTAMP:20260424T112313
CREATED:20250806T114948Z
LAST-MODIFIED:20260415T140641Z
UID:10018604-1776362400-1776369600@livemusicasheville.com
SUMMARY:Hope Griffin
DESCRIPTION:
URL:https://livemusicasheville.com/calendar/hope-griffin-duo/
LOCATION:The Old Haywood Filling Station Mills River
CATEGORIES:Asheville Area,Live Music,Mills River
END:VEVENT
BEGIN:VEVENT
DTSTART;TZID=America/New_York:20260416T180000
DTEND;TZID=America/New_York:20260416T200000
DTSTAMP:20260424T112313
CREATED:20260218T222138Z
LAST-MODIFIED:20260218T222139Z
UID:10045493-1776362400-1776369600@livemusicasheville.com
SUMMARY:Albi Podrizki
DESCRIPTION:
URL:https://livemusicasheville.com/calendar/albi-podrizki-3-2-2/2026-04-16/
LOCATION:Filo Post 70 East Asheville
CATEGORIES:Asheville Area,Live Music
END:VEVENT
BEGIN:VEVENT
DTSTART;TZID=America/New_York:20260416T180000
DTEND;TZID=America/New_York:20260416T200000
DTSTAMP:20260424T112313
CREATED:20260408T154230Z
LAST-MODIFIED:20260408T154230Z
UID:10055721-1776362400-1776369600@livemusicasheville.com
SUMMARY:Dan Mangan w/ Nathan Evans Fox
DESCRIPTION:
URL:https://livemusicasheville.com/calendar/dan-mangan-w-nathan-evans-fox/
LOCATION:Zadies Market at The Old Marshall Jail Hotel
CATEGORIES:Asheville Area,Live Music,Madison County
END:VEVENT
BEGIN:VEVENT
DTSTART;TZID=America/New_York:20260416T180000
DTEND;TZID=America/New_York:20260416T203000
DTSTAMP:20260424T112313
CREATED:20260408T105851Z
LAST-MODIFIED:20260408T105851Z
UID:10055689-1776362400-1776371400@livemusicasheville.com
SUMMARY:Hops For Harmony w/ Waylon Hamilton
DESCRIPTION:
URL:https://livemusicasheville.com/calendar/hops-for-harmony-w-waylon-hamilton/
LOCATION:Cellarest Beer Project
CATEGORIES:Asheville Area,Live Music
ATTACH;FMTTYPE=image/png:https://livemusicasheville.com/wp-content/uploads/2026/04/Screenshot-2026-04-08-065712-e1775645900622.png
GEO:35.5780646;-82.5794685
END:VEVENT
BEGIN:VEVENT
DTSTART;TZID=America/New_York:20260416T180000
DTEND;TZID=America/New_York:20260416T210000
DTSTAMP:20260424T112313
CREATED:20250507T121326Z
LAST-MODIFIED:20260408T111919Z
UID:10013867-1776362400-1776373200@livemusicasheville.com
SUMMARY:Daddy Rabbit
DESCRIPTION:
URL:https://livemusicasheville.com/calendar/daddy-rabbit/
LOCATION:Mills River Brewing Co.\, 336 Banner Farm Rd\,\, Mills River\, NC\, 28759
CATEGORIES:Asheville Area,Live Music,Mills River
GEO:35.380515;-82.5654984
X-APPLE-STRUCTURED-LOCATION;VALUE=URI;X-ADDRESS=Mills River Brewing Co. 336 Banner Farm Rd Mills River NC 28759;X-APPLE-RADIUS=500;X-TITLE=336 Banner Farm Rd\,:geo:-82.5654984,35.380515
END:VEVENT
BEGIN:VEVENT
DTSTART;TZID=America/New_York:20260416T180000
DTEND;TZID=America/New_York:20260416T210000
DTSTAMP:20260424T112313
CREATED:20250820T205822Z
LAST-MODIFIED:20260306T211447Z
UID:10019773-1776362400-1776373200@livemusicasheville.com
SUMMARY:Italian Night ft. Mike Guggino & Barrett Smith
DESCRIPTION:
URL:https://livemusicasheville.com/calendar/italian-night-ft-mike-guggino-barrett-smith-beppe-gambetta/
LOCATION:The Farm – A Gathering Place Candler
CATEGORIES:Asheville Area,Canton/Candler,Live Music
END:VEVENT
BEGIN:VEVENT
DTSTART;TZID=America/New_York:20260416T180000
DTEND;TZID=America/New_York:20260416T210000
DTSTAMP:20260424T112313
CREATED:20251121T203137Z
LAST-MODIFIED:20260107T125034Z
UID:10024961-1776362400-1776373200@livemusicasheville.com
SUMMARY:BUTTS & BOOTS :: Line Dancing
DESCRIPTION:
URL:https://livemusicasheville.com/calendar/butts-boots-line-dancing-3/2026-04-16/
LOCATION:Banks Ave
CATEGORIES:Asheville Area,DJ/Electronic
GEO:35.5892908;-82.5536382
END:VEVENT
BEGIN:VEVENT
DTSTART;TZID=America/New_York:20260416T180000
DTEND;TZID=America/New_York:20260416T210000
DTSTAMP:20260424T112313
CREATED:20251121T203256Z
LAST-MODIFIED:20251203T113432Z
UID:10013133-1776362400-1776373200@livemusicasheville.com
SUMMARY:Jerry’s Dead Thursdays
DESCRIPTION:Jerry’s Dead from Asheville is a fast growing\, fan favorite\, tribute to the music of Jerry Garcia. Members include Lee Kram on drums and vocals\, Gus Vigo on keys and vocals\, Dan Pederson on bass and vocals and features Tim Marsh on guitar and lead vocals. Drawing from over a hundred and fifty songs from The Grateful Dead and Jerry Garcia Band catalog\, this quartet delivers with fervor and improvisational spirit intact. \nFrench Broad River Brewery is more than just a place to enjoy a drink—it’s a community hub where great beer\, delicious pizza\, live music\, and good times come together. Just minutes from the Biltmore Estate & Downtown\, our taproom is a gathering spot for locals and visitors alike. We regularly host live music and entertainment in our taproom\, making French Broad River Brewery a lively hub of local activity. From bluegrass to reggae\, there’s always something happening. Check out our Events Page to see what’s coming up next! \nNo brewery experience is complete without great food. That’s why we offer French Broad River Pizza\, serving up hot\, hand-tossed pizzas made to order. Whether you’re here for a quick slice or a full meal\, our pizza perfectly complements our craft beers and the lively atmosphere of our taproom. frenchbroadbrewery.com/pizza \n 
URL:https://livemusicasheville.com/calendar/jerrys-dead-2-2-2-2-2-2/2026-04-16/
LOCATION:French Broad River Brewery\, 101 Fairview Rd\, Asheville\, NC\, United States
CATEGORIES:Asheville Area,Live Music
ATTACH;FMTTYPE=image/jpeg:https://livemusicasheville.com/wp-content/uploads/2025/03/480733944_955764170010259_7959141011877987736_n-e1746972963507.jpg
GEO:35.5662722;-82.5374054
X-APPLE-STRUCTURED-LOCATION;VALUE=URI;X-ADDRESS=French Broad River Brewery 101 Fairview Rd Asheville NC United States;X-APPLE-RADIUS=500;X-TITLE=101 Fairview Rd:geo:-82.5374054,35.5662722
END:VEVENT
BEGIN:VEVENT
DTSTART;TZID=America/New_York:20260416T180000
DTEND;TZID=America/New_York:20260416T210000
DTSTAMP:20260424T112313
CREATED:20260122T191302Z
LAST-MODIFIED:20260122T191304Z
UID:10025480-1776362400-1776373200@livemusicasheville.com
SUMMARY:Aaron LaFalce
DESCRIPTION:
URL:https://livemusicasheville.com/calendar/aaron-lafalce-2-2-2-2/2026-04-16/
LOCATION:131 Main Biltmore Park
CATEGORIES:Live Music,South Asheville/Arden/Fletcher
END:VEVENT
BEGIN:VEVENT
DTSTART;TZID=America/New_York:20260416T180000
DTEND;TZID=America/New_York:20260416T210000
DTSTAMP:20260424T112313
CREATED:20260408T134344Z
LAST-MODIFIED:20260408T134344Z
UID:10055704-1776362400-1776373200@livemusicasheville.com
SUMMARY:Trent Rash
DESCRIPTION:
URL:https://livemusicasheville.com/calendar/trent-rash/
LOCATION:Mad Co. Brew House Marshall
CATEGORIES:Asheville Area,Live Music,Madison County
END:VEVENT
BEGIN:VEVENT
DTSTART;TZID=America/New_York:20260416T180000
DTEND;TZID=America/New_York:20260416T230000
DTSTAMP:20260424T112313
CREATED:20251121T202643Z
LAST-MODIFIED:20260423T165611Z
UID:10024913-1776362400-1776380400@livemusicasheville.com
SUMMARY:Thursday Open Mics / Jams
DESCRIPTION:Bluegrass Jam @ Zuma Coffee Marshall – 6-8pm (first & third Thursdays) \nTrue Home Open Mic Night @Flood Gallery Fine Art Center (new location) 6-8:30pm \nBlunt Pretzels Swannanoa – 6-9pm \n \nGarden Creek Foundation Community Barn Jam – 6-9pm (Third Thursdays) \nOld Time or Irish Session @Leveller Brewing Co Weaverville – 6-9pm (Old Time 1st & 3rd Thursdays\, Irish Session 2nd & 4th Thursdays) \nHi Wire South Slope – 6-9pm \nWheelhouse South Slope – 7-10pm (exclude April 23) \nPlant Bar South Slope – 7-9pm (1st & 3rd Thursdays) \nBens Tune Up – 8-11pm (open mic/decks) \n  \n  \n 
URL:https://livemusicasheville.com/calendar/thursday-open-mics-jams-2/2026-04-16/
LOCATION:Asheville Area
CATEGORIES:Asheville Area,DJ/Electronic,Open MIc/Jam
END:VEVENT
BEGIN:VEVENT
DTSTART;TZID=America/New_York:20260416T180000
DTEND;TZID=America/New_York:20260417T020000
DTSTAMP:20260424T112313
CREATED:20251121T203413Z
LAST-MODIFIED:20260408T094503Z
UID:10025038-1776362400-1776391200@livemusicasheville.com
SUMMARY:Thursday Weekly DJs
DESCRIPTION:Although we are primarily a Live Music Calendar\, we often come across Electronic & DJ events in the area and list them for you as we find out about them. Please verify the DJ\, times and cover charges with the venue. \nThe Mule at Devils Foot Beverages – 4-9pm (Starts April 23) \nEda Rhyne Distilling – 6-9pm \nPotential New Boyfriend – 7-10pm \nSticks on Broadway – 10pm -2am \nLazy Diamond – 10pm-2am \nThe Double Crown – 10pm-2am \nCheck with the for DJs and covers.
URL:https://livemusicasheville.com/calendar/thursday-weekly-djs-2/2026-04-16/
LOCATION:Asheville Area
CATEGORIES:Asheville Area,DJ/Electronic
END:VEVENT
BEGIN:VEVENT
DTSTART;TZID=America/New_York:20260416T190000
DTEND;TZID=America/New_York:20260416T210000
DTSTAMP:20260424T112313
CREATED:20241227T184819Z
LAST-MODIFIED:20260408T102649Z
UID:10048849-1776366000-1776373200@livemusicasheville.com
SUMMARY:Acoustic Roots & Blues with Peggy and Kelly
DESCRIPTION:
URL:https://livemusicasheville.com/calendar/acoustic-blues-with-peggy-and-kelly/2026-04-16/
LOCATION:River Arts District Brewing\, 13 Mystery St\, Asheville\, NC\, 28801\, United States
CATEGORIES:Asheville Area,Live Music
GEO:35.5846876;-82.5649928
X-APPLE-STRUCTURED-LOCATION;VALUE=URI;X-ADDRESS=River Arts District Brewing 13 Mystery St Asheville NC 28801 United States;X-APPLE-RADIUS=500;X-TITLE=13 Mystery St:geo:-82.5649928,35.5846876
END:VEVENT
BEGIN:VEVENT
DTSTART;TZID=America/New_York:20260416T190000
DTEND;TZID=America/New_York:20260416T210000
DTSTAMP:20260424T112313
CREATED:20260205T175550Z
LAST-MODIFIED:20260205T175551Z
UID:10025132-1776366000-1776373200@livemusicasheville.com
SUMMARY:Americano Sessions with Billy Presnell & Friends
DESCRIPTION:
URL:https://livemusicasheville.com/calendar/americano-sessions-with-billy-presnell-friends-2-2-2-2-2-2/2026-04-16/
LOCATION:Old Town District Black Mountain\, 110 Black Mountain Ave\, Black Mountain\, NC\, 28711\, United States
CATEGORIES:Asheville Area,Black Mountain,Live Music
GEO:35.6144382;-82.320515
X-APPLE-STRUCTURED-LOCATION;VALUE=URI;X-ADDRESS=Old Town District Black Mountain 110 Black Mountain Ave Black Mountain NC 28711 United States;X-APPLE-RADIUS=500;X-TITLE=110 Black Mountain Ave:geo:-82.320515,35.6144382
END:VEVENT
BEGIN:VEVENT
DTSTART;TZID=America/New_York:20260416T190000
DTEND;TZID=America/New_York:20260416T210000
DTSTAMP:20260424T112313
CREATED:20260225T154613Z
LAST-MODIFIED:20260408T133842Z
UID:10046850-1776366000-1776373200@livemusicasheville.com
SUMMARY:Live Music w/ Abbey Winters
DESCRIPTION:
URL:https://livemusicasheville.com/calendar/live-music-w-abbey-winters/
LOCATION:Blue Mountain Pizza Weaverville
CATEGORIES:Asheville Area,Live Music,Weaverville
GEO:35.698228;-82.560231
END:VEVENT
BEGIN:VEVENT
DTSTART;TZID=America/New_York:20260416T190000
DTEND;TZID=America/New_York:20260416T210000
DTSTAMP:20260424T112313
CREATED:20260408T150557Z
LAST-MODIFIED:20260415T165454Z
UID:10047727-1776366000-1776373200@livemusicasheville.com
SUMMARY:Daniel Shearin
DESCRIPTION:
URL:https://livemusicasheville.com/calendar/asheville-recovery-celebration-w-daniel-shearin-friends-2-2-2-3-2/
LOCATION:Moxy Asheville\, 61 Biltmore Avenue\, Asheville\, NC
CATEGORIES:Asheville Area,Live Music
GEO:35.5927169;-82.5514897
X-APPLE-STRUCTURED-LOCATION;VALUE=URI;X-ADDRESS=Moxy Asheville 61 Biltmore Avenue Asheville NC;X-APPLE-RADIUS=500;X-TITLE=61 Biltmore Avenue:geo:-82.5514897,35.5927169
END:VEVENT
BEGIN:VEVENT
DTSTART;TZID=America/New_York:20260416T190000
DTEND;TZID=America/New_York:20260416T210000
DTSTAMP:20260424T112313
CREATED:20260414T152046Z
LAST-MODIFIED:20260414T152046Z
UID:10056672-1776366000-1776373200@livemusicasheville.com
SUMMARY:Jennifer Armstrong
DESCRIPTION:
URL:https://livemusicasheville.com/calendar/jennifer-armstrong/
LOCATION:Weaverville Community Center
CATEGORIES:Asheville Area,Live Music,Weaverville
ATTACH;FMTTYPE=image/jpeg:https://livemusicasheville.com/wp-content/uploads/2026/04/656492488_122156524736815867_2951213407199735657_n-e1776180040553.jpg
END:VEVENT
BEGIN:VEVENT
DTSTART;TZID=America/New_York:20260416T190000
DTEND;TZID=America/New_York:20260416T213000
DTSTAMP:20260424T112313
CREATED:20260327T185622Z
LAST-MODIFIED:20260416T105209Z
UID:10053534-1776366000-1776375000@livemusicasheville.com
SUMMARY:Ajeva
DESCRIPTION:Ajeva is a funk rock band from St Petersburg FL known for their electrifying mix of funk\, rock\, and improv\, Ajeva brings high-energy performances that blend powerful grooves with feel-good vibes. This band’s soulful\, funky sound and tight musicianship have made them a favorite across the Southeast\, delivering performances that are as uplifting as they are musically diverse. \n  \nFounded in 2005\, Pisgah is known for producing some of the most sought after craft ales in Western North Carolina. Pisgah Brewing Company currently operates the new indoor taproom & deli\, with live music several days a week\, plus an open air outdoor bar in the summer and fall months. Check out our upcoming schedule at pisgahbrewing.com/events
URL:https://livemusicasheville.com/calendar/ajeva-3/
LOCATION:Pisgah Brewing Company Black Mountain\, 2948 US-70\, Black Mountain\, NC\, 28711
CATEGORIES:Asheville Area,Black Mountain,Live Music
ATTACH;FMTTYPE=image/jpeg:https://livemusicasheville.com/wp-content/uploads/2026/03/670949398_1428089882678517_8109450421460341264_n-e1776336722789.jpg
GEO:35.6068069;-82.3568213
X-APPLE-STRUCTURED-LOCATION;VALUE=URI;X-ADDRESS=Pisgah Brewing Company Black Mountain 2948 US-70 Black Mountain NC 28711;X-APPLE-RADIUS=500;X-TITLE=2948 US-70:geo:-82.3568213,35.6068069
END:VEVENT
BEGIN:VEVENT
DTSTART;TZID=America/New_York:20260416T190000
DTEND;TZID=America/New_York:20260416T220000
DTSTAMP:20260424T112313
CREATED:20251008T121651Z
LAST-MODIFIED:20260408T112432Z
UID:10022371-1776366000-1776376800@livemusicasheville.com
SUMMARY:John Keck Band
DESCRIPTION:
URL:https://livemusicasheville.com/calendar/john-keck-band/
LOCATION:The Joint Next Door Fairview
CATEGORIES:Asheville Area,Fairview,Live Music
GEO:35.5251372;-82.424797
END:VEVENT
BEGIN:VEVENT
DTSTART;TZID=America/New_York:20260416T190000
DTEND;TZID=America/New_York:20260416T220000
DTSTAMP:20260424T112313
CREATED:20251222T160644Z
LAST-MODIFIED:20251222T160644Z
UID:10029251-1776366000-1776376800@livemusicasheville.com
SUMMARY:The B's Trio in The Great Hall
DESCRIPTION:
URL:https://livemusicasheville.com/calendar/the-bs-trio-in-the-great-hall-2/2026-04-16/
LOCATION:The Omni Grove Park Inn
CATEGORIES:Asheville Area,Live Music
GEO:35.6206376;-82.5422977
END:VEVENT
END:VCALENDAR